BEGIN:VCALENDAR
VERSION:2.0
PRODID:-//Meath Sports - ECPv6.12.0.1//NONSGML v1.0//EN
CALSCALE:GREGORIAN
METHOD:PUBLISH
X-ORIGINAL-URL:https://www.meathsports.ie
X-WR-CALDESC:Events for Meath Sports
REFRESH-INTERVAL;VALUE=DURATION:PT1H
X-Robots-Tag:noindex
X-PUBLISHED-TTL:PT1H
BEGIN:VTIMEZONE
TZID:Europe/Dublin
BEGIN:STANDARD
TZOFFSETFROM:+0000
TZOFFSETTO:+0100
TZNAME:IST
DTSTART:20250330T010000
END:STANDARD
BEGIN:DAYLIGHT
TZOFFSETFROM:+0100
TZOFFSETTO:+0000
TZNAME:GMT
DTSTART:20251026T010000
END:DAYLIGHT
END:VTIMEZONE
BEGIN:VEVENT
DTSTART;TZID=Europe/Dublin:20250114T163000
DTEND;TZID=Europe/Dublin:20250218T173000
DTSTAMP:20260421T095040
CREATED:20250106T162020Z
LAST-MODIFIED:20250110T100655Z
UID:5314-1736872200-1739899800@www.meathsports.ie
SUMMARY:Learn 2 Cycle Trim
DESCRIPTION:Learn 2 Cycle Trim \n\n\n\nLearn 2 Cycle aims to assist children with a disability to cycle independently. This programme focuses on empowering parents and giving them the tools to support their child in learning to cycle. Participants will be guided by our experienced tutor from the Cycling Safety School.\n\n\n\nDate: Tuesday January 14th – February 18th\nTime: 4:30pm- 5:30pm\nVenue: Trim GAA\nCost:  €15\nInfo:  please contact Terry on 046-9067887 or email tdonegan@meathcoco.ie
URL:https://www.meathsports.ie/event/learn-2-cycle-trim-2/
LOCATION:Trim GAA
CATEGORIES:Inclusive Programmes / Events
ATTACH;FMTTYPE=image/jpeg:https://www.meathsports.ie/wp-content/uploads/2025/01/Learn-2-Cycle-Trim-1-scaled.jpg
END:VEVENT
BEGIN:VEVENT
DTSTART;TZID=Europe/Dublin:20250120T153000
DTEND;TZID=Europe/Dublin:20250203T173000
DTSTAMP:20260421T095040
CREATED:20250108T160628Z
LAST-MODIFIED:20250108T160628Z
UID:5347-1737387000-1738603800@www.meathsports.ie
SUMMARY:Olympic Handball
DESCRIPTION:Come & Try Olympic Handball programme  \nOlympic Handball is a played by  two teams of seven players each (six field players and a goalkeeper) by passing the ball around using only your hands with the aim of throwing it into the other team’s goal. \nVenue: St Stephens \nDate: Monday 20th January to 17th February (5 weeks) \nTime: 6-9 years at 3:30pm\, 9-12 years at 4:15pm \nCost: FREE \nRegister: https://bit.ly/3VKq1WE 
URL:https://www.meathsports.ie/event/olympic-handball-4/
LOCATION:St. Stephens NS\, Johnstown\, Navan\, Meath\, Ireland
CATEGORIES:Programmes / Events
ATTACH;FMTTYPE=image/jpeg:https://www.meathsports.ie/wp-content/uploads/2023/04/Throwing-scaled.jpg
END:VEVENT
BEGIN:VEVENT
DTSTART;TZID=Europe/Dublin:20250122T160000
DTEND;TZID=Europe/Dublin:20250212T190000
DTSTAMP:20260421T095040
CREATED:20250108T161113Z
LAST-MODIFIED:20250108T161113Z
UID:5349-1737561600-1739386800@www.meathsports.ie
SUMMARY:Basketball
DESCRIPTION:Fun Basketball programme for children and young people  \nVenue: St Pauls \nDate: Wednesday 22nd January to 19th February (5 weeks) \nTime: 6-9 years at 4:00pm\, 9-12 years at 5:00pm & 12 – 15 years at 6:00pm \nCost: FREE \nRegister: https://bit.ly/3VKq1WE 
URL:https://www.meathsports.ie/event/basketball/
LOCATION:St. Pauls NS
CATEGORIES:Inclusive Programmes / Events
ATTACH;FMTTYPE=image/jpeg:https://www.meathsports.ie/wp-content/uploads/2024/05/Dribbling-scaled.jpg
END:VEVENT
BEGIN:VEVENT
DTSTART;TZID=Europe/Dublin:20250122T190000
DTEND;TZID=Europe/Dublin:20250205T200000
DTSTAMP:20260421T095040
CREATED:20250108T162216Z
LAST-MODIFIED:20250108T162216Z
UID:5352-1737572400-1738785600@www.meathsports.ie
SUMMARY:Active Women
DESCRIPTION:Active Women is a light exercise programme for women 18+. The programme comprises of light body weight circuits\, a mixture of walking and jogging and a sample of sports. \nVenue: St Pauls \nDate: Wednesday 22nd January to 19th February (5 weeks) \nTime: 7:00-8:00pm \nCost: FREE \nRegister: https://bit.ly/3P5EokW
URL:https://www.meathsports.ie/event/active-women-2/
LOCATION:St. Pauls NS
CATEGORIES:Programmes / Events
ATTACH;FMTTYPE=image/jpeg:https://www.meathsports.ie/wp-content/uploads/2025/01/Active-Women-playing-Basketball.jpg
END:VEVENT
BEGIN:VEVENT
DTSTART;TZID=Europe/Dublin:20250123T160000
DTEND;TZID=Europe/Dublin:20250206T180000
DTSTAMP:20260421T095040
CREATED:20250108T163719Z
LAST-MODIFIED:20250108T163719Z
UID:5356-1737648000-1738864800@www.meathsports.ie
SUMMARY:Tag Rugby
DESCRIPTION:Come & Try Tag Rugby \nFun Come & Try Tag Rugby Programme for children lead by Leinster Rugby Coaches. \nVenue: Scoil Naomh Eoin \nDate: Thursday 23rd January to 13th February (4 weeks) \nTime: 6-9 years at 4:00pm\, 9-12 years at 5:00pm \nCost: FREE \nRegister: https://bit.ly/49NlQiD
URL:https://www.meathsports.ie/event/tag-rugby-2/
LOCATION:Meath
CATEGORIES:Programmes / Events
ATTACH;FMTTYPE=image/jpeg:https://www.meathsports.ie/wp-content/uploads/2025/01/Rugby-chain-relay-scaled.jpg
END:VEVENT
BEGIN:VEVENT
DTSTART;TZID=Europe/Dublin:20250124T100000
DTEND;TZID=Europe/Dublin:20250131T110000
DTSTAMP:20260421T095040
CREATED:20250109T093839Z
LAST-MODIFIED:20250109T093839Z
UID:5366-1737712800-1738321200@www.meathsports.ie
SUMMARY:He Swims
DESCRIPTION:He Swims – Swimming Programme for Men 35+ \nWe are inviting men to come along and join us for a fun swim programme\, that you haven’t experienced before!\nGet ready for an introduction to Swimming and everything it has to offer! Saying “Goodbye” to the old stereotypes surrounding Swimming or Aqua Aerobics and kickstart your journey into Aquatic Activities in a fun\, supportive environment! \nVenue: Kells Swimming Pool \nDate: Friday 24th January to 14th February (4 weeks) \nTime: 10:00-11:00am \nCost: €20 \nRegister: https://eventmaster.ie/event/VlmqiERTwv
URL:https://www.meathsports.ie/event/he-swims/
LOCATION:Kells Swimming Pool\, Townparks\, Navan Road\, Kells\, Co. Meath\, A82 KD62\, Ireland
CATEGORIES:Programmes / Events
ATTACH;FMTTYPE=image/png:https://www.meathsports.ie/wp-content/uploads/2025/01/He-Swims.png
END:VEVENT
BEGIN:VEVENT
DTSTART;TZID=Europe/Dublin:20250127T110000
DTEND;TZID=Europe/Dublin:20250127T120000
DTSTAMP:20260421T095040
CREATED:20250117T160119Z
LAST-MODIFIED:20250117T160221Z
UID:5459-1737975600-1737979200@www.meathsports.ie
SUMMARY:Zumba Gold
DESCRIPTION:Zumba Gold is a lower intensity version of the popular dance-based exercise class. With easy-to-follow moves\, focusing on improving range of motion\, balance and cardiovascular fitness\, this upbeat class is perfect for those who’s new year resolution is to move more. \nCome and try the class in\, \nTrim – GAA Club\, Monday 27th January 11am \nCost – €20 per 4-week block *Subject to €2.50 booking fee \nClick here to book  \nContact Paula on 0469067887 or email pcunningham@meathcoco.ie to book your place.
URL:https://www.meathsports.ie/event/zumba-gold/
LOCATION:Trim GAA
CATEGORIES:Adults over 50 events
ATTACH;FMTTYPE=image/jpeg:https://www.meathsports.ie/wp-content/uploads/2024/10/Simonstown--scaled.jpg
END:VEVENT
BEGIN:VEVENT
DTSTART;TZID=Europe/Dublin:20250127T113000
DTEND;TZID=Europe/Dublin:20250127T123000
DTSTAMP:20260421T095040
CREATED:20250121T145730Z
LAST-MODIFIED:20250121T145730Z
UID:5491-1737977400-1737981000@www.meathsports.ie
SUMMARY:Mature Movers
DESCRIPTION:Mature Movers – Navan  \n6-week programme includes activities such as seated exercise to music\, resistance exercises\, core stability\, balance and fall prevention. Mature Movers is ideally suited to adults 50+ and provides enjoyable social interaction\, fun and activities. \nCost – €35 \nDiscounted price for online bookings €30 \nClick here to book  \nContact Paula on 0469067887 or email pcunningham@meathcoco.ie to book your place.
URL:https://www.meathsports.ie/event/mature-movers-2/
LOCATION:Navan Pitch and Putt Club\, Dan Shaw Road\, Navan\, Ireland
CATEGORIES:Adults over 50 events
ATTACH;FMTTYPE=image/jpeg:https://www.meathsports.ie/wp-content/uploads/2024/12/Kells-group-close-.jpg
END:VEVENT
BEGIN:VEVENT
DTSTART;TZID=Europe/Dublin:20250127T120000
DTEND;TZID=Europe/Dublin:20250127T130000
DTSTAMP:20260421T095040
CREATED:20250117T161904Z
LAST-MODIFIED:20250117T161904Z
UID:5472-1737979200-1737982800@www.meathsports.ie
SUMMARY:Chair Yoga
DESCRIPTION:Chair Yoga  \nExciting new chair Yoga/wellness class for adults 50+. This is a unique programme which combines multiple elements of Yoga\, mindfulness\, breathwork and physical activity\, exercises can be chair bases or standing to suit the individual taking part. The class is taught by a qualified yoga instructor and includes an uplifting sing along to finish off each session. \nClasses will run for a 6-week period. \nPilltown – St. Colmcille’s GAA – 27th January \nCost – €30 * Subject to €2.10 booking fee \nClick here to book  \nFor more information contact Paula on 0469067887 or email pcunningham@meathcoco.ie
URL:https://www.meathsports.ie/event/chair-yoga-2/
LOCATION:St. Colmcille’s GAA
CATEGORIES:Adults over 50 events
ATTACH;FMTTYPE=image/jpeg:https://www.meathsports.ie/wp-content/uploads/2025/01/chair-yoga.jpg
END:VEVENT
BEGIN:VEVENT
DTSTART;TZID=Europe/Dublin:20250128T120000
DTEND;TZID=Europe/Dublin:20250128T130000
DTSTAMP:20260421T095040
CREATED:20250121T151657Z
LAST-MODIFIED:20250121T151657Z
UID:5497-1738065600-1738069200@www.meathsports.ie
SUMMARY:Mature Movers - Athboy
DESCRIPTION:Mature Movers – Athboy \nThis 6-week programme includes activities such as seated exercise to music\, resistance exercises\, core stability\, balance and fall prevention. Mature Movers is ideally suited to adults 50+ and provides enjoyable social interaction\, fun and activities. \nCost – €35 \nDiscounted price for online bookings €30 \nClick here to book  \nContact Paula on 0469067887 or email pcunningham@meathcoco.ie for more information.
URL:https://www.meathsports.ie/event/mature-movers-athboy/
LOCATION:St. James Hall
CATEGORIES:Adults over 50 events
ATTACH;FMTTYPE=image/jpeg:https://www.meathsports.ie/wp-content/uploads/2024/12/Kells-group-close-.jpg
END:VEVENT
BEGIN:VEVENT
DTSTART;TZID=Europe/Dublin:20250128T183000
DTEND;TZID=Europe/Dublin:20250128T213000
DTSTAMP:20260421T095040
CREATED:20241119T152458Z
LAST-MODIFIED:20250116T134935Z
UID:5125-1738089000-1738099800@www.meathsports.ie
SUMMARY:Safeguarding 1 Basic Awareness in Child Protection Workshop (FULLY BOOKED)
DESCRIPTION:Meath Local Sports Partnership offers a 3-hour basic awareness workshop for leaders within sports clubs/organisations. \n\n\n\nThe workshop will highlight the main principles of the Code and look at measures that clubs can take to create and maintain the safest possible environment for sport for young people.\nAs well as undertaking child protection training\, all clubs are encouraged to adopt child protection policies and procedures as outlined in the Code of Ethics and Good Practice for Children’s Sport.\n\nParticipants attending Safeguarding 1 Basic Awareness workshop must be over 18 years of age to attend. \nThe cost of the course is €25 if you are in a club in Meath and €40 if you are in a club outside of Meath. \nThis course is now full\, to put your name on the cancellation list or next course please email Lynn at loreilly@meathcoco.ie or call 0469067887 \nAs demand for places is high\, please make every effort to give enough notice of cancellation.  \nPlease note that there are no refunds if you fail to give at least 24 hours notice of cancellation.
URL:https://www.meathsports.ie/event/safeguarding-1-basic-awareness-in-child-protection-workshop-44/
LOCATION:Zoom Online
CATEGORIES:Courses / Workshops
ATTACH;FMTTYPE=image/jpeg:https://www.meathsports.ie/wp-content/uploads/2021/11/Code-of-Ethics-Children-New.jpg
END:VEVENT
BEGIN:VEVENT
DTSTART;TZID=Europe/Dublin:20250129T110000
DTEND;TZID=Europe/Dublin:20250129T120000
DTSTAMP:20260421T095040
CREATED:20250121T150328Z
LAST-MODIFIED:20250121T150328Z
UID:5493-1738148400-1738152000@www.meathsports.ie
SUMMARY:Mature Movers
DESCRIPTION:Mature Movers – Kells \nThis 6-week programme includes activities such as seated exercise to music\, resistance exercises\, core stability\, balance and fall prevention. Mature Movers is ideally suited to adults 50+ and provides enjoyable social interaction\, fun and activities. \nCost – €35 \nDiscounted price for online bookings €30 \nClick here to book  \nContact Paula on 0469067887 or email pcunningham@meathcoco.ie to book your place.
URL:https://www.meathsports.ie/event/mature-movers-3/
LOCATION:Eureka Houe\, Navan Road\, Kells\, A82DX47
CATEGORIES:Adults over 50 events
ATTACH;FMTTYPE=image/jpeg:https://www.meathsports.ie/wp-content/uploads/2024/12/Kells-group-close-.jpg
END:VEVENT
BEGIN:VEVENT
DTSTART;TZID=Europe/Dublin:20250129T110000
DTEND;TZID=Europe/Dublin:20250129T120000
DTSTAMP:20260421T095040
CREATED:20250121T153445Z
LAST-MODIFIED:20250121T153445Z
UID:5507-1738148400-1738152000@www.meathsports.ie
SUMMARY:Fitness Made Easy
DESCRIPTION:Fitness Made Easy  \n6-week strength and mobility class for adult 50+ with BT Fitness Gym Navan. \nThis class is led by a qualified fitness instructor and features weighted and body weight exercises as well as an introduction to the use of gym equipment. The Class takes place at an off-peak time\, meaning participants can exercise in a relaxed\, friendly environment. All activities can be adapted to accommodate varying abilities. \nCost: €30 per 6 weeks *subject to €2.10 booking fee  \nVenue: BT Fitness\, Unit 6 Beechmount Home Park Navan \nDate: Wednesday 15th January \nTime: 11am \nTo book your place  \nContact Paula on 0469067887 or email pcunningham@meathcoco.ie for more information
URL:https://www.meathsports.ie/event/fitness-made-easy-3/
LOCATION:BT Fitness Navan\, unit 6 Beechmount Home Park\, Navan
CATEGORIES:Programmes / Events
END:VEVENT
BEGIN:VEVENT
DTSTART;TZID=Europe/Dublin:20250129T140000
DTEND;TZID=Europe/Dublin:20250129T150000
DTSTAMP:20260421T095040
CREATED:20250121T150704Z
LAST-MODIFIED:20250121T150704Z
UID:5495-1738159200-1738162800@www.meathsports.ie
SUMMARY:Mature Movers
DESCRIPTION:Mature Movers – Ashbourne \nThis 6-week programme includes activities such as seated exercise to music\, resistance exercises\, core stability\, balance and fall prevention. Mature Movers is ideally suited to adults 50+ and provides enjoyable social interaction\, fun and activities. \nCost – €35 \nDiscounted price for online bookings €30 \nClick here to book  \nContact Paula on 0469067887 or email pcunningham@meathcoco.ie for more information.
URL:https://www.meathsports.ie/event/mature-movers-4/
LOCATION:Donaghmore Ashbourne GAA
CATEGORIES:Adults over 50 events
ATTACH;FMTTYPE=image/jpeg:https://www.meathsports.ie/wp-content/uploads/2024/12/Kells-group-close-.jpg
END:VEVENT
BEGIN:VEVENT
DTSTART;TZID=Europe/Dublin:20250130T110000
DTEND;TZID=Europe/Dublin:20250130T120000
DTSTAMP:20260421T095040
CREATED:20250117T161357Z
LAST-MODIFIED:20250117T161357Z
UID:5467-1738234800-1738238400@www.meathsports.ie
SUMMARY:Chair Yoga
DESCRIPTION:Chair Yoga  \nExciting new chair Yoga/wellness class for adults 50+. This is a unique programme which combines multiple elements of Yoga\, mindfulness\, breathwork and physical activity\, exercises can be chair bases or standing to suit the individual taking part. The class is taught by a qualified yoga instructor and includes an uplifting sing along to finish off each session. \nClasses will run for a 6-week period. \nDuleek – Duleek Community Facility – Thursday 30th January 11am \nCost – €30 * Subject to €2.50 booking fee \nClick here to book  \nFor more information contact Paula on 0469067887 or email pcunningham@meathcoco.ie
URL:https://www.meathsports.ie/event/chair-yoga/
LOCATION:Duleek Community Facility\, Duleek\, Navan Road\, A92F2HN\, Ireland
CATEGORIES:Adults over 50 events
ATTACH;FMTTYPE=image/jpeg:https://www.meathsports.ie/wp-content/uploads/2025/01/chair-yoga.jpg
END:VEVENT
END:VCALENDAR