BEGIN:VCALENDAR
VERSION:2.0
PRODID:-//Meath Sports - ECPv6.12.0.1//NONSGML v1.0//EN
CALSCALE:GREGORIAN
METHOD:PUBLISH
X-ORIGINAL-URL:https://www.meathsports.ie
X-WR-CALDESC:Events for Meath Sports
REFRESH-INTERVAL;VALUE=DURATION:PT1H
X-Robots-Tag:noindex
X-PUBLISHED-TTL:PT1H
BEGIN:VTIMEZONE
TZID:Europe/Dublin
BEGIN:STANDARD
TZOFFSETFROM:+0000
TZOFFSETTO:+0100
TZNAME:IST
DTSTART:20240331T010000
END:STANDARD
BEGIN:DAYLIGHT
TZOFFSETFROM:+0100
TZOFFSETTO:+0000
TZNAME:GMT
DTSTART:20241027T010000
END:DAYLIGHT
END:VTIMEZONE
BEGIN:VEVENT
DTSTART;TZID=Europe/Dublin:20240917T080000
DTEND;TZID=Europe/Dublin:20241107T160000
DTSTAMP:20260421T130326
CREATED:20240917T150819Z
LAST-MODIFIED:20241016T103753Z
UID:4906-1726560000-1730995200@www.meathsports.ie
SUMMARY:Funding for clubs\, community & voluntary groups and disability organisations
DESCRIPTION:This year\, Meath Local Sports Partnership are delighted to announce 3 grants to clubs\, community & voluntary groups and disability organisations under our Club Supports Scheme. \n\n Increasing Participation Grant (Max €1\,000). Closing Date Thursday 7th November @ 4pm\n\nThis Return to participation grant is designed to support clubs to increase participation in physical activity\, particularly amongst the target groups listed below.   \n\nOlder adults\nWomen and Girls\nMen 35yrs+\nPeople with disabilities\nDisadvantaged communities\nEthnic minorities\nYoung people\n\n\n Equipment Grant (€500- €1\,000 depending on demonstrated need) Closing Date Thursday 3rd October @ 4pm – NOW CLOSED!\n\nThis equipment grant is designed to support clubs and organisations in purchasing additional equipment required for their regular club activity or to assist in increasing participation in physical activity. \n\n Volunteer Support Grant (Max €1\,000) Closing Date Thursday 17th October @ 4pm\n\nThis Volunteer Support grant is designed to support clubs and organisations in upskilling new and existing coaches and volunteers. This will be achieved through the delivery of training and education courses to support volunteers in their development as community leaders/coaches of sport and physical activity. \nPlease download and read all criteria in full before proceeding with an application. Application forms must be completed online. \nFurther information\, criteria and application forms are available on https://meathsports.ie/clubs/funding/ \nFor more information please contact Una Pearson at 0469067887 or email grants.meathsports@meathcoco.ie
URL:https://www.meathsports.ie/event/funding-for-clubs-community-voluntary-groups-and-disability-organisations/
LOCATION:Co. Meath
ATTACH;FMTTYPE=image/jpeg:https://www.meathsports.ie/wp-content/uploads/2024/09/Club-Grants-2024-instagram-1.jpg
END:VEVENT
BEGIN:VEVENT
DTSTART;TZID=Europe/Dublin:20241001T080000
DTEND;TZID=Europe/Dublin:20241104T170000
DTSTAMP:20260421T130326
CREATED:20241001T094331Z
LAST-MODIFIED:20241001T094331Z
UID:4968-1727769600-1730739600@www.meathsports.ie
SUMMARY:Social Running - 0-3k & 3-5k programmes return to 5 areas in Meath
DESCRIPTION:Meath LSP are delighted to roll out of the 0-3k & 3-5k programmes in 5 areas over the coming months. These social running programmes are now available in  Navan\, Trim\, Tara\, Kells\, Oldcastle. \nThe 0-3k (Walk to Jog) is suitable for complete beginners and supports those to go from walking to jogging with relative ease.  The structured programme is available for anyone who wants to increase their daily activity and is suitable for people of all ages (18+) and fitness levels. The 3-5k – Jog to Run is ideal for those who would like to improve running fitness and increase their pace & distance. This programme suits those who have already completed a 0-3k or have previous running experience. \nAll coaching sessions are delivered by qualified club coaches who are experienced runners and are on hand to guide and support everyone taking part. For more details and to register: CLICK HERE  \nThe duration of each programme is 6-weeks and cost is €20.
URL:https://www.meathsports.ie/event/social-running-0-3k-3-5k-programmes-return-to-5-areas-in-meath/
LOCATION:Co. Meath
ATTACH;FMTTYPE=image/jpeg:https://www.meathsports.ie/wp-content/uploads/2024/10/Kells-0-3k-Block-3-scaled.jpg
END:VEVENT
BEGIN:VEVENT
DTSTART;TZID=Europe/Dublin:20241104T113000
DTEND;TZID=Europe/Dublin:20241104T123000
DTSTAMP:20260421T130326
CREATED:20241021T142457Z
LAST-MODIFIED:20241021T142710Z
UID:5069-1730719800-1730723400@www.meathsports.ie
SUMMARY:Mature Movers Navan
DESCRIPTION:Mature Movers is an enjoyable social interaction with a fun and relaxed atmosphere. \nThis is a 6 week programme which includes activities such as seated exercise to music\, resistance exercises\, core stability\, balance\, seated Pilates and fall prevention exercises. \nCost is €30 for 6 weeks.  \nBooking is essential\, \nClick here to book your place or contact Paula on pcunningham@meathcoco.ie  \n 
URL:https://www.meathsports.ie/event/mature-movers-navan-2/
LOCATION:Navan Pitch and Putt Club\, Dan Shaw Road\, Navan\, Ireland
CATEGORIES:Adults over 50 events
ATTACH;FMTTYPE=image/jpeg:https://www.meathsports.ie/wp-content/uploads/2024/10/Kells--scaled.jpg
END:VEVENT
BEGIN:VEVENT
DTSTART;TZID=Europe/Dublin:20241104T120000
DTEND;TZID=Europe/Dublin:20241104T130000
DTSTAMP:20260421T130326
CREATED:20241021T143619Z
LAST-MODIFIED:20241021T143619Z
UID:5075-1730721600-1730725200@www.meathsports.ie
SUMMARY:Mature Movers Piltown
DESCRIPTION:Mature Movers is an enjoyable social interaction with a fun and relaxed atmosphere. \nThis is a 6 week programme which includes activities such as seated exercise to music\, resistance exercises\, core stability\, balance\, seated Pilates and fall prevention exercises. \nCost is €30 for 6 weeks.  \nBooking is essential\, \nClick here to book your space or contact Paula at pcunningham@meathcoco.ie 
URL:https://www.meathsports.ie/event/mature-movers-piltown-2/
LOCATION:St. Colmcille’s GAA
CATEGORIES:Adults over 50 events
ATTACH;FMTTYPE=image/jpeg:https://www.meathsports.ie/wp-content/uploads/2024/10/Kells--scaled.jpg
END:VEVENT
BEGIN:VEVENT
DTSTART;TZID=Europe/Dublin:20241104T183000
DTEND;TZID=Europe/Dublin:20241104T213000
DTSTAMP:20260421T130326
CREATED:20240610T095502Z
LAST-MODIFIED:20240610T095502Z
UID:4259-1730745000-1730755800@www.meathsports.ie
SUMMARY:Safeguarding 1 Basic Awareness in Child Protection Workshop
DESCRIPTION:Meath Local Sports Partnership offers a 3-hour basic awareness workshop for leaders within sports clubs/organisations. \n\n\n\nThe workshop will highlight the main principles of the Code and look at measures that clubs can take to create and maintain the safest possible environment for sport for young people.\nAs well as undertaking child protection training\, all clubs are encouraged to adopt child protection policies and procedures as outlined in the Code of Ethics and Good Practice for Children’s Sport.\n\nParticipants attending Safeguarding 1 Basic Awareness workshop must be over 18 years of age to attend. \nThe cost of the course is €25 if you are in a club in Meath and €40 if you are in a club outside of Meath. \nTo book please email Lynn at loreilly@meathcoco.ie or call 0469067887 \nAs demand for places is high\, please make every effort to give enough notice of cancellation.  \nPlease note that there are no refunds if you fail to give at least 24 hours notice of cancellation.
URL:https://www.meathsports.ie/event/safeguarding-1-basic-awareness-in-child-protection-workshop-42/
LOCATION:Zoom Online
CATEGORIES:Courses / Workshops
ATTACH;FMTTYPE=image/jpeg:https://www.meathsports.ie/wp-content/uploads/2021/11/Code-of-Ethics-Children-New.jpg
END:VEVENT
BEGIN:VEVENT
DTSTART;TZID=Europe/Dublin:20241106T113000
DTEND;TZID=Europe/Dublin:20241106T123000
DTSTAMP:20260421T130326
CREATED:20241021T150026Z
LAST-MODIFIED:20241021T150026Z
UID:5085-1730892600-1730896200@www.meathsports.ie
SUMMARY:Mature Movers Trim
DESCRIPTION:Mature Movers is an enjoyable social interaction with a fun and relaxed atmosphere. \nThis is a 6 week programme which includes activities such as seated exercise to music\, resistance exercises\, core stability\, balance\, seated Pilates and fall prevention exercises. \nCost is €30 for 6 weeks. \nBooking is essential\, \nClick here to book your place or contact Paula on pcunningham@meathcoco.ie 
URL:https://www.meathsports.ie/event/mature-movers-trim/
LOCATION:Trim GAA
CATEGORIES:Adults over 50 events
ATTACH;FMTTYPE=image/jpeg:https://www.meathsports.ie/wp-content/uploads/2024/10/Kells--scaled.jpg
END:VEVENT
BEGIN:VEVENT
DTSTART;TZID=Europe/Dublin:20241106T120000
DTEND;TZID=Europe/Dublin:20241106T130000
DTSTAMP:20260421T130326
CREATED:20241021T144111Z
LAST-MODIFIED:20241021T144111Z
UID:5077-1730894400-1730898000@www.meathsports.ie
SUMMARY:Mature Movers Kells
DESCRIPTION:Mature Movers is an enjoyable social interaction with a fun and relaxed atmosphere. \nThis is a 6 week programme which includes activities such as seated exercise to music\, resistance exercises\, core stability\, balance\, seated Pilates and fall prevention exercises. \nCost is €30 for 6 weeks. \nBooking is essential\, \nClick here to book your space or contact Paula at pcunningham@meathcoco.ie 
URL:https://www.meathsports.ie/event/mature-movers-kells-2/
LOCATION:Eureka Houe\, Navan Road\, Kells\, A82DX47
CATEGORIES:Adults over 50 events
ATTACH;FMTTYPE=image/jpeg:https://www.meathsports.ie/wp-content/uploads/2024/10/Kells--scaled.jpg
END:VEVENT
BEGIN:VEVENT
DTSTART;TZID=Europe/Dublin:20241106T140000
DTEND;TZID=Europe/Dublin:20241106T150000
DTSTAMP:20260421T130326
CREATED:20241021T145054Z
LAST-MODIFIED:20241021T145054Z
UID:5079-1730901600-1730905200@www.meathsports.ie
SUMMARY:Mature Movers Ashbourne
DESCRIPTION:Mature Movers is an enjoyable social interaction with a fun and relaxed atmosphere. \nThis is a 6 week programme which includes activities such as seated exercise to music\, resistance exercises\, core stability\, balance\, seated Pilates and fall prevention exercises. \nCost is €30 for 6 weeks. \nBooking is essential\, \nClick here to book your place or contact Paula on pcunningham@meathcoco.ie
URL:https://www.meathsports.ie/event/mature-movers-ashbourne-2/
LOCATION:Donaghmore Ashbourne GAA
CATEGORIES:Adults over 50 events
ATTACH;FMTTYPE=image/jpeg:https://www.meathsports.ie/wp-content/uploads/2024/10/Kells--scaled.jpg
END:VEVENT
BEGIN:VEVENT
DTSTART;TZID=Europe/Dublin:20241107T100000
DTEND;TZID=Europe/Dublin:20241107T110000
DTSTAMP:20260421T130326
CREATED:20241021T145351Z
LAST-MODIFIED:20241021T145351Z
UID:5081-1730973600-1730977200@www.meathsports.ie
SUMMARY:Mature Movers Balinacree
DESCRIPTION:Mature Movers is an enjoyable social interaction with a fun and relaxed atmosphere. \nThis is a 6 week programme which includes activities such as seated exercise to music\, resistance exercises\, core stability\, balance\, seated Pilates and fall prevention exercises. \nCost is €30 for 6 weeks. \nBooking is essential\, \nClick here to book your place or contact Paula on pcunningham@meathcoco.ie 
URL:https://www.meathsports.ie/event/mature-movers-balinacree/
LOCATION:Ballinacree community center
CATEGORIES:Adults over 50 events
ATTACH;FMTTYPE=image/jpeg:https://www.meathsports.ie/wp-content/uploads/2024/10/Kells--scaled.jpg
END:VEVENT
BEGIN:VEVENT
DTSTART;TZID=Europe/Dublin:20241107T100000
DTEND;TZID=Europe/Dublin:20241107T110000
DTSTAMP:20260421T130326
CREATED:20241104T160524Z
LAST-MODIFIED:20241104T160524Z
UID:5108-1730973600-1730977200@www.meathsports.ie
SUMMARY:Walk n Tone
DESCRIPTION:Walk n Tone is a 4 week walking programme which incorporates bodyweight exercises throughout the walk. \nThe group is led by a qualified instructor who sets a relaxed social atmosphere. Suitable for adults 18+ \nLocation – Blackwater Park Navan \nTime – 10am \nDate – 7th November \nCost – €20 per 4-week block \nClick here to book your place or contact Paula on 0469067887 or email pcunningham@meathcoco.ie
URL:https://www.meathsports.ie/event/walk-n-tone/
LOCATION:Blackwater Park\, Ratholdren Rd\, Navan\, Ireland
CATEGORIES:Programmes / Events
ATTACH;FMTTYPE=image/jpeg:https://www.meathsports.ie/wp-content/uploads/2024/11/Group-walking-scaled.jpg
END:VEVENT
BEGIN:VEVENT
DTSTART;TZID=Europe/Dublin:20241107T103000
DTEND;TZID=Europe/Dublin:20241107T103000
DTSTAMP:20260421T130326
CREATED:20241021T145637Z
LAST-MODIFIED:20241021T145637Z
UID:5083-1730975400-1730975400@www.meathsports.ie
SUMMARY:Mature Movers Ratoath
DESCRIPTION:Mature Movers is an enjoyable social interaction with a fun and relaxed atmosphere. \nThis is a 6 week programme which includes activities such as seated exercise to music\, resistance exercises\, core stability\, balance\, seated Pilates and fall prevention exercises. \nCost is €30 for 6 weeks. \nBooking is essential\, \nClick here to book your place or contact Paula on pcunningham@meathcoco.ie 
URL:https://www.meathsports.ie/event/mature-movers-ratoath-2/
LOCATION:The Venue
CATEGORIES:Adults over 50 events
ATTACH;FMTTYPE=image/jpeg:https://www.meathsports.ie/wp-content/uploads/2024/10/Kells--scaled.jpg
END:VEVENT
BEGIN:VEVENT
DTSTART;TZID=Europe/Dublin:20241113T110000
DTEND;TZID=Europe/Dublin:20241113T120000
DTSTAMP:20260421T130326
CREATED:20241104T103603Z
LAST-MODIFIED:20241104T103603Z
UID:5105-1731495600-1731499200@www.meathsports.ie
SUMMARY:Fitness Made Easy
DESCRIPTION:Strength and mobility programme for adults 50+. 4 week Programme \nThis gym-based exercise programme combines weighted\, and bodyweight exercises designed to strengthen/ rebuild muscle. The class takes place in a gym at an off-peak time and is led by a fully qualified instructor. \nVenue – BT Fitness\, Beechmount Home Park Navan \nTime – 11am \nDate – 13th November – 4th December \nCost – €20 \nClick here to book or contact Paula on 0469067887 / email pcunningham@meathcoco.ie  \n 
URL:https://www.meathsports.ie/event/fitness-made-easy-2/
LOCATION:BT Fitness Navan\, unit 6 Beechmount Home Park\, Navan
CATEGORIES:Adults over 50 events
ATTACH;FMTTYPE=image/png:https://www.meathsports.ie/wp-content/uploads/2024/11/fitness-made-easy-4.png
END:VEVENT
BEGIN:VEVENT
DTSTART;TZID=Europe/Dublin:20241114T183000
DTEND;TZID=Europe/Dublin:20241114T213000
DTSTAMP:20260421T130326
CREATED:20240610T102136Z
LAST-MODIFIED:20240610T102136Z
UID:4268-1731609000-1731619800@www.meathsports.ie
SUMMARY:Safeguarding 2 Club Children's Officer Workshop
DESCRIPTION:Recommendations from Sport Ireland are that every club involved with children and young people should appoint a Club Children’s Officer. This person should be child centered in focus and should have as their primary aim the establishment of a child centered ethos within the club. They are the link between the children and the adults in the club and also take responsibility for monitoring and reporting to the Club Management Committee on how club policy etc. impacts on children and their Sports Leaders. \nThe Club Children’s Officer should have the following functions: \n\nTo promote awareness of the Code of Ethics and Good Practice for Children’s Sport in Ireland within the club and particularly among the children and their parents/guardians. This could be achieved by the production of information leaflets\, the establishment of children’s/age-group specific notice boards and by regular information meetings for the children and their parents/guardians.\nTo influence policy and practice within the club in order to prioritise children’s needs.\nTo provide an accessible resource to children through the creation of forums.\n\nIt is essential that those who wish to attend the Safeguarding 2 Club Children’s Officer (CCO) Training have attended the Safeguarding 1 Awareness/Child Protection Training workshop. \nIt is recommended to have at least one Club Children’s Officer per club or if there is a large number of both boys and girls in the club\, to have two Club Children’s Officers – one male and one female. \nCost: The cost for this course is €25 per person for clubs in Meath\, for participants outside Meath the cost is €40 per person. \nHow to book: To book a place on this course please call Lynn on 0469067887 or email loreilly@meathcoco.ie to check availability of spaces. \n*A laptop/ipad/smart phone along with a good internet connection is required for this course. \nAs demand for places is high\, please make every effort to give enough notice of cancellation. Please note that there are no refunds if you fail to attend on the night.
URL:https://www.meathsports.ie/event/safeguarding-2-club-childrens-officer-workshop-6/
LOCATION:Zoom Online
CATEGORIES:Courses / Workshops
ATTACH;FMTTYPE=image/jpeg:https://www.meathsports.ie/wp-content/uploads/2021/11/Code-of-Ethics-Children-New.jpg
END:VEVENT
BEGIN:VEVENT
DTSTART;TZID=Europe/Dublin:20241119T183000
DTEND;TZID=Europe/Dublin:20241119T213000
DTSTAMP:20260421T130326
CREATED:20240610T095723Z
LAST-MODIFIED:20240610T095723Z
UID:4262-1732041000-1732051800@www.meathsports.ie
SUMMARY:Safeguarding 1 Basic Awareness in Child Protection Workshop
DESCRIPTION:Meath Local Sports Partnership offers a 3-hour basic awareness workshop for leaders within sports clubs/organisations. \n\n\n\nThe workshop will highlight the main principles of the Code and look at measures that clubs can take to create and maintain the safest possible environment for sport for young people.\nAs well as undertaking child protection training\, all clubs are encouraged to adopt child protection policies and procedures as outlined in the Code of Ethics and Good Practice for Children’s Sport.\n\nParticipants attending Safeguarding 1 Basic Awareness workshop must be over 18 years of age to attend. \nThe cost of the course is €25 if you are in a club in Meath and €40 if you are in a club outside of Meath. \nTo book please email Lynn at loreilly@meathcoco.ie or call 0469067887 \nAs demand for places is high\, please make every effort to give enough notice of cancellation.  \nPlease note that there are no refunds if you fail to give at least 24 hours notice of cancellation.
URL:https://www.meathsports.ie/event/safeguarding-1-basic-awareness-in-child-protection-workshop-43/
LOCATION:Zoom Online
CATEGORIES:Courses / Workshops
ATTACH;FMTTYPE=image/jpeg:https://www.meathsports.ie/wp-content/uploads/2021/11/Code-of-Ethics-Children-New.jpg
END:VEVENT
BEGIN:VEVENT
DTSTART;TZID=Europe/Dublin:20241121T183000
DTEND;TZID=Europe/Dublin:20241121T213000
DTSTAMP:20260421T130326
CREATED:20240610T102750Z
LAST-MODIFIED:20240610T102750Z
UID:4273-1732213800-1732224600@www.meathsports.ie
SUMMARY:Safeguarding 3 Designated Liaison Person (DLP) Workshop
DESCRIPTION:he third part of the ISC Child Welfare & Protection Training Programme is the Designated Liaison Person workshop. \nEvery club/organisation should designate a person to be responsible for dealing with any concerns about the protection of children. The Designated Liaison Person is responsible for reporting allegations or suspicions of child abuse to TUSLA Child and Family Agency and/or An Garda Siochána. It is recommended that this person is a senior club person. However\, if there is difficulty identifying a separate individual to take this role\, the Club Children’s Officer can be appointed as Designated Liaison Person once the club/organisation is clear about the responsibilities of each role. The organisation’s child protection policy and procedures should include the name and contact details of the Designated Liaison Person and the responsibilities attached to the role. \nA person appointed to the Designated Liaison Person position in a club must have completed the Basic Awareness Workshop in Child Welfare & Protection and should complete the NEW Designated Liaison Person 3 hour workshop. \nIt is essential that those who wish to attend the Safeguarding 3 Designated Liaison Person (DLP) Training have attended the Safeguarding 1 Child Welfare & Protection Workshop. \n\n\nA club may appoint the same person to both the CCO and DLP positions however best practice advises that they are kept as separate roles. \nCost: The cost for this course is €25 per person for clubs in Meath\, for participants outside Meath the cost is €40 per person. \nTo book: Please contact Lynn on 0469067887 or email loreilly@meathcoco.ie \n*A laptop/ipad/smart phone along with a good internet connection is required for this course. \nAs demand for places is high\, please make every effort to give enough notice of cancellation. Please note that there are no refunds if you fail to attend on the night.
URL:https://www.meathsports.ie/event/safeguarding-3-designated-liaison-person-dlp-workshop-12/
LOCATION:Zoom Online
CATEGORIES:Courses / Workshops
ATTACH;FMTTYPE=image/jpeg:https://www.meathsports.ie/wp-content/uploads/2021/11/Code-of-Ethics-Children-New.jpg
END:VEVENT
END:VCALENDAR