BEGIN:VCALENDAR
VERSION:2.0
PRODID:-//Meath Sports - ECPv6.12.0.1//NONSGML v1.0//EN
CALSCALE:GREGORIAN
METHOD:PUBLISH
X-WR-CALNAME:Meath Sports
X-ORIGINAL-URL:https://www.meathsports.ie
X-WR-CALDESC:Events for Meath Sports
REFRESH-INTERVAL;VALUE=DURATION:PT1H
X-Robots-Tag:noindex
X-PUBLISHED-TTL:PT1H
BEGIN:VTIMEZONE
TZID:Europe/Dublin
BEGIN:STANDARD
TZOFFSETFROM:+0000
TZOFFSETTO:+0100
TZNAME:IST
DTSTART:20240331T010000
END:STANDARD
BEGIN:DAYLIGHT
TZOFFSETFROM:+0100
TZOFFSETTO:+0000
TZNAME:GMT
DTSTART:20241027T010000
END:DAYLIGHT
END:VTIMEZONE
BEGIN:VEVENT
DTSTART;TZID=Europe/Dublin:20240508T183000
DTEND;TZID=Europe/Dublin:20240508T213000
DTSTAMP:20260421T225720
CREATED:20240422T093900Z
LAST-MODIFIED:20240422T094628Z
UID:4084-1715193000-1715203800@www.meathsports.ie
SUMMARY:Safeguarding 1 Basic Awareness In Child Protection Workshop
DESCRIPTION:Meath Local Sports Partnership offers a 3-hour basic awareness workshop for leaders within sports clubs/organisations. \n\nThe workshop will highlight the main principles of the Code and look at measures that clubs can take to create and maintain the safest possible environment for sport for young people.\nAs well as undertaking child protection training\, all clubs are encouraged to adopt child protection policies and procedures as outlined in the Code of Ethics and Good Practice for Children’s Sport.\n\nParticipants attending Safeguarding 1 Basic Awareness workshop must be over 18 years of age to attend. \nThe cost of the course is €25 if you are in a club in Meath and €40 if you are in a club outside of Meath. \nTo book please email mlsp@meathcoco.ie or call 0469067887 \nAs demand for places is high\, please make every effort to give enough notice of cancellation.  \nPlease note that there are no refunds if you fail to give at least 24 hours notice of cancellation
URL:https://www.meathsports.ie/event/safeguarding-1-basic-awareness-in-child-protection-workshop-38/
LOCATION:Zoom Online
CATEGORIES:Courses / Workshops,Events
ATTACH;FMTTYPE=image/jpeg:https://www.meathsports.ie/wp-content/uploads/2023/12/SFG3.jpg
END:VEVENT
BEGIN:VEVENT
DTSTART;TZID=Europe/Dublin:20240516T183000
DTEND;TZID=Europe/Dublin:20240516T213000
DTSTAMP:20260421T225720
CREATED:20240327T114102Z
LAST-MODIFIED:20240327T114102Z
UID:3978-1715884200-1715895000@www.meathsports.ie
SUMMARY:Safeguarding 3 Designated Liaison Person (DLP) Workshop
DESCRIPTION:The third part of the ISC Child Welfare & Protection Training Programme is the Designated Liaison Person workshop. \nEvery club/organisation should designate a person to be responsible for dealing with any concerns about the protection of children. The Designated Liaison Person is responsible for reporting allegations or suspicions of child abuse to TUSLA Child and Family Agency and/or An Garda Siochána. It is recommended that this person is a senior club person. However\, if there is difficulty identifying a separate individual to take this role\, the Club Children’s Officer can be appointed as Designated Liaison Person once the club/organisation is clear about the responsibilities of each role. The organisation’s child protection policy and procedures should include the name and contact details of the Designated Liaison Person and the responsibilities attached to the role. \nA person appointed to the Designated Liaison Person position in a club must have completed the Basic Awareness Workshop in Child Welfare & Protection and should complete the NEW Designated Liaison Person 3 hour workshop. \nIt is essential that those who wish to attend the Safeguarding 3 Designated Liaison Person (DLP) Training have attended the Safeguarding 1 Child Welfare & Protection Workshop. \n\n\nA club may appoint the same person to both the CCO and DLP positions however best practice advises that they are kept as separate roles. \nCost: The cost for this course is €25 per person for clubs in Meath\, for participants outside Meath the cost is €40 per person. \nTo book: Please contact Trish on 0469067887 or email mlsp@meathcoco.ie \n*A laptop/ipad/smart phone along with a good internet connection is required for this course. \nAs demand for places is high\, please make every effort to give enough notice of cancellation. Please note that there are no refunds if you fail to attend on the night.
URL:https://www.meathsports.ie/event/safeguarding-3-designated-liaison-person-dlp-workshop-10/
LOCATION:Zoom Online
CATEGORIES:Courses / Workshops
END:VEVENT
BEGIN:VEVENT
DTSTART;TZID=Europe/Dublin:20240522T110000
DTEND;TZID=Europe/Dublin:20240626T120000
DTSTAMP:20260421T225720
CREATED:20240520T141708Z
LAST-MODIFIED:20240520T141755Z
UID:4203-1716375600-1719403200@www.meathsports.ie
SUMMARY:Activator Poles Trim
DESCRIPTION:Activator Poles have been developed by therapists in Canada for people who have balance concerns or mobility issues but want to fitness walk. The poles are used in a forward position\, provide stability\, support and confidence to people worried about their balance or falling and enables them to get up and get going with a purpose again. Activator Pole walking focuses on promoting long term fitness and independence through increasing balance and functionality. \nFor More Information Please contact Terry 0469067887 or Email tdonegan@meathcoco.ie
URL:https://www.meathsports.ie/event/activator-poles-trim/
LOCATION:Porchfields Trim\, Trim\, Meath\, Ireland
ATTACH;FMTTYPE=image/jpeg:https://www.meathsports.ie/wp-content/uploads/2024/05/Group-1-scaled.jpg
END:VEVENT
BEGIN:VEVENT
DTSTART;TZID=Europe/Dublin:20240522T190000
DTEND;TZID=Europe/Dublin:20240626T200000
DTSTAMP:20260421T225720
CREATED:20240517T151949Z
LAST-MODIFIED:20240517T151949Z
UID:4188-1716404400-1719432000@www.meathsports.ie
SUMMARY:Community Sports Hub - Adult Olympic Handball
DESCRIPTION:Come and Try Olympic handball for Adults 18+. \n\n\n\nA fun team based game of moving and throwing a ball\n\n\n\n  \nRegister HERE
URL:https://www.meathsports.ie/event/community-sports-hub-adult-olympic-handball/
LOCATION:St. Stephens NS\, Johnstown\, Navan\, Meath\, Ireland
ATTACH;FMTTYPE=image/jpeg:https://www.meathsports.ie/wp-content/uploads/2024/05/CSH-ADULT-Olympic-Handball-May-24.jpg
END:VEVENT
BEGIN:VEVENT
DTSTART;TZID=Europe/Dublin:20240524T110000
DTEND;TZID=Europe/Dublin:20240628T120000
DTSTAMP:20260421T225720
CREATED:20240520T142213Z
LAST-MODIFIED:20240520T142242Z
UID:4209-1716548400-1719576000@www.meathsports.ie
SUMMARY:Activator Poles Carlanstown
DESCRIPTION:Activator Poles have been developed by therapists in Canada for people who have balance concerns or mobility issues but want to fitness walk. The poles are used in a forward position\, provide stability\, support and confidence to people worried about their balance or falling and enables them to get up and get going with a purpose again. Activator Pole walking focuses on promoting long term fitness and independence through increasing balance and functionality. \n 
URL:https://www.meathsports.ie/event/activator-poles-carlanstown/
LOCATION:Deerpark Carlanstown\, Carlanstown\, Meath\, Ireland
ATTACH;FMTTYPE=image/jpeg:https://www.meathsports.ie/wp-content/uploads/2024/05/Group-1-scaled.jpg
END:VEVENT
BEGIN:VEVENT
DTSTART;TZID=Europe/Dublin:20240526T093000
DTEND;TZID=Europe/Dublin:20240526T130000
DTSTAMP:20260421T225720
CREATED:20240325T091947Z
LAST-MODIFIED:20240325T091947Z
UID:3947-1716715800-1716728400@www.meathsports.ie
SUMMARY:Slane Castle 5k Trail Run/Walk
DESCRIPTION:We are delighted to announce the ‘Slane Castle 5km Trail Run/Walk’ will take place on Sunday 26th of May 2024 in the beautiful scenic grounds of Slane Castle\, with a starting line ready for take off at 9.30am sharp. \n  \nThe 5km route itself is completely within the majestic grounds of the Castle and includes the scenic forest trail along the River Boyne. This is a real opportunity for everyone regardless of ability or fitness level to experience the magnificent surrounds of Slane Castle. \n  \nKeatings Oil has generously come on board as our main sponsor for this popular event which saw over 500 participants (adults & children) take part in 2023. \n  \nThe event is organised by The Parents’ Association of St. Patrick’s National School\, Slane\, along with help from Meath Local Sports Partnership\, Slane Castle and the Civil Defence. \n  \nThere are t-shirts for the first 200 adults (on the day) and the first 200 U16’s. We also have finishing medals for the first 500 over the line! After race refreshments and home baked goods will be available free of charge to all who support the event. \n  \nRace-goers can also avail of parking on the grounds of the castle. Please note that pets are not permitted in the grounds of Slane Castle and we ask you to please respect this. \n  \nEarly bird online registration is €20 for Adults\, €10 for Secondary School aged children and €5.00 for Primary School aged children. \n  \nInterested participants can also check out the Slane Castle 5km Trail Run/Walk face book page https://www.facebook.com/slanecastle5ktrailrun and event page https://www.facebook.com/events/2312092245656192/ \n  \nSo come along\, bring the family and have a wonderful morning at Slane Castle. \nHappy running or walking to all who take part! \n  \nREGISTER AT: https://eventmaster.ie/event/boeBt9AHjr
URL:https://www.meathsports.ie/event/slane-castle-5k-trail-run-walk-2/
LOCATION:Slane Castle\, Slane\, Meath\, C15 XP83\, Ireland
CATEGORIES:Events
ATTACH;FMTTYPE=image/jpeg:https://www.meathsports.ie/wp-content/uploads/2024/03/eventmaster-cover-002-scaled.jpg
END:VEVENT
END:VCALENDAR