BEGIN:VCALENDAR
VERSION:2.0
PRODID:-//Meath Sports - ECPv6.12.0.1//NONSGML v1.0//EN
CALSCALE:GREGORIAN
METHOD:PUBLISH
X-WR-CALNAME:Meath Sports
X-ORIGINAL-URL:https://www.meathsports.ie
X-WR-CALDESC:Events for Meath Sports
REFRESH-INTERVAL;VALUE=DURATION:PT1H
X-Robots-Tag:noindex
X-PUBLISHED-TTL:PT1H
BEGIN:VTIMEZONE
TZID:Europe/Dublin
BEGIN:STANDARD
TZOFFSETFROM:+0000
TZOFFSETTO:+0100
TZNAME:IST
DTSTART:20240331T010000
END:STANDARD
BEGIN:DAYLIGHT
TZOFFSETFROM:+0100
TZOFFSETTO:+0000
TZNAME:GMT
DTSTART:20241027T010000
END:DAYLIGHT
END:VTIMEZONE
BEGIN:VEVENT
DTSTART;TZID=Europe/Dublin:20240116T190000
DTEND;TZID=Europe/Dublin:20240206T200000
DTSTAMP:20260422T032839
CREATED:20240110T130304Z
LAST-MODIFIED:20240110T130304Z
UID:3715-1705431600-1707249600@www.meathsports.ie
SUMMARY:SOCIA-BALL - Social Basketball for Women
DESCRIPTION:Socia-Ball – Social Basketball for women is increasing in popularity over recent years. In a fun and social setting\, women will have the opportunity to learn the key basketball skills and play in a supportive environment without the pressure of competition. The 4-week programme is aimed towards complete beginners and also those who may have previous experience. It is inclusive of all ages and fitness levels and will be delivered by qualified coaches. \nThis is an ideal opportunity to try a new sport or revisit a sport that you previously enjoyed. Its all about playing basketball for fun and fitness and maybe even making new friends along the way. Why not come and try basketball in this non-competitive setting whilst having the expert knowledge of a qualified coach/tutor. \nCost is €20 for 4-weeks \n\n\n\n\n\n\n\n\n\n\n\n Venues/Times and Registration Links below.\n\n\n\n\n\n\n\n\n\n\n\n\nAthboy Community Centre           Tuesday 16th January @ 7pm      Register Here\n\n\nAshbourne Community School    Wed 17th January @ 7pm   Register Here\nColaiste na hInse\, Bettystown      Wed 24th January @ 7pm  Register Here
URL:https://www.meathsports.ie/event/socia-ball-social-basketball-for-women/
LOCATION:Co. Meath
ATTACH;FMTTYPE=image/jpeg:https://www.meathsports.ie/wp-content/uploads/2023/08/skryne-game-4-scaled.jpg
END:VEVENT
BEGIN:VEVENT
DTSTART;TZID=Europe/Dublin:20240122T190000
DTEND;TZID=Europe/Dublin:20240304T200000
DTSTAMP:20260422T032839
CREATED:20240110T123915Z
LAST-MODIFIED:20240110T123915Z
UID:3706-1705950000-1709582400@www.meathsports.ie
SUMMARY:0-3k & 3-5k Social Running Programme
DESCRIPTION:Meath LSP are delighted to continue the roll out of the 0-3k & 3-5k programmes for a further 6 weeks starting from January 22nd. These social running programmes are now available in  Navan\, Trim\, Tara and Enfield. \nThe 0-3k (Walk to Jog) is suitable for complete beginners and supports those to go from walking to jogging with relative ease.  The structured programme is available for anyone who wants to increase their daily activity and is suitable for people of all ages (18+) and fitness levels. The 3-5k – Jog to Run is ideal for those who would like to improve running fitness and increase their pace & distance. This programme suits those who have already completed a 0-3k or have previous running experience. \nAll coaching sessions are delivered by qualified club coaches who are experienced runners and are on hand to guide and support everyone taking part. Venues and Registration Links are below: \nTara AC\, Ross Cross\, Skryne – starting Monday 22nd January @ 6.30pm CLICK HERE TO REGISTER \nNavan AC\, Claremont Stadium – starting Monday 22nd January @ 7pm CLICK HERE TO REGISTER  \nTrim AC\, meeting Supermacs (Trim Retail Park) – Monday 22nd January @ 7pm  CLICK HERE TO REGISTER \nNa Fianna\, Enfield GAA – starting Monday 22ndJanuary @ 7pm CLIcK HERE TO REGISTER
URL:https://www.meathsports.ie/event/0-3k-3-5k-social-running-programme/
LOCATION:Co. Meath
ATTACH;FMTTYPE=image/jpeg:https://www.meathsports.ie/wp-content/uploads/2023/08/Enfield-4.jpg
END:VEVENT
BEGIN:VEVENT
DTSTART;TZID=Europe/Dublin:20240203T103000
DTEND;TZID=Europe/Dublin:20240203T120000
DTSTAMP:20260422T032839
CREATED:20240105T093836Z
LAST-MODIFIED:20240105T093836Z
UID:3662-1706956200-1706961600@www.meathsports.ie
SUMMARY:Family Rounders
DESCRIPTION:Family Rounders is a fun activity for Parents and Children to take part in together. Rounders is a fun activity with a bat/racket and ball played between two teams. Players score by striking the ball and running around bases marked out on the field. \nThe programme is suitable for Children aged 5 years + \nDate: Saturday 3rd February \nVenue: Blackwater Park\, Navan \nTime: 10:30am – 12:00pm \nCost: Free of charge \nPre-registration is necessary \nRegistration Available HERE \nView full timetable of programmes and camps for January & February HERE
URL:https://www.meathsports.ie/event/family-rounders-2/
LOCATION:Blackwater Park\, Ratholdren Rd\, Navan\, Ireland
CATEGORIES:Inclusive Programmes / Events
ATTACH;FMTTYPE=image/jpeg:https://www.meathsports.ie/wp-content/uploads/2024/01/IMG-20230805-WA0038.jpg
END:VEVENT
BEGIN:VEVENT
DTSTART;TZID=Europe/Dublin:20240206T183000
DTEND;TZID=Europe/Dublin:20240305T213000
DTSTAMP:20260422T032839
CREATED:20240109T154027Z
LAST-MODIFIED:20240109T154027Z
UID:3689-1707244200-1709674200@www.meathsports.ie
SUMMARY:Sport Ireland Coaching Workshops
DESCRIPTION:Meath LSP in partnership with Monaghan\, Louth & Cavan LSPs are running a series of online Sport Ireland Coaching Workshops in October and November. \nThese workshops comprise of the following: \nCoaching Children: \nThis series is a set of four workshops of 3 hours each. \n\nWorkshop 1: Coaching Children Successfully in Sport\nWorkshop 2: Child-Centred Coaching – Understanding Child Development & Learning and its Impact on How We Coach.\nWorkshop 3: Developing Physical Literacy through Sport 1 – Coaching Children to Move.\nWorkshop 4: Developing Physical Literacy through Sport 2 – Coaching Children to Think.\n\nDates: Tuesday 6th\, 13th\, 20th\, 27th of February \nTime: 6:30-9:30pm \nCost: €30 \nRegister: HERE \nCoaching Teenage Girls in Sport:  \nThe 3-hour workshop is designed specifically to support coaches/parents of girls aged 12-17 years of age. The training is developed to enable coaches/parents to create a positive experience of sport and physical activity for girls in their formative years and provide an environment where girls and young women can develop holistically. \nDate: Tuesday 5th March \nTime: 6:30-9:30pm \nRegister: HERE \nCost: €10 \nFor more information about the Coaching Children or Coaching Teenage Girls Workshops or to book your place on the next workshop contact Una Pearson at 0469067887 or email upearson@meathcoco.ie
URL:https://www.meathsports.ie/event/sport-ireland-coaching-workshops/
LOCATION:Zoom Online
CATEGORIES:Club Coaching Corner,Courses / Workshops,Inclusive Programmes / Events,Youth Coach Course
ATTACH;FMTTYPE=image/jpeg:https://www.meathsports.ie/wp-content/uploads/2024/01/Snip-of-regional-workshops-2024.jpg
END:VEVENT
BEGIN:VEVENT
DTSTART;TZID=Europe/Dublin:20240208T183000
DTEND;TZID=Europe/Dublin:20240208T213000
DTSTAMP:20260422T032839
CREATED:20230509T132935Z
LAST-MODIFIED:20231221T164847Z
UID:2954-1707417000-1707427800@www.meathsports.ie
SUMMARY:Safeguarding 1 Basic Awareness in Child Protection Workshop
DESCRIPTION:Meath Local Sports Partnership offers a 3-hour basic awareness workshop for leaders within sports clubs/organisations. \n\nThe workshop will highlight the main principles of the Code and look at measures that clubs can take to create and maintain the safest possible environment for sport for young people.\nAs well as undertaking child protection training\, all clubs are encouraged to adopt child protection policies and procedures as outlined in the Code of Ethics and Good Practice for Children’s Sport.\n\nParticipants attending Safeguarding 1 Basic Awareness workshop must be over 18 years of age to attend. \nThe cost of the course is €25 if you are in a club in Meath and €40 if you are in a club outside of Meath. \nTo book your place\, please email mlsp@meathcoco.ie or call 0469067887 to check availability of spaces. \nAs demand for places is high\, please make every effort to give enough notice of cancellation. Please note that there are no refunds if you fail to attend on the night.
URL:https://www.meathsports.ie/event/safeguarding-1-basic-awareness-in-child-protection-workshop-32/
LOCATION:Zoom Online
CATEGORIES:Courses / Workshops
ATTACH;FMTTYPE=image/jpeg:https://www.meathsports.ie/wp-content/uploads/2021/11/Code-of-Ethics-Children-New.jpg
END:VEVENT
BEGIN:VEVENT
DTSTART;TZID=Europe/Dublin:20240213T080000
DTEND;TZID=Europe/Dublin:20240213T170000
DTSTAMP:20260422T032839
CREATED:20231221T165609Z
LAST-MODIFIED:20231221T165856Z
UID:3647-1707811200-1707843600@www.meathsports.ie
SUMMARY:Safeguarding 2 Club Children’s Officer (CCO) Workshop
DESCRIPTION:Recommendations from Sport Ireland are that every club involved with children and young people should appoint a Club Children’s Officer. This person should be child centered in focus and should have as their primary aim the establishment of a child centered ethos within the club. They are the link between the children and the adults in the club and also take responsibility for monitoring and reporting to the Club Management Committee on how club policy etc. impacts on children and their Sports Leaders. \nThe Club Children’s Officer should have the following functions: \n\nTo promote awareness of the Code of Ethics and Good Practice for Children’s Sport in Ireland within the club and particularly among the children and their parents/guardians. This could be achieved by the production of information leaflets\, the establishment of children’s/age-group specific notice boards and by regular information meetings for the children and their parents/guardians.\nTo influence policy and practice within the club in order to prioritise children’s needs.\nTo provide an accessible resource to children through the creation of forums.\n\nIt is essential that those who wish to attend the Safeguarding 2 Club Children’s Officer (CCO) Training have attended the Safeguarding 1 Awareness/Child Protection Training workshop. \nIt is recommended to have at least one Club Children’s Officer per club or if there is a large number of both boys and girls in the club\, to have two Club Children’s Officers – one male and one female. \nCost: The cost for this course is €25 per person for clubs in Meath\, for participants outside Meath the cost is €40 per person. \nHow to book: To book a place on this course please call Trish on 0469067887 or email mlsp@meathcoco.ie to check availability of spaces. \n*A laptop/ipad/smart phone along with a good internet connection is required for this course. \nAs demand for places is high\, please make every effort to give enough notice of cancellation. Please note that there are no refunds if you fail to attend on the night.
URL:https://www.meathsports.ie/event/safeguarding-2-club-childrens-officer-cco-workshop-9/
LOCATION:Co. Meath
CATEGORIES:Courses / Workshops
ATTACH;FMTTYPE=image/jpeg:https://www.meathsports.ie/wp-content/uploads/2023/12/SFG3.jpg
END:VEVENT
BEGIN:VEVENT
DTSTART;TZID=Europe/Dublin:20240213T193000
DTEND;TZID=Europe/Dublin:20240305T203000
DTSTAMP:20260422T032839
CREATED:20240207T090903Z
LAST-MODIFIED:20240207T090938Z
UID:3836-1707852600-1709670600@www.meathsports.ie
SUMMARY:Bettystown 3-5k Jog to Run programme
DESCRIPTION:Bettystown 3-5k Jog to Run programme \nThe 3-5k – Jog to Run is ideal for those who would like to improve running fitness and increase their pace & distance. This programme suits those who have already completed a 0-3k or have previous running experience. \nAll coaching sessions are delivered by qualified club coaches who are experienced runners and are on hand to guide and support everyone taking part. \nCilles AC – Bettystown 3-5k\, meeting at rear of Tesco in Bettystown from Tuesday 13th Feb @ 7.30pm CLICK HERE TO REGISTER
URL:https://www.meathsports.ie/event/3836/
LOCATION:Co. Meath
ATTACH;FMTTYPE=image/jpeg:https://www.meathsports.ie/wp-content/uploads/2024/02/Social-runnign-bettystown-.jpg
END:VEVENT
BEGIN:VEVENT
DTSTART;TZID=Europe/Dublin:20240215T100000
DTEND;TZID=Europe/Dublin:20240216T130000
DTSTAMP:20260422T032839
CREATED:20240105T103120Z
LAST-MODIFIED:20240105T103120Z
UID:3677-1707991200-1708088400@www.meathsports.ie
SUMMARY:Midterm Multi-Sport Camp
DESCRIPTION:February Mid-Term Multi Sport camps are suitable for Chidren aged 5-12 years. \nA Variety of sports will be held across the two days including: Tag Rugby\, Rounders\, GAA\, Soccer and Fun games such as Obstacle Courses\, X’s & O’s\, Tag Games\, Dodge Ball\, No mans land etc. \nDate: Thursday 15th & Friday 16th February \nVenue: Claremont Stadium \nTime: 10am – 1pm \nCost: FREE \nPre-Registration is Essential. Places available on a first come first served basis. \nRegister HERE \nVisit this web page to view a full timetable of all programmes and camps in the Community Sports Hub HERE
URL:https://www.meathsports.ie/event/midterm-multi-sport-camp/
LOCATION:Claremont Stadium\, Commons Rd\, Navan\, Meath\, Ireland
ATTACH;FMTTYPE=image/jpeg:https://www.meathsports.ie/wp-content/uploads/2024/01/Hoop-throw-scaled.jpg
END:VEVENT
BEGIN:VEVENT
DTSTART;TZID=Europe/Dublin:20240219T180000
DTEND;TZID=Europe/Dublin:20240311T180000
DTSTAMP:20260422T032839
CREATED:20240123T094714Z
LAST-MODIFIED:20240123T094714Z
UID:3830-1708365600-1710180000@www.meathsports.ie
SUMMARY:Walking Netball for Women
DESCRIPTION:Walking Netball for Women \nWalking Netball is a friendly and inclusive programme\, allowing women the opportunity to find their place in the sport. It’s netball\, but at a walking pace where the rules are slightly tweaked. Each session is led by a qualified netball coach so no previous netball experience is required. Taking place in Drogheda Grammar School on Monday 19th February from 6pm\, this 4-week introduction programme is suitable for all women regardless of age\, experience and fitness level. Come and try Walking Netball\, you’ll love it!! \n\nWalking Netball for women\nDrogheda Grammar School\nStarts: Monday 19th February\nTime: 6pm\nCost: €15\nTo Register: Click Here
URL:https://www.meathsports.ie/event/walking-netball-for-women/
LOCATION:Co. Meath
ATTACH;FMTTYPE=image/png:https://www.meathsports.ie/wp-content/uploads/2024/01/Screenshot-2024-01-19-162211.png
END:VEVENT
BEGIN:VEVENT
DTSTART;TZID=Europe/Dublin:20240220T190000
DTEND;TZID=Europe/Dublin:20240220T203000
DTSTAMP:20260422T032839
CREATED:20240112T153818Z
LAST-MODIFIED:20240112T154220Z
UID:3753-1708455600-1708461000@www.meathsports.ie
SUMMARY:Sports Inclusion & Disability Awareness
DESCRIPTION:Meath LSP in conjunction with Cavan Sports Partnership are delighted to announce we will be hosting a sports Inclusion and Disability Awareness Webinar.\nThis is a FREE webinar will be delivered Online and is aimed at people who are interested in taking the first step in making their activities inclusive. \nDate: Tuesday February 20th\nTime: 7:00pm-8:30pm\nVenue: Zoom\nCost: Free \nFor more information please contact Sports Inclusion Disability Office Terry Donegan on\n0469067887 or email tdonegan@meathcoco.ie
URL:https://www.meathsports.ie/event/sports-inclusion-disability-awareness-3/
LOCATION:Zoom Online
CATEGORIES:Courses / Workshops,Events
ATTACH;FMTTYPE=image/jpeg:https://www.meathsports.ie/wp-content/uploads/2024/01/SIDA.jpg
END:VEVENT
BEGIN:VEVENT
DTSTART;TZID=Europe/Dublin:20240222T080000
DTEND;TZID=Europe/Dublin:20240222T170000
DTSTAMP:20260422T032839
CREATED:20231221T165235Z
LAST-MODIFIED:20240209T114342Z
UID:3643-1708588800-1708621200@www.meathsports.ie
SUMMARY:Safeguarding 1 Basic Awareness In Child Protection Workshop (FULLY BOOKED\, Waiting list in place)
DESCRIPTION:Meath Local Sports Partnership offers a 3-hour basic awareness workshop for leaders within sports clubs/organisations. \n\nThe workshop will highlight the main principles of the Code and look at measures that clubs can take to create and maintain the safest possible environment for sport for young people.\nAs well as undertaking child protection training\, all clubs are encouraged to adopt child protection policies and procedures as outlined in the Code of Ethics and Good Practice for Children’s Sport.\n\nParticipants attending Safeguarding 1 Basic Awareness workshop must be over 18 years of age to attend. \nThe cost of the course is €25 if you are in a club in Meath and €40 if you are in a club outside of Meath. \nTo book your place\, please email mlsp@meathcoco.ie or call 0469067887 to check availability of spaces. \nAs demand for places is high\, please make every effort to give enough notice of cancellation. Please note that there are no refunds if you fail to attend on the night.
URL:https://www.meathsports.ie/event/safeguarding-1-basic-awareness-in-child-protection-workshop-34/
LOCATION:Co. Meath
CATEGORIES:Courses / Workshops
ATTACH;FMTTYPE=image/jpeg:https://www.meathsports.ie/wp-content/uploads/2023/12/SFG3.jpg
END:VEVENT
END:VCALENDAR