BEGIN:VCALENDAR
VERSION:2.0
PRODID:-//Meath Sports - ECPv6.12.0.1//NONSGML v1.0//EN
CALSCALE:GREGORIAN
METHOD:PUBLISH
X-ORIGINAL-URL:https://www.meathsports.ie
X-WR-CALDESC:Events for Meath Sports
REFRESH-INTERVAL;VALUE=DURATION:PT1H
X-Robots-Tag:noindex
X-PUBLISHED-TTL:PT1H
BEGIN:VTIMEZONE
TZID:Europe/Dublin
BEGIN:STANDARD
TZOFFSETFROM:+0000
TZOFFSETTO:+0100
TZNAME:IST
DTSTART:20230326T010000
END:STANDARD
BEGIN:DAYLIGHT
TZOFFSETFROM:+0100
TZOFFSETTO:+0000
TZNAME:GMT
DTSTART:20231029T010000
END:DAYLIGHT
END:VTIMEZONE
BEGIN:VEVENT
DTSTART;TZID=Europe/Dublin:20230901T090000
DTEND;TZID=Europe/Dublin:20231003T130000
DTSTAMP:20260422T100818
CREATED:20230829T142241Z
LAST-MODIFIED:20230829T142813Z
UID:3310-1693558800-1696338000@www.meathsports.ie
SUMMARY:Olympic Handball School League - Meath
DESCRIPTION:Olympic Handball is a popular sport for primary school pupils. Meath LSP & Irish  Olympic Handball Association (IOHA) are working together to introduce a new Meath Handball Schools League for primary schools in Meath. Together we are working  to increase participation rates in the sport of Olympic Handball and increase opportunities for children to experience new activities. \nThis programme is available to all primary schools in Meath who would like to incorporate Olympic Handball as part of their school sports curriculum. \n\n\n\n\n\n\n\n\n\n\n\nPrimary schools who register for the programme will receive:\n\n\n\n\n\n\n\n\n\n\n\n\nEntry to the Meath Handball League\nEntry to Provential and National League competitions\nFree Teacher Training & Schools training resources (Tuesday 3rd October 9am-1pm)\nSchool affiliation to Irish Olympic Handball Association\n\n\n\n\n\n\n\n\n\n\n\n\n\nSuitable for: U11 & U13 \nAvailable to: All Primary Schools in Meath \nCost: €30 – €50 per school (depending on number of teams entered) \nTo Register: https://www.olympichandball.org/registration \n\n\n\n\n\n\n\n\n\n\n\n\nMore than 1240 children in Meath have taken part in School Olympic Handball programmes since 2019 and over 48 teachers have received Olympic Handball training. \nFor more details contact Lisa at lodowd@meathcoco.ie
URL:https://www.meathsports.ie/event/olympic-handball-school-league-meath/
LOCATION:Co. Meath
ATTACH;FMTTYPE=image/jpeg:https://www.meathsports.ie/wp-content/uploads/2023/08/20220527_105551-scaled.jpg
END:VEVENT
BEGIN:VEVENT
DTSTART;TZID=Europe/Dublin:20230918T070000
DTEND;TZID=Europe/Dublin:20231023T200000
DTSTAMP:20260422T100818
CREATED:20230829T133350Z
LAST-MODIFIED:20230829T133431Z
UID:3284-1695020400-1698091200@www.meathsports.ie
SUMMARY:0-3k Social Running Programme
DESCRIPTION:Meath LSP are delighted once again to collaborate with local athletic clubs to roll out a 6-week Social Running Programme. These 0-3k & 3-5k social running programmes are now available in  Navan\, Trim\, Tara and Enfield andKells. \nThe 0-3k (Walk to Jog) is suitable for complete beginners and supports those to go from walking to jogging with relative ease.  The structured programme is available for anyone who wants to increase their daily activity and is suitable for people of all ages (18+) and fitness levels. The 3-5k – Jog to Run is ideal for those who would like to improve running fitness and increase their pace & distance. This programme suits those who have already completed a 0-3k or have previous running experience. \nAll coaching sessions are delivered by qualified club coaches who are experienced runners and are on hand to guide and support everyone taking part. Venues and Registration Links are below: \nTara AC\, Ross Cross\, Skryne – starting Monday 18th Sept @ 6.30pm https://eventmaster.ie/event/9bB1Fw5HWJ \nNavan AC\, Claremont Stadium – starting Monday 18th Sept @ 7pm  https://eventmaster.ie/event/nE2pIplH0v  \n Trim AC\, meeting Supermacs (Trim Retail Park) – Monday 18th Sept @ 7pm https://eventmaster.ie/event/rpPqCPmS9y \nNa Fianna\, Enfield GAA – starting Monday 18th Sept @ 7pm https://eventmaster.ie/event/vGPjsPoSb4 \nKells AC\, meeting at Fair Green\, Kells – Monday 18th Sept @ 7pm https://eventmaster.ie/event/w7P5hPySRQ \nThe duration of each programme is 6-week and cost is €20. \n 
URL:https://www.meathsports.ie/event/0-3k-social-running-programme/
LOCATION:Co. Meath
ATTACH;FMTTYPE=image/jpeg:https://www.meathsports.ie/wp-content/uploads/2023/08/Enfield-4.jpg
END:VEVENT
BEGIN:VEVENT
DTSTART;TZID=Europe/Dublin:20230918T190000
DTEND;TZID=Europe/Dublin:20231023T200000
DTSTAMP:20260422T100818
CREATED:20230829T140408Z
LAST-MODIFIED:20230829T140408Z
UID:3301-1695063600-1698091200@www.meathsports.ie
SUMMARY:Socia-Ball for Women
DESCRIPTION:Meath LSP and Basketball Ireland are collaborating on a new basketball initiative for women with the main emphasis on participation\, fun and fitness. \nIn a fun and social setting\, women will have the opportunity to learn the key basketball skills and play in a supportive environment without the pressure of competition. The 6-week programme is aimed towards complete beginners and also those who may have previous experience. It is inclusive of all ages and fitness levels and will be delivered by qualified coaches. \nThis is an ideal opportunity to try a new sport or revisit a sport that you previously enjoyed. Its all about playing basketball for fun and fitness and maybe even making new friends along the way. Why not come and try basketball in this non-competitive setting whilst having the expert knowledge of a qualified coach/tutor. \nVenues/Times and Registration Links below. \n\nAthboy Community Centre           Tuesday19th September @ 7pm      Register Here\n\n\nAshbourne Community School    Wed 20th September @ 7pm   Register Here\nColaiste na hInse\, Bettystown      Wed 20th September @ 7pm  Register Here
URL:https://www.meathsports.ie/event/socia-ball-for-women-2/
LOCATION:Co. Meath
ATTACH;FMTTYPE=image/jpeg:https://www.meathsports.ie/wp-content/uploads/2023/08/skryne-game-4-scaled.jpg
END:VEVENT
BEGIN:VEVENT
DTSTART;TZID=Europe/Dublin:20230919T170000
DTEND;TZID=Europe/Dublin:20231024T190000
DTSTAMP:20260422T100818
CREATED:20230829T140709Z
LAST-MODIFIED:20230829T140709Z
UID:3304-1695142800-1698174000@www.meathsports.ie
SUMMARY:Youth Social Basketball
DESCRIPTION:Meath LSP are delighted to collaborate with Basketball Ireland to continue Social Basketball for Youth\, available for young people aged 10-16yrs. This programme is suitable for complete beginners or those who wish engage or re-engage playing basketball in a non-competitive environment. Youth Basketball programmes will continue in Athboy\, Ashbourne and Dunboyne in 2023 – start dates and registration details are below. Places are limited so early booking is advised. Cost is €30 for 6 weeks. \nAthboy Community Centre – starts Tuesday 19th Sept   @ 6pm        Register Here \nDunboyne Community Centre – starts Tuesdays  19th Sept @ 5pm          Register Here \nAshbourne Community School – starts Wednesday 20th Sept @  5.45pm    Register Here
URL:https://www.meathsports.ie/event/youth-social-basketball/
LOCATION:Co. Meath
ATTACH;FMTTYPE=image/jpeg:https://www.meathsports.ie/wp-content/uploads/2023/08/small-group-2-scaled.jpg
END:VEVENT
BEGIN:VEVENT
DTSTART;TZID=Europe/Dublin:20230925T190000
DTEND;TZID=Europe/Dublin:20231105T203000
DTSTAMP:20260422T100818
CREATED:20230829T133147Z
LAST-MODIFIED:20230829T134416Z
UID:3280-1695668400-1699216200@www.meathsports.ie
SUMMARY:Women in Sport Leadership Course
DESCRIPTION:Women in Sport Leadership Development programme \nDo you know any female volunteers aged 18+ or are you someone who is currently involved in a club or sporting organisation who might like support to take on a leadership role in sport? Women in Meath can take the next step on their leadership journey in sport with a new development programme from Meath Local Sports Partnership. \nMeath LSP are delighted to offer the first Women in Sport Leadership Course in Meath and we are asking clubs to nominate a female \n\nclub member/coach/parent who would like the opportunity to learn new skills\, increase confidence and build a support network to help them to take on leadership roles within your club\, committee or county/national board levels\nin your club who perhaps doesn’t recognise the potential within themselves or needs some support in taking on their leadership journey to the next level\nwho is looking for more ways to give back to your club or a coach who wants to step things up\n\nCourse Details \nDate: Monday 25th September to Sunday 5th November 2023 \nTime: Six-part course taking place every Monday 7.00pm-8.30pm & Sunday 5th November 11am-3pm (participants must be available to attend all course dates) \nFormat: Sessions 1 & 6 will take place in person in Meath Local Sports Partnership in Navan. Sessions 2\, 3\, 4 & 5 will take place online \nCost: €50 per participant (fee subsidised through Sport Ireland Dormant Accounts Volunteer Support Programme) \nApplication Deadline: Friday 15th September at 1pm. \nTo Register: Please complete Club Nomination Form on the following link: https://forms.gle/z45RzF6r23KT34sb8 \nApplication Criteria: \nTo be eligible for this programme you must: \n\nAcquire club nomination to participate in programme\nBe over the age of 18\nAlready have a volunteer role/or would like to become a volunteer within your club\nBe available to attend the above programme dates\nCover the fee of €50\n\nFor more details check www.meathsports.ie/ \nOr contact \nLisa at lodowd@meathcoco.ie or Una at upearson@meathcoco.ie
URL:https://www.meathsports.ie/event/women-in-sport-leadership-course/
LOCATION:Co. Meath
ATTACH;FMTTYPE=image/png:https://www.meathsports.ie/wp-content/uploads/2023/08/Female-Leadership-photos.png
END:VEVENT
BEGIN:VEVENT
DTSTART;TZID=Europe/Dublin:20231002T160000
DTEND;TZID=Europe/Dublin:20231023T180000
DTSTAMP:20260422T100818
CREATED:20230908T120001Z
LAST-MODIFIED:20230908T120546Z
UID:3342-1696262400-1698084000@www.meathsports.ie
SUMMARY:Olympic Handball
DESCRIPTION:Come + Try Olympic handball\, a fast-paced indoor game where opposing teams try to score by throwing a ball into a football-style goal with posts and a crossbar. \n  \nSt. Stephens NS \nMonday 2nd – 23rd October \n6-9 years 4:00-4:50pm \n9-12 years 5:–05:50pm \n  \nRegister: https://bit.ly/3LfaXeF 
URL:https://www.meathsports.ie/event/olympic-handball-2/
LOCATION:St. Stephens NS\, Johnstown\, Navan\, Meath\, Ireland
ATTACH;FMTTYPE=image/jpeg:https://www.meathsports.ie/wp-content/uploads/2023/04/Throwing-scaled.jpg
END:VEVENT
BEGIN:VEVENT
DTSTART;TZID=Europe/Dublin:20231003T183000
DTEND;TZID=Europe/Dublin:20231003T213000
DTSTAMP:20260422T100818
CREATED:20230509T134136Z
LAST-MODIFIED:20230927T135033Z
UID:2962-1696357800-1696368600@www.meathsports.ie
SUMMARY:Safeguarding 3 Designated Liaison Person (DLP) Workshop (FULLY BOOKED)
DESCRIPTION:The third part of the ISC Child Welfare & Protection Training Programme is the Designated Liaison Person workshop. \nEvery club/organisation should designate a person to be responsible for dealing with any concerns about the protection of children. The Designated Liaison Person is responsible for reporting allegations or suspicions of child abuse to TUSLA Child and Family Agency and/or An Garda Siochána. It is recommended that this person is a senior club person. However\, if there is difficulty identifying a separate individual to take this role\, the Club Children’s Officer can be appointed as Designated Liaison Person once the club/organisation is clear about the responsibilities of each role. The organisation’s child protection policy and procedures should include the name and contact details of the Designated Liaison Person and the responsibilities attached to the role. \nA person appointed to the Designated Liaison Person position in a club must have completed the Basic Awareness Workshop in Child Welfare & Protection and should complete the NEW Designated Liaison Person 3 hour workshop. \nIt is essential that those who wish to attend the Safeguarding 3 Designated Liaison Person (DLP) Training have attended the Safeguarding 1 Child Welfare & Protection Workshop. \nA club may appoint the same person to both the CCO and DLP positions however best practice advises that they are kept as separate roles. \nCost: The cost for this course is €20 per person for clubs in Meath\, for participants outside Meath the cost is €30 per person. \nThis course is now fully booked. To put your name on cancellation list please contact Trish on 0469067887 or email mlsp@meathcoco.ie \n*A laptop/ipad/smart phone along with a good internet connection is required for this course. \nAs demand for places is high\, please make every effort to give enough notice of cancellation. Please note that there are no refunds if you fail to attend on the night.
URL:https://www.meathsports.ie/event/safeguarding-3-designated-liaison-person-dlp-workshop-7/
LOCATION:Zoom Online
CATEGORIES:Courses / Workshops
ATTACH;FMTTYPE=image/jpeg:https://www.meathsports.ie/wp-content/uploads/2021/11/Code-of-Ethics-Children-New.jpg
END:VEVENT
BEGIN:VEVENT
DTSTART;TZID=Europe/Dublin:20231004T100000
DTEND;TZID=Europe/Dublin:20231025T110000
DTSTAMP:20260422T100818
CREATED:20230908T133152Z
LAST-MODIFIED:20230908T133152Z
UID:3347-1696413600-1698231600@www.meathsports.ie
SUMMARY:Buggy Buddies
DESCRIPTION:Buggy Buddies is a walking and light exercise based programme\, led by a qualified fitness instructor for parents and carers of new babies and toddlers. The physical activity part of the programme is just as important as the social aspect for new parents and carers to get out socialising with other new parents. \nVenue: Blackwater Park\, Navan \nDate: Wednesday 4th – 25th October \nTime: 10-11am \nCost: FREE \nRegister: https://bit.ly/3R5zfvk
URL:https://www.meathsports.ie/event/buggy-buddies/
LOCATION:Blackwater Park\, Ratholdren Rd\, Navan\, Ireland
ATTACH;FMTTYPE=image/jpeg:https://www.meathsports.ie/wp-content/uploads/2023/09/Buggy-Buddies-group-photo-Mar-22-scaled.jpg
END:VEVENT
BEGIN:VEVENT
DTSTART;TZID=Europe/Dublin:20231011T183000
DTEND;TZID=Europe/Dublin:20231011T213000
DTSTAMP:20260422T100818
CREATED:20230509T132412Z
LAST-MODIFIED:20230927T135215Z
UID:2950-1697049000-1697059800@www.meathsports.ie
SUMMARY:Safeguarding 1 Basic Awareness in Child Protection Workshop (FULLY BOOKED)
DESCRIPTION:Meath Local Sports Partnership offers a 3-hour basic awareness workshop for leaders within sports clubs/organisations. \n\nThe workshop will highlight the main principles of the Code and look at measures that clubs can take to create and maintain the safest possible environment for sport for young people.\nAs well as undertaking child protection training\, all clubs are encouraged to adopt child protection policies and procedures as outlined in the Code of Ethics and Good Practice for Children’s Sport.\n\nParticipants attending Safeguarding 1 Basic Awareness workshop must be over 18 years of age to attend. \nThe cost of the course is €20 if you are in a club in Meath and €30 if you are in a club outside of Meath. \nTo put your name on the cancellation list\, please email mlsp@meathcoco.ie or call 0469067887 to check availability of spaces. \nAs demand for places is high\, please make every effort to give enough notice of cancellation. Please note that there are no refunds if you fail to attend on the night.
URL:https://www.meathsports.ie/event/safeguarding-1-basic-awareness-in-child-protection-workshop-30/
LOCATION:Zoom Online
CATEGORIES:Courses / Workshops
ATTACH;FMTTYPE=image/jpeg:https://www.meathsports.ie/wp-content/uploads/2021/11/Code-of-Ethics-Children-New.jpg
END:VEVENT
BEGIN:VEVENT
DTSTART;TZID=Europe/Dublin:20231017T183000
DTEND;TZID=Europe/Dublin:20231017T213000
DTSTAMP:20260422T100818
CREATED:20230908T133800Z
LAST-MODIFIED:20230908T134005Z
UID:3352-1697567400-1697578200@www.meathsports.ie
SUMMARY:Physical Literacy
DESCRIPTION:Physical Literacy: \nPhysical literacy is the foundation for lifelong involvement in physical activity. \nSport Ireland Coaching has developed a course to give participants the opportunity to develop their knowledge and understanding of physical literacy. \nThe workshop which will enable participants to: \n\nOutline the origins\, definition\, elements\, relationship between the elements and importance of physical literacy\nExplain whether individuals can be described as ‘physically literate’ and whether physical literacy can be assessed\n\nCost: €10 \nTime: 6:30-9:30pm \nDate: Tuesday October 17th \nRegister: https://eventmaster.ie/event/vGpDIPoSb4
URL:https://www.meathsports.ie/event/physical-literacy-2/
LOCATION:Zoom Online
ATTACH;FMTTYPE=image/jpeg:https://www.meathsports.ie/wp-content/uploads/2022/11/Phys-lit-poster-snip.jpg
END:VEVENT
BEGIN:VEVENT
DTSTART;TZID=Europe/Dublin:20231017T190000
DTEND;TZID=Europe/Dublin:20231017T203000
DTSTAMP:20260422T100818
CREATED:20230918T143432Z
LAST-MODIFIED:20230918T143432Z
UID:3398-1697569200-1697574600@www.meathsports.ie
SUMMARY:Sports Inclusion & Disability Awareness Online Workshop
DESCRIPTION:Meath LSP in conjunction with Cavan Sports Partnership are delighted to announce we will be hosting a sports Inclusion and Disability Awareness Webinar.\nThis is a FREE webinar will be delivered Online and is aimed at people who are interested in taking the first step in making their activities inclusive. \nDate: Tuesday October 17th\nTime: 7:00pm-8:30pm\nVenue: Zoom\nCost: Free \nFor more information please contact Sports Inclusion Disability Office Terry Donegan on\n0469067887 or email tdonegan@meathcoco.ie \n 
URL:https://www.meathsports.ie/event/sports-inclusion-disability-awareness-online-workshop/
LOCATION:Zoom Online
CATEGORIES:Inclusive Programmes / Events
ATTACH;FMTTYPE=image/png:https://www.meathsports.ie/wp-content/uploads/2023/09/download.png
END:VEVENT
BEGIN:VEVENT
DTSTART;TZID=Europe/Dublin:20231019T183000
DTEND;TZID=Europe/Dublin:20231019T213000
DTSTAMP:20260422T100818
CREATED:20230509T133903Z
LAST-MODIFIED:20230927T135348Z
UID:2960-1697740200-1697751000@www.meathsports.ie
SUMMARY:Safeguarding 2 Club Children's Officer (CCO) Workshop
DESCRIPTION:Recommendations from Sport Ireland are that every club involved with children and young people should appoint a Club Children’s Officer. This person should be child centered in focus and should have as their primary aim the establishment of a child centered ethos within the club. They are the link between the children and the adults in the club and also take responsibility for monitoring and reporting to the Club Management Committee on how club policy etc. impacts on children and their Sports Leaders. \nThe Club Children’s Officer should have the following functions: \n\nTo promote awareness of the Code of Ethics and Good Practice for Children’s Sport in Ireland within the club and particularly among the children and their parents/guardians. This could be achieved by the production of information leaflets\, the establishment of children’s/age-group specific notice boards and by regular information meetings for the children and their parents/guardians.\nTo influence policy and practice within the club in order to prioritise children’s needs.\nTo provide an accessible resource to children through the creation of forums.\n\nIt is essential that those who wish to attend the Safeguarding 2 Club Children’s Officer (CCO) Training have attended the Safeguarding 1 Awareness/Child Protection Training workshop. \nIt is recommended to have at least one Club Children’s Officer per club or if there is a large number of both boys and girls in the club\, to have two Club Children’s Officers – one male and one female. \nCost: The cost for this course is €20 per person for clubs in Meath\, for participants outside Meath the cost is €30 per person. \nHow to book: To book a place on this course please call Trish on 0469067887 or email mlsp@meathcoco.ie to check availability of spaces. \n*A laptop/ipad/smart phone along with a good internet connection is required for this course. \nAs demand for places is high\, please make every effort to give enough notice of cancellation. Please note that there are no refunds if you fail to attend on the night.
URL:https://www.meathsports.ie/event/safeguarding-2-club-childrens-officer-cco-workshop-8/
LOCATION:Zoom Online
CATEGORIES:Courses / Workshops
ATTACH;FMTTYPE=image/jpeg:https://www.meathsports.ie/wp-content/uploads/2021/11/Code-of-Ethics-Children-New.jpg
END:VEVENT
BEGIN:VEVENT
DTSTART;TZID=Europe/Dublin:20231023T183000
DTEND;TZID=Europe/Dublin:20231023T213000
DTSTAMP:20260422T100818
CREATED:20230509T132744Z
LAST-MODIFIED:20231004T092616Z
UID:2952-1698085800-1698096600@www.meathsports.ie
SUMMARY:Safeguarding 1 Basic Awareness in Child Protection Workshop (FULLY BOOKED)
DESCRIPTION:Meath Local Sports Partnership offers a 3-hour basic awareness workshop for leaders within sports clubs/organisations. \n\nThe workshop will highlight the main principles of the Code and look at measures that clubs can take to create and maintain the safest possible environment for sport for young people.\nAs well as undertaking child protection training\, all clubs are encouraged to adopt child protection policies and procedures as outlined in the Code of Ethics and Good Practice for Children’s Sport.\n\nParticipants attending Safeguarding 1 Basic Awareness workshop must be over 18 years of age to attend. \nThe cost of the course is €20 if you are in a club in Meath and €30 if you are in a club outside of Meath. \nTo put your name on the cancellation list\, please email mlsp@meathcoco.ie or call 0469067887 to check availability of spaces. \nAs demand for places is high\, please make every effort to give enough notice of cancellation. Please note that there are no refunds if you fail to attend on the night.
URL:https://www.meathsports.ie/event/safeguarding-1-basic-awareness-in-child-protection-workshop-31/
LOCATION:Zoom Online
CATEGORIES:Courses / Workshops
ATTACH;FMTTYPE=image/jpeg:https://www.meathsports.ie/wp-content/uploads/2021/11/Code-of-Ethics-Children-New.jpg
END:VEVENT
BEGIN:VEVENT
DTSTART;TZID=Europe/Dublin:20231024T183000
DTEND;TZID=Europe/Dublin:20231121T213000
DTSTAMP:20260422T100818
CREATED:20230908T133543Z
LAST-MODIFIED:20230908T133543Z
UID:3350-1698172200-1700602200@www.meathsports.ie
SUMMARY:Coaching Children
DESCRIPTION:Coaching Children: \nSport Ireland Coaching have developed 4 modules\, specifically to  provide candidates with a basic understanding of children’s sport and physical activity and best ways to optimise children’s enjoyment\, participation and positive outcomes. The concepts of Physical Literacy and Holistic Development run throughout the series of workshops and will be covered in detail. \n  \nSport Ireland Coaching sees these workshops as the first stage of development and hope we can build on these workshops to develop a comprehensive education system for all those involved in children’s \nThis series is a set of four online workshops of 3 hours each. \n\nWorkshop 1: Coaching Children Successfully in Sport\nWorkshop 2: Child-Centred Coaching – Understanding Child Development & Learning and its Impact on How We Coach.\nWorkshop 3: Developing Physical Literacy through Sport 1 – Coaching Children to Move.\nWorkshop 4: Developing Physical Literacy through Sport 2 – Coaching Children to Think.\n\nCost: €30 \nTime: 6:30-9:30pm \nDates: Tuesday October 24th\, November 7th\, November 14th\, November 21st \n  \nRegister: https://eventmaster.ie/event/w7yRcPySRQ
URL:https://www.meathsports.ie/event/coaching-children/
LOCATION:Zoom Online
ATTACH;FMTTYPE=image/jpeg:https://www.meathsports.ie/wp-content/uploads/2022/10/Coaching-Children-poster-snip.jpg
END:VEVENT
END:VCALENDAR