BEGIN:VCALENDAR
VERSION:2.0
PRODID:-//Meath Sports - ECPv6.12.0.1//NONSGML v1.0//EN
CALSCALE:GREGORIAN
METHOD:PUBLISH
X-WR-CALNAME:Meath Sports
X-ORIGINAL-URL:https://www.meathsports.ie
X-WR-CALDESC:Events for Meath Sports
REFRESH-INTERVAL;VALUE=DURATION:PT1H
X-Robots-Tag:noindex
X-PUBLISHED-TTL:PT1H
BEGIN:VTIMEZONE
TZID:Europe/Dublin
BEGIN:STANDARD
TZOFFSETFROM:+0000
TZOFFSETTO:+0100
TZNAME:IST
DTSTART:20230326T010000
END:STANDARD
BEGIN:DAYLIGHT
TZOFFSETFROM:+0100
TZOFFSETTO:+0000
TZNAME:GMT
DTSTART:20231029T010000
END:DAYLIGHT
END:VTIMEZONE
BEGIN:VEVENT
DTSTART;TZID=Europe/Dublin:20230619T193000
DTEND;TZID=Europe/Dublin:20230724T200000
DTSTAMP:20260422T154340
CREATED:20230619T082221Z
LAST-MODIFIED:20230619T082838Z
UID:3050-1687203000-1690228800@www.meathsports.ie
SUMMARY:Aqua Aerobics for Women - Oldcastle
DESCRIPTION:Aqua Aerobics for Women – Oldcastle pop up pool \nAqua Aerobics classes are a great way to mix up your normal exercise routine. It’s a great cardiovascular workout\, helping to improve heart health and strengthen muscle. The routines are fun and energetic and it takes only a few aqua aerobics sessions to see a big difference in your overall fitness. \nTop Benefits of Aqua \n\nWater supports the body\, less stress on joints and muscles\nUsing water as a resistance helps builds strength & conditioning\nWater pressure puts less strain on your heart by moving blood around the body\nAqua Aerobics is great fun and an easy way to exercise and keep fit\n\nAqua aerobics is fun and suitable for everyone regardless of age and fitness levels. \nVenue: Oldcastle pop up pool \nDate: Monday 19th June                     \nTime: 7.30pm \nCost: €20 \nRegistration:   https://eventmaster.ie/event/pM0JcvyTyo
URL:https://www.meathsports.ie/event/aqua-aerobics-for-women-oldcastle/
LOCATION:Co. Meath
ATTACH;FMTTYPE=image/jpeg:https://www.meathsports.ie/wp-content/uploads/2023/04/Swimmin-Women.jpg
END:VEVENT
BEGIN:VEVENT
DTSTART;TZID=Europe/Dublin:20230704T100000
DTEND;TZID=Europe/Dublin:20230808T103000
DTSTAMP:20260422T154340
CREATED:20230619T081841Z
LAST-MODIFIED:20230619T083029Z
UID:3046-1688464800-1691490600@www.meathsports.ie
SUMMARY:Parent & Toddler Swim Programme - Oldcastle
DESCRIPTION:Parent & Toddler (12mths – 3 years) \nMeath LSP are collaborating with Swim Ireland to bring a new Parent & Toddler swim programme for parent and children (12mths – 3yrs). The Parent & Toddler Swim programme is a fantastic way for parents to introduce their young children to water in a supportive environment. The coach led initiative will demonstrate a wide variety of techniques to help your child be comfortable in the water and introduce them to an essential life skill. The 6-week programme will allow you and your child to: \n\nBecome familiar and comfortable with water\nPractice safe entries and exits in and out of the pool\nSupport your baby to float with ease\nEnjoy fun\, messy and creative play time with toys and aids\nHelp your young child to enjoy the feeling of water on their face\n\n2 x 6-week programmes available: \nVenue : Oldcastle pop up pool \nProgramme: Parent & Toddler Tuesdays & Thursdays \nCost: €20 for 6-weeks \n\nProgramme 1\nStart Date: Tuesday 4th July @ 10am\nTime: 10am\nDuration: 6-weeks\nRegistration:  https://eventmaster.ie/event/GGOAtkKtpd \nProgramme 2\nStart Date: Thursday 6th July @ 10am\nTime: 10am\nDuration: 6-weeks\nRegistration:    https://eventmaster.ie/event/L360Ip3H76  
URL:https://www.meathsports.ie/event/parent-toddler-swim-programme-oldcastle/
LOCATION:Co. Meath
ATTACH;FMTTYPE=image/jpeg:https://www.meathsports.ie/wp-content/uploads/2023/04/Parent-Toddler-image.jpg
END:VEVENT
BEGIN:VEVENT
DTSTART;TZID=Europe/Dublin:20230704T180000
DTEND;TZID=Europe/Dublin:20230704T200000
DTSTAMP:20260422T154340
CREATED:20230629T090103Z
LAST-MODIFIED:20230629T090103Z
UID:3100-1688493600-1688500800@www.meathsports.ie
SUMMARY:National Play Day
DESCRIPTION:The National Play Day 2023 initiative in Meath will be delivered through fun days for families. \nFamilies can attend their local amenity (park\, beach\, etc) and take part in two different activities – Kite Flying & Orienteering/ Scavenger hunt. \nPlease check out the web page below for the timetable and details of your local activity and how to register. \n  \nhttps://meathsports.ie/news/national-play-day-2023/ \n\n\n\nVenue\nDate\nTime\nRegister\n\n\nNavan\, Blackwater Park\nTuesday 4th July\n6:00-8:00pm\nhttps://eventmaster.ie/event/9bMMcw5HWJ\n\n\nTrim\, Porchfields\nWednesday 5th July\n6:00-8:00pm\nhttps://eventmaster.ie/event/bLrBf9AHjr\n\n\nKells\, Spire of Lloyd\nThursday 6th July\n6:00-8:00pm\nhttps://eventmaster.ie/event/zoqpiPYSQJ  \n \n\n\nLaytown\, Seafield dunes & Corballis bay beach\nSaturday 8th July\n10:00am – 12:00pm\nhttps://eventmaster.ie/event/DdMAFmAcJr\n\n\n\n 
URL:https://www.meathsports.ie/event/national-play-day/
LOCATION:Blackwater Park\, Ratholdren Rd\, Navan\, Ireland
ATTACH;FMTTYPE=image/jpeg:https://www.meathsports.ie/wp-content/uploads/2023/06/20210704_153446-002-scaled.jpg
END:VEVENT
BEGIN:VEVENT
DTSTART;TZID=Europe/Dublin:20230705T180000
DTEND;TZID=Europe/Dublin:20230705T200000
DTSTAMP:20260422T154340
CREATED:20230615T132133Z
LAST-MODIFIED:20230619T103738Z
UID:3010-1688580000-1688587200@www.meathsports.ie
SUMMARY:Orienteering Carlanstown
DESCRIPTION:Orienteering is a fantastic outdoor activity that combines running/walking with navigation (traditionally using a map and compass). Participants use their speed and coordination to locate a number of flags located around a course in the shortest time possible. \nThere is both a short and long course available which can both be completed as fast as possible or in your own time.\nSuitable for all the family! Entry for these come n try sessions are FREE! \nMeath LSP in collaboration with Irish Orienteering have mapped out the following areas:\n• Deerpark\, Carlanstown – Wednesday 5th July at 6- 8pm. \nRegister at: https://eventmaster.ie/event/0RJpHzqsA1 \nFor more information please contact Luke on luke.condie@meathcoco.ie
URL:https://www.meathsports.ie/event/orienteering/
LOCATION:Co. Meath
CATEGORIES:Programmes / Events
ATTACH;FMTTYPE=image/jpeg:https://www.meathsports.ie/wp-content/uploads/2023/03/Girls-at-flag-2-scaled.jpg
END:VEVENT
BEGIN:VEVENT
DTSTART;TZID=Europe/Dublin:20230708T110000
DTEND;TZID=Europe/Dublin:20230708T130000
DTSTAMP:20260422T154340
CREATED:20230629T082926Z
LAST-MODIFIED:20230629T082926Z
UID:3093-1688814000-1688821200@www.meathsports.ie
SUMMARY:Family Multi-Sport Activities
DESCRIPTION:Family Multi-Sport Activities is a fun programme where parents/ guardians and children can take part in a variety of fun activities together. This programme returns over the summer months with more tasters in Orienteering\, Adventure walk App\, Cricket\, Rounders\, Fun Games & much more. \nRegistration is free\, and you can register your family for one or more activities. Please note children must be 5 years or over to participate. \n  \nDates: \n\nSaturday 8th July 11am\nTuesday 18th July 7pm\nSaturday 5th August 11am\nTuesday 15th August 7pm\n\nRegistration is available here: https://eventmaster.ie/event/ZbxMcMWcZY
URL:https://www.meathsports.ie/event/family-multi-sport-activities/
LOCATION:Blackwater Park\, Ratholdren Rd\, Navan\, Ireland
CATEGORIES:Programmes / Events
ATTACH;FMTTYPE=image/jpeg:https://www.meathsports.ie/wp-content/uploads/2023/06/Family-Multi-Sport-obstacle.jpg
END:VEVENT
BEGIN:VEVENT
DTSTART;TZID=Europe/Dublin:20230712T110000
DTEND;TZID=Europe/Dublin:20230712T160000
DTSTAMP:20260422T154340
CREATED:20230615T085243Z
LAST-MODIFIED:20230615T114239Z
UID:3002-1689159600-1689177600@www.meathsports.ie
SUMMARY:Games on the Beach Bettystown
DESCRIPTION:Get the sunscreen ready as Games on the Beach returns once again to Bettystown on Wednesday 12th July! \nThis Games on the Beach programme will include a wide range of exciting new games and sporting initiatives for children and teenagers. We may even have a few activities for parents!! \nWe are delighted once again to be working with Foroige\, East Coast Family Resource Centre\, Volleyball Ireland and Irish Olympic Handball Association in what should be a highly entertaining day! \nWe are organizing two sessions: \n\n11am – 1pm (Children 8-12yrs)\n2pm – 4pm (Teens 13-17yrs)\n\nEach session will comprise of 3 activities: \n\nBeach Handball with Irish Olympic Handball Association\nRounders with our qualified Tutors\nBeach Volleyball with Volleyball Ireland\n\nRegistration is €5 per person – places are limited so early booking is advised. \nRegister at: https://eventmaster.ie/event/5dLySQvsEz \nFor more information contact luke.condie@meathcoco.ie
URL:https://www.meathsports.ie/event/games-of-the-beach/
LOCATION:Bettystown Beach
CATEGORIES:Events
ATTACH;FMTTYPE=image/jpeg:https://www.meathsports.ie/wp-content/uploads/2022/07/Games-on-beach.jpg
END:VEVENT
BEGIN:VEVENT
DTSTART;TZID=Europe/Dublin:20230719T180000
DTEND;TZID=Europe/Dublin:20230719T200000
DTSTAMP:20260422T154340
CREATED:20230615T133005Z
LAST-MODIFIED:20230619T103927Z
UID:3018-1689789600-1689796800@www.meathsports.ie
SUMMARY:Orienteering Seafield / Laytown
DESCRIPTION:Orienteering is a fantastic outdoor activity that combines running/walking with navigation (traditionally using a map and compass). Participants use their speed and coordination to locate a number of flags located around a course in the shortest time possible. \nThere is both a short and long course available which can both be completed as fast as possible or in your own time.\nSuitable for all the family! Entry for these come n try sessions are FREE! \nMeath LSP in collaboration with Irish Orienteering have mapped out the following areas:\n• Laytown/Seafield Beach – Wednesday 19th July at 6- 8pm. \nRegister at: https://eventmaster.ie/event/8BJ6T7qTV1 \nFor more information please contact Luke on luke.condie@meathcoco.ie
URL:https://www.meathsports.ie/event/orienteering-seafield-laytown/
LOCATION:Co. Meath
ATTACH;FMTTYPE=image/jpeg:https://www.meathsports.ie/wp-content/uploads/2023/02/girls-at-flag-scaled.jpg
END:VEVENT
BEGIN:VEVENT
DTSTART;TZID=Europe/Dublin:20230725T100000
DTEND;TZID=Europe/Dublin:20230727T120000
DTSTAMP:20260422T154340
CREATED:20230629T085150Z
LAST-MODIFIED:20230629T085150Z
UID:3097-1690279200-1690459200@www.meathsports.ie
SUMMARY:Community Sports Hub Navan – Summer Camp
DESCRIPTION:The Community Sports Hub Navan runs a range of Multi-Sport Summer camps. These comprise of a variety of sports including Cricket\, Rounders\, Tag Rugby\, Soccer\, GAA\, Olympic Handball\, Badminton\, Basketball\, Fun Games and much more. \nThe camps are run by qualified and experienced coaches and are completely free of charge. \nCamps are for children aged 5-12 years and pre-registration is mandatory. \nDates: \nClaremont Stadium: Tuesday 11th\, Wednesday 12th & Thursday 13th July \nBlackwater Park: Tuesday 25th\, Wednesday 26th & Thursday 27th July \nBoth 10am – 12pm \nRegister here: \nClaremont Stadium: SOLD OUT \nBlackwater Park: https://eventmaster.ie/event/Aw64IjlIlv
URL:https://www.meathsports.ie/event/community-sports-hub-navan-summer-camp/
LOCATION:Blackwater Park\, Ratholdren Rd\, Navan\, Ireland
CATEGORIES:Programmes / Events
ATTACH;FMTTYPE=image/jpeg:https://www.meathsports.ie/wp-content/uploads/2023/06/Ball-collect-game-at-summer-camp-scaled.jpg
END:VEVENT
END:VCALENDAR