BEGIN:VCALENDAR
VERSION:2.0
PRODID:-//Meath Sports - ECPv6.12.0.1//NONSGML v1.0//EN
CALSCALE:GREGORIAN
METHOD:PUBLISH
X-WR-CALNAME:Meath Sports
X-ORIGINAL-URL:https://www.meathsports.ie
X-WR-CALDESC:Events for Meath Sports
REFRESH-INTERVAL;VALUE=DURATION:PT1H
X-Robots-Tag:noindex
X-PUBLISHED-TTL:PT1H
BEGIN:VTIMEZONE
TZID:Europe/Dublin
BEGIN:STANDARD
TZOFFSETFROM:+0000
TZOFFSETTO:+0100
TZNAME:IST
DTSTART:20230326T010000
END:STANDARD
BEGIN:DAYLIGHT
TZOFFSETFROM:+0100
TZOFFSETTO:+0000
TZNAME:GMT
DTSTART:20231029T010000
END:DAYLIGHT
END:VTIMEZONE
BEGIN:VEVENT
DTSTART;TZID=Europe/Dublin:20230302T070000
DTEND;TZID=Europe/Dublin:20230601T200000
DTSTAMP:20260423T135749
CREATED:20221103T110303Z
LAST-MODIFIED:20230302T102249Z
UID:2323-1677740400-1685649600@www.meathsports.ie
SUMMARY:Socia-Ball for Women
DESCRIPTION:Socia-Ball is the new social basketball programme for women with the main emphasis on participation\, fun and fitness. In a fun and social setting\, women will have the opportunity to learn the key basketball skills and play in a supportive environment without the pressure of competition. The 6-week programme is aimed towards complete beginners and also those who may have previous experience. It is inclusive of all ages and fitness levels and will be delivered by qualified coaches. This is an ideal opportunity to try a new sport or revisit a sport that you previously enjoyed. Cost: €20 for six-week – places are limited so early booking is advised. \n\n\n\n\n\n\n\n\n\n\n\n Venues/Times and Registration Links below. \n\nAshbourne Community School    Wed 22nd February @ 7pm    Register Here\nAthboy Community Centre           Tuesday 7th March @ 7pm      Register Here
URL:https://www.meathsports.ie/event/socia-ball-for-women/
LOCATION:Ashbourne Community School\, Ashbourne\, Meath\, Meath\, Ireland
CATEGORIES:Programmes / Events
ATTACH;FMTTYPE=image/jpeg:https://www.meathsports.ie/wp-content/uploads/2022/11/skryne-game-4-scaled.jpg
END:VEVENT
BEGIN:VEVENT
DTSTART;TZID=Europe/Dublin:20230302T080000
DTEND;TZID=Europe/Dublin:20230602T190000
DTSTAMP:20260423T135749
CREATED:20230302T101330Z
LAST-MODIFIED:20230302T101458Z
UID:2709-1677744000-1685732400@www.meathsports.ie
SUMMARY:Youth Social Basketball (10-15yrs)
DESCRIPTION:Social Basketball for Youth is available for young people aged 10-15yrs. This programme is suitable for complete beginners or those who wish engage or re-engage playing basketball in a non-competitive environment. Youth Basketball programmes will continue in Athboy\, Ashbourne and Dunboyne in 2023 – days/times and registration details are below. Places are limited so early booking is advised. \nAthboy Community Centre            Tuesdays   @ 6pm        Register Here \nDunboyne Community Centre      Tuesdays   @ 5pm          Register Here \nAshbourne Community School    Wednesdays @   5.45pm    Register Here
URL:https://www.meathsports.ie/event/youth-social-basketball-10-15yrs/
LOCATION:Co. Meath
ATTACH;FMTTYPE=image/jpeg:https://www.meathsports.ie/wp-content/uploads/2023/03/Group-Ashbourne-Nov-scaled.jpg
END:VEVENT
BEGIN:VEVENT
DTSTART;TZID=Europe/Dublin:20230515T160000
DTEND;TZID=Europe/Dublin:20230626T180000
DTSTAMP:20260423T135749
CREATED:20230425T143955Z
LAST-MODIFIED:20230425T145448Z
UID:2907-1684166400-1687802400@www.meathsports.ie
SUMMARY:Community Sports Hub - Olympic handball
DESCRIPTION:Come + Try Olympic handball. Handball is a team sport in which two teams of seven players each pass a ball using their hands with the aim of throwing it into the goal of the opposing team. \nRegister HERE \n 
URL:https://www.meathsports.ie/event/olympic-handball/
LOCATION:St. Stephens NS\, Johnstown\, Navan\, Meath\, Ireland
CATEGORIES:Programmes / Events
ATTACH;FMTTYPE=image/jpeg:https://www.meathsports.ie/wp-content/uploads/2023/04/Throwing-scaled.jpg
END:VEVENT
BEGIN:VEVENT
DTSTART;TZID=Europe/Dublin:20230516T163000
DTEND;TZID=Europe/Dublin:20230620T183000
DTSTAMP:20260423T135749
CREATED:20230425T150247Z
LAST-MODIFIED:20230425T150247Z
UID:2915-1684254600-1687285800@www.meathsports.ie
SUMMARY:Community Sports Hub - Hockey
DESCRIPTION:Come and try fun Hockey sessions – a mixture of indoor unihoc and outdoor field hockey \n  \nRegister HERE
URL:https://www.meathsports.ie/event/community-sports-hub-hockey/
LOCATION:Scoil Naomh Eoin\, Windtown\, Navan\, Ireland
CATEGORIES:Programmes / Events
ATTACH;FMTTYPE=image/jpeg:https://www.meathsports.ie/wp-content/uploads/2023/04/Dribbling-game.jpg
END:VEVENT
BEGIN:VEVENT
DTSTART;TZID=Europe/Dublin:20230518T170000
DTEND;TZID=Europe/Dublin:20230622T180000
DTSTAMP:20260423T135749
CREATED:20230425T151552Z
LAST-MODIFIED:20230425T151552Z
UID:2919-1684429200-1687456800@www.meathsports.ie
SUMMARY:Community Sports Hub - Pickleball
DESCRIPTION:Pickleball is an indoor or outdoor racket/paddle sport where two players\, or four players\, hit a hollow plastic ball over a net using solid-faced paddles. Opponents on either side of the net hit the ball back and forth until one side commits a rule infraction. A fun sport that combines many elements of Tennis\, Badminton and Ping-Pong. \nRegister HERE
URL:https://www.meathsports.ie/event/community-sports-hub-pickleball-2/
LOCATION:Claremont Stadium\, Commons Rd\, Navan\, Meath\, Ireland
ATTACH;FMTTYPE=image/jpeg:https://www.meathsports.ie/wp-content/uploads/2023/04/Pickleball-Week-1-.jpg
END:VEVENT
BEGIN:VEVENT
DTSTART;TZID=Europe/Dublin:20230608T183000
DTEND;TZID=Europe/Dublin:20230608T213000
DTSTAMP:20260423T135749
CREATED:20221028T142820Z
LAST-MODIFIED:20230522T152005Z
UID:2273-1686249000-1686259800@www.meathsports.ie
SUMMARY:Safeguarding 1 Basic Awareness in Child Protection Course (FULLY BOOKED)
DESCRIPTION:Meath Local Sports Partnership offers a 3-hour basic awareness workshop for leaders within sports clubs/organisations. \n\nThe workshop will highlight the main principles of the Code and look at measures that clubs can take to create and maintain the safest possible environment for sport for young people.\nAs well as undertaking child protection training\, all clubs are encouraged to adopt child protection policies and procedures as outlined in the Code of Ethics and Good Practice for Children’s Sport.\n\nParticipants attending Safeguarding 1 Basic Awareness workshop must be over 18 years of age to attend. \nThe cost of the course is €20 if you are in a club in Meath and €30 if you are in a club outside of Meath. \nThis course is now full. To put your name on the cancellation list\, please email lynn.oreilly@meathcoco.ie or call 0469067887 \nAs demand for places is high\, please make every effort to give enough notice of cancellation. Please note that there are no refunds if you fail to attend on the night.
URL:https://www.meathsports.ie/event/safeguarding-1-basic-awareness-in-child-protection-course-2/
LOCATION:Zoom Online
CATEGORIES:Courses / Workshops
ATTACH;FMTTYPE=image/jpeg:https://www.meathsports.ie/wp-content/uploads/2021/11/Code-of-Ethics-Children-New.jpg
END:VEVENT
BEGIN:VEVENT
DTSTART;TZID=Europe/Dublin:20230619T193000
DTEND;TZID=Europe/Dublin:20230724T200000
DTSTAMP:20260423T135749
CREATED:20230619T082221Z
LAST-MODIFIED:20230619T082838Z
UID:3050-1687203000-1690228800@www.meathsports.ie
SUMMARY:Aqua Aerobics for Women - Oldcastle
DESCRIPTION:Aqua Aerobics for Women – Oldcastle pop up pool \nAqua Aerobics classes are a great way to mix up your normal exercise routine. It’s a great cardiovascular workout\, helping to improve heart health and strengthen muscle. The routines are fun and energetic and it takes only a few aqua aerobics sessions to see a big difference in your overall fitness. \nTop Benefits of Aqua \n\nWater supports the body\, less stress on joints and muscles\nUsing water as a resistance helps builds strength & conditioning\nWater pressure puts less strain on your heart by moving blood around the body\nAqua Aerobics is great fun and an easy way to exercise and keep fit\n\nAqua aerobics is fun and suitable for everyone regardless of age and fitness levels. \nVenue: Oldcastle pop up pool \nDate: Monday 19th June                     \nTime: 7.30pm \nCost: €20 \nRegistration:   https://eventmaster.ie/event/pM0JcvyTyo
URL:https://www.meathsports.ie/event/aqua-aerobics-for-women-oldcastle/
LOCATION:Co. Meath
ATTACH;FMTTYPE=image/jpeg:https://www.meathsports.ie/wp-content/uploads/2023/04/Swimmin-Women.jpg
END:VEVENT
END:VCALENDAR