BEGIN:VCALENDAR
VERSION:2.0
PRODID:-//Meath Sports - ECPv6.12.0.1//NONSGML v1.0//EN
CALSCALE:GREGORIAN
METHOD:PUBLISH
X-WR-CALNAME:Meath Sports
X-ORIGINAL-URL:https://www.meathsports.ie
X-WR-CALDESC:Events for Meath Sports
REFRESH-INTERVAL;VALUE=DURATION:PT1H
X-Robots-Tag:noindex
X-PUBLISHED-TTL:PT1H
BEGIN:VTIMEZONE
TZID:Europe/Dublin
BEGIN:STANDARD
TZOFFSETFROM:+0000
TZOFFSETTO:+0100
TZNAME:IST
DTSTART:20230326T010000
END:STANDARD
BEGIN:DAYLIGHT
TZOFFSETFROM:+0100
TZOFFSETTO:+0000
TZNAME:GMT
DTSTART:20231029T010000
END:DAYLIGHT
END:VTIMEZONE
BEGIN:VEVENT
DTSTART;TZID=Europe/Dublin:20230221T163000
DTEND;TZID=Europe/Dublin:20230328T183000
DTSTAMP:20260423T193309
CREATED:20230221T160856Z
LAST-MODIFIED:20230221T161027Z
UID:2669-1676997000-1680028200@www.meathsports.ie
SUMMARY:Community Sport Hub Hockey
DESCRIPTION:New 6 week Hockey programme\n\n\nThis fun Hockey programme guided by qualified coaches will cover all the basics of both Field Hockey & Indoor Hockey.\n\n\n\n Date: Tuesday 21st February\n Location: Scoil Naomh Eoin\n Time: 6-9 year olds 4:30- 5:40pm\, 9-12 year olds 5:30-6:30pm.\n\n Register: https://bit.ly/3YzRoTb\n\n\nRegistration is mandatory for all programmes & must be completed before attending.
URL:https://www.meathsports.ie/event/community-sport-hub-hockey/
LOCATION:Scoil Naomh Eoin\, Windtown\, Navan\, Ireland
ATTACH;FMTTYPE=image/jpeg:https://www.meathsports.ie/wp-content/uploads/2023/02/CSH-Hockey-Feb-2023-.jpg
END:VEVENT
BEGIN:VEVENT
DTSTART;TZID=Europe/Dublin:20230221T170000
DTEND;TZID=Europe/Dublin:20230331T180000
DTSTAMP:20260423T193309
CREATED:20230221T155254Z
LAST-MODIFIED:20230221T161118Z
UID:2665-1676998800-1680285600@www.meathsports.ie
SUMMARY:Community Sports Hub Pickleball
DESCRIPTION:Pickleball is a mixture of Tennis\, Table-Tennis\, and Badminton. Pickleball is played in doubles indoors or outdoors\, the net is lower and court smaller then a Tennis Court. Pickleball is great fun and suitable for all abilities. \n Date: Thursday 23rd February\nVenue: Claremont Stadium Navan\n Age: 9-12 years\n Time: 5-6pm\nRegistration is mandatory for all programmes & must be completed in advance of attending. \nRegister: https://bit.ly/3vbaKQZ
URL:https://www.meathsports.ie/event/community-sports-hub-pickleball/
LOCATION:Claremont Stadium\, Commons Rd\, Navan\, Meath\, Ireland
ATTACH;FMTTYPE=image/jpeg:https://www.meathsports.ie/wp-content/uploads/2023/02/CSH-Pickleball-Feb-23.jpg
END:VEVENT
BEGIN:VEVENT
DTSTART;TZID=Europe/Dublin:20230302T000000
DTEND;TZID=Europe/Dublin:20230327T000000
DTSTAMP:20260423T193309
CREATED:20230302T092109Z
LAST-MODIFIED:20230302T092109Z
UID:2690-1677715200-1679875200@www.meathsports.ie
SUMMARY:Social Running (0-3k & 3-5k) Programmes
DESCRIPTION:Meath LSP are delighted once again to collaborate with local athletic clubs to roll out a 6-week Social Running Programme. These 0-3k & 3-5k social running programmes are now available in 6 areas Navan\, Trim\, Tara and Enfield and also two new locations: Carlanstown\, Kells and Bettystown. \nThe 0-3k (Walk to Jog) is suitable for complete beginners and supports those to go from walking to jogging with relative ease.  The structured programme is available for anyone who wants to increase their daily activity and is suitable for people of all ages (18+) and fitness levels. The 3-5k – Jog to Run is ideal for those who would like to improve running fitness and increase their pace & distance. This programme suits those who have already completed a 0-3k or have previous running experience. \nAll coaching sessions are delivered by qualified club coaches who are experienced runners and are on hand to guide and support everyone taking part. The athletic clubs hosting the Social Running Programmes are Navan AC\, Tara AC\, Trim AC\, Kells AC\, Na Fianna AC (Enfield) and Cilles AC in Bettystown.  \nThe duration of each programme is 6-week and cost is €20. \nPlease see details below with Registration Links: \nTara (Ross Cross)                     Monday 13th March @ 6.30pm  https://eventmaster.ie/event/JBxlipvHRk \nTrim (meeting at Supermacs)   Monday 13th March @ 7pm        https://eventmaster.ie/event/pMOLfvyTyo \nNavan (Claremont)                   Monday 13th March @ 7pm        https://eventmaster.ie/event/y5rAcP0SVy \nEnfield (Enfield GAA)               Monday 13th March @ 7pm        https://eventmaster.ie/event/6x7jIEpT5G \nCarlanstown (Deerpark)           Monday 13th March @ 7pm        https://eventmaster.ie/event/2Gzdu2qc0z \nBettystown (Tesco Carpark)     Tuesday 14th March @ 7.30pm  https://eventmaster.ie/event/E4x0h4EF74 \nFor further information contact Lisa at lodowd@meathcoco.ie \n 
URL:https://www.meathsports.ie/event/social-running-0-3k-3-5k-programmes/
LOCATION:Co. Meath
ATTACH;FMTTYPE=image/jpeg:https://www.meathsports.ie/wp-content/uploads/2022/11/Enfield-4.jpg
END:VEVENT
BEGIN:VEVENT
DTSTART;TZID=Europe/Dublin:20230302T070000
DTEND;TZID=Europe/Dublin:20230601T200000
DTSTAMP:20260423T193309
CREATED:20221103T110303Z
LAST-MODIFIED:20230302T102249Z
UID:2323-1677740400-1685649600@www.meathsports.ie
SUMMARY:Socia-Ball for Women
DESCRIPTION:Socia-Ball is the new social basketball programme for women with the main emphasis on participation\, fun and fitness. In a fun and social setting\, women will have the opportunity to learn the key basketball skills and play in a supportive environment without the pressure of competition. The 6-week programme is aimed towards complete beginners and also those who may have previous experience. It is inclusive of all ages and fitness levels and will be delivered by qualified coaches. This is an ideal opportunity to try a new sport or revisit a sport that you previously enjoyed. Cost: €20 for six-week – places are limited so early booking is advised. \n\n\n\n\n\n\n\n\n\n\n\n Venues/Times and Registration Links below. \n\nAshbourne Community School    Wed 22nd February @ 7pm    Register Here\nAthboy Community Centre           Tuesday 7th March @ 7pm      Register Here
URL:https://www.meathsports.ie/event/socia-ball-for-women/
LOCATION:Ashbourne Community School\, Ashbourne\, Meath\, Meath\, Ireland
CATEGORIES:Programmes / Events
ATTACH;FMTTYPE=image/jpeg:https://www.meathsports.ie/wp-content/uploads/2022/11/skryne-game-4-scaled.jpg
END:VEVENT
BEGIN:VEVENT
DTSTART;TZID=Europe/Dublin:20230302T080000
DTEND;TZID=Europe/Dublin:20230309T170000
DTSTAMP:20260423T193309
CREATED:20230302T102923Z
LAST-MODIFIED:20230302T102923Z
UID:2715-1677744000-1678381200@www.meathsports.ie
SUMMARY:Coaching Teenage Girls (workshop for coaches of Teenage Girls)
DESCRIPTION:Following the release of the Adolescent Girls Get Active Report\, Sport Ireland are happy to announce the launch of a Coaching Teenage Girls in Sport Workshop\, designed specifically to support coaches of girls aged 12-17 years of age. \nDeveloped by Sport Ireland Coaching in conjunction with the Federation of Irish Sport\, the School of Health & Human Performance Dublin City University and Lifes2Good Foundation\, the workshop is developed to enable coaches to create a positive experience of sport and physical activity for girls in their formative years and provide an environment where girls and young women can develop holistically. \nThe workshop will focus on: \n\nKeeping Teenage Girls playing sport\nThe Needs of teen girls in sport today\nMaturation\, body image & sport\nCommunication and Social skills\n\nOur next workshop takes place online \n Thursday 9th March from 6pm-9pm – Cost is €20 –  Click Here to Register
URL:https://www.meathsports.ie/event/coaching-teenage-girls-workshop-for-coaches-of-teenage-girls/
LOCATION:Co. Meath
ATTACH;FMTTYPE=image/jpeg:https://www.meathsports.ie/wp-content/uploads/2023/03/Teen-Photo-Coaching-Girls-Workshop-scaled.jpg
END:VEVENT
BEGIN:VEVENT
DTSTART;TZID=Europe/Dublin:20230302T080000
DTEND;TZID=Europe/Dublin:20230309T170000
DTSTAMP:20260423T193309
CREATED:20230302T103958Z
LAST-MODIFIED:20230302T104030Z
UID:2720-1677744000-1678381200@www.meathsports.ie
SUMMARY:Ready to GO Orienteering for Schools\, Clubs & Organisations
DESCRIPTION:READY TO GO ORIENTEERING is a new orienteering training initiative that aims to train and equip participants with the skills and ability to teach the fundamentals of the sport of orienteering. \nMeath LSP are proud to host two new  “Ready to Go Orienteering” training initiatives in Meath \nIdeally suited for Teachers\, Youth Work leaders\, School Liaison officers and Community Leaders\, the 6-hour training will equip you with the skills and ability to teach the fundamentals of orienteering to others. \nOrienteering develops many skills for children & young people including problem solving\, teamwork\, decision making and self-awareness. \nBenefits of Orienteering \n\nTime spent outdoors has shown to significantly improve people mental health and reduce stress.\nIncrease Vitamin D levels\, improving bones health.\nIncreased cardiovascular fitness\nSharpens decision making skills – develops navigation skills\nIt’s a great balance between mental and physical exertion\nBeing a part of nature has a calming influence for busy minds\n\n Ready to Go training includes \n\nTraining\nTraining Resources\nOrienteering Pack\n\nCost: €60 each \nTraining Venues/Dates/Times: \n\n\n\nNavan\nThursday 9th March \n10am – 3pm\n\n\nLaytown     \nWednesday 19th April\n10.30am – 3.30pm\n\n\n\nTo register contact: Lisa at lodowd@meathcoco.ie 
URL:https://www.meathsports.ie/event/ready-to-go-orienteering-for-schools-clubs-organisations/
LOCATION:Co. Meath
ATTACH;FMTTYPE=image/jpeg:https://www.meathsports.ie/wp-content/uploads/2023/03/Girls-at-flag-2-scaled.jpg
END:VEVENT
BEGIN:VEVENT
DTSTART;TZID=Europe/Dublin:20230302T080000
DTEND;TZID=Europe/Dublin:20230602T190000
DTSTAMP:20260423T193309
CREATED:20230302T101330Z
LAST-MODIFIED:20230302T101458Z
UID:2709-1677744000-1685732400@www.meathsports.ie
SUMMARY:Youth Social Basketball (10-15yrs)
DESCRIPTION:Social Basketball for Youth is available for young people aged 10-15yrs. This programme is suitable for complete beginners or those who wish engage or re-engage playing basketball in a non-competitive environment. Youth Basketball programmes will continue in Athboy\, Ashbourne and Dunboyne in 2023 – days/times and registration details are below. Places are limited so early booking is advised. \nAthboy Community Centre            Tuesdays   @ 6pm        Register Here \nDunboyne Community Centre      Tuesdays   @ 5pm          Register Here \nAshbourne Community School    Wednesdays @   5.45pm    Register Here
URL:https://www.meathsports.ie/event/youth-social-basketball-10-15yrs/
LOCATION:Co. Meath
ATTACH;FMTTYPE=image/jpeg:https://www.meathsports.ie/wp-content/uploads/2023/03/Group-Ashbourne-Nov-scaled.jpg
END:VEVENT
BEGIN:VEVENT
DTSTART;TZID=Europe/Dublin:20230306T110000
DTEND;TZID=Europe/Dublin:20230410T120000
DTSTAMP:20260423T193309
CREATED:20230303T085601Z
LAST-MODIFIED:20230303T090426Z
UID:2734-1678100400-1681128000@www.meathsports.ie
SUMMARY:Circuits 50+ Trim
DESCRIPTION:Come and try this adapted circuit class which includes a range of exercises to improve strength\, mobility\, flexibility\, fitness and memory in a fun environment. \nUsing a variety of core and body strengthening exercises\, this new class is suitable for men and women aged 50+ and all fitness levels\, especially complete beginners. So\, what are you waiting for – come on and give it a go! \nBenefits can range from: \n\nImproved aerobic capacity\nImproves cardiovascular system\nImproves balance\nOverall health and well-being.\n\nCircuits will take place in the following areas in: \n\nTrim: Monday 6th March @ 11am in Trim GAA\n\nCost: €25 for 6 weeks. 1 FREE TASTER session is available. \nTo REGISTER ONLINE please follow the link: https://eventmaster.ie/event/preview/qw0nTP7SQq  \nFor more information\, please contact Luke on 0469067887 or email luke.condie@meathcoco.ie
URL:https://www.meathsports.ie/event/circuits-50-trim/
LOCATION:Trim GAA
ATTACH;FMTTYPE=image/jpeg:https://www.meathsports.ie/wp-content/uploads/2022/08/ladies-in-circuits-e1677834071380.jpg
END:VEVENT
BEGIN:VEVENT
DTSTART;TZID=Europe/Dublin:20230307T180000
DTEND;TZID=Europe/Dublin:20230307T210000
DTSTAMP:20260423T193309
CREATED:20230123T125932Z
LAST-MODIFIED:20230123T125932Z
UID:2559-1678212000-1678222800@www.meathsports.ie
SUMMARY:FAI - 7V7
DESCRIPTION:Tues 7th March 6-9pm In Person in Kentstown Village Park\n\n\n\nRequirements: You must have successfully completed the Safeguarding 1 course and be Garda Vetted. \nTarget Group: Parents and coaches \nHours: 3 \nCourse Learning Outcomes: A workshop designed to assist coaches on how to introduce game related practices working through the thirds in functions and 7v7 games. Coaches will improve their structure and organisation of sessions. The course aims to assist coaches in their planning\, control\, understanding and implementation through sessions. Coaches will improve their coaching process\, skills and methods. \nCourse Outline: \n\nAims and objectives\nThe Coaching Pathway\nCharacteristics of the 9-12 year old player\nTutor demonstrations – playing through the thirds\nPitch practices review\n\nRegister at: https://faiconnect.ie/mycomet/private/seminars/2265689
URL:https://www.meathsports.ie/event/fai-7v7/
LOCATION:Kentstown Village Park\, Kentstown\, Meath\, Ireland
CATEGORIES:Club Coaching Corner
ATTACH;FMTTYPE=image/jpeg:https://www.meathsports.ie/wp-content/uploads/2021/12/FAI-Logo.jpg
ORGANIZER;CN="Richie Smith FAI":MAILTO:richard.smith@fai.ie
END:VEVENT
BEGIN:VEVENT
DTSTART;TZID=Europe/Dublin:20230309T170000
DTEND;TZID=Europe/Dublin:20230330T180000
DTSTAMP:20260423T193309
CREATED:20230302T142207Z
LAST-MODIFIED:20230302T142524Z
UID:2731-1678381200-1680199200@www.meathsports.ie
SUMMARY:Run Jump Throw Dunshaughlin
DESCRIPTION:Run Jump Throw is a 6- Week multi-activity programme suitable for children with Autism or an Intellectual Disability aged 5 – 12 years. The sessions will include a variety of Sports\, Fun Games and Obstacle Challenges all adapted to the participants needs. \nThe programme aims to improve the participant’s fundamental movement skills and increase their confidence in participating in regular physical activity. The involvement of siblings is key to the success of the programme and their involvement when possible is encouraged. \n  \nTo book a place\, please contact Terry on 046-9067337 or email tdonegan@meathcoco.ie
URL:https://www.meathsports.ie/event/run-jump-throw-dunshaughlin/
LOCATION:Dunshaughlin Community Centre
CATEGORIES:Inclusive Programmes / Events
ATTACH;FMTTYPE=image/jpeg:https://www.meathsports.ie/wp-content/uploads/2022/08/Run-Jump-Throw-pic.jpg
END:VEVENT
BEGIN:VEVENT
DTSTART;TZID=Europe/Dublin:20230309T183000
DTEND;TZID=Europe/Dublin:20230309T213000
DTSTAMP:20260423T193309
CREATED:20221028T143414Z
LAST-MODIFIED:20230202T123702Z
UID:2280-1678386600-1678397400@www.meathsports.ie
SUMMARY:Safeguarding 3 Designated Liaison Person (DLP) Workshop (FULLY BOOKED)
DESCRIPTION:The third part of the ISC Child Welfare & Protection Training Programme is the Designated Liaison Person workshop. \nEvery club/organisation should designate a person to be responsible for dealing with any concerns about the protection of children. The Designated Liaison Person is responsible for reporting allegations or suspicions of child abuse to TUSLA Child and Family Agency and/or An Garda Siochána. It is recommended that this person is a senior club person. However\, if there is difficulty identifying a separate individual to take this role\, the Club Children’s Officer can be appointed as Designated Liaison Person once the club/organisation is clear about the responsibilities of each role. The organisation’s child protection policy and procedures should include the name and contact details of the Designated Liaison Person and the responsibilities attached to the role. \nA person appointed to the Designated Liaison Person position in a club must have completed the Basic Awareness Workshop in Child Welfare & Protection and should complete the NEW Designated Liaison Person 3 hour workshop. \nIt is essential that those who wish to attend the Safeguarding 3 Designated Liaison Person (DLP) Training have attended the Safeguarding 1 Child Welfare & Protection Workshop. \nA club may appoint the same person to both the CCO and DLP positions however best practice advises that they are kept as separate roles. \nCost: The cost for this course is €20 per person for clubs in Meath\, for participants outside Meath the cost is €30 per person. \nTo put your name on cancellation list: Please contact Lynn on 0469067887 or email lynn.oreilly@meathcoco.ie \n*A laptop/ipad/smart phone along with a good internet connection is required for this course. \nAs demand for places is high\, please make every effort to give enough notice of cancellation. Please note that there are no refunds if you fail to attend on the night.
URL:https://www.meathsports.ie/event/safeguarding-3-designated-liaison-person-dlp-workshop-5/
LOCATION:Zoom Online
CATEGORIES:Courses / Workshops
ATTACH;FMTTYPE=image/jpeg:https://www.meathsports.ie/wp-content/uploads/2021/11/Code-of-Ethics-Children-New.jpg
END:VEVENT
BEGIN:VEVENT
DTSTART;TZID=Europe/Dublin:20230309T190000
DTEND;TZID=Europe/Dublin:20230428T210000
DTSTAMP:20260423T193309
CREATED:20230310T152937Z
LAST-MODIFIED:20230310T152950Z
UID:2772-1678388400-1682715600@www.meathsports.ie
SUMMARY:Mastering Midlife for Women
DESCRIPTION:Mastering Midlife for Women \nExercise\, Nutrition & Menopause \nWe all know the benefits of exercise & nutrition for maintaining life-long health but for Midlife Women\, hormonal change can sometimes make it difficult to continue with our normal routines. The two big questions are “Why has exercise become so hard” and “Why have I gained weight?” \nThere is no one answer to this question\, this answer lies in figuring out our menopause jigsaw of HRT (optional)\, specific exercise\, specific nutrition and self-care. When all the pieces in the jigsaw join that is where the magic happens\, and we get back to feeling like ourselves again. \nMastering Midlife for Women workshop is a 4-hour online workshop taking place over 2 evenings Tuesday 28th March and Tuesday 4th April form 7pm-9pm.  It is ideal for all women from 35+ years\, who are wondering how peri-menopause and menopause is affecting them mentally and physically and how making small changes could increase energy levels\, improve sleep\, improve moods and decrease weight gain. Cost of 4 hour workshop is €20 – places are limited so early booking is advised. \nMastering Midlife for Women – to register click here → Registration Link \nThe workshop includes information on the following:  \nHormones – understanding menopause and midlife…. It’s not me it’s my hormones! \n\nHow hormonal health impacts us\nEffects of Menopause on our muscles & bones\nWhy it happens\, recognising symptoms and how to take control of menopause.\nWhat are the main symptoms?\nHRT Risks & Benefits\nHow lifestyle impacts menopause\n\nExercise \n\nAnswering the big question ‘why does exercise feel so hard’\nMaking exercise choices – how do different types of training benefit you\nWhat strength training really is (and isn’t)\nWhy am I always injured?\n\nRecovery \n\nThe importance of recovery\nWhat recovery is (and isn’t)\nEffect of ageing and hormones on recovery\nStress Management\n\nNutrition  \n\nWhy am I doing everything ‘right’ but gaining weight? (Joining the dots between menopause\, exercise\, nutrition)\nWhy are we craving foods?\nHow do we nourish our bodies before\, during\, and after exercise?\nHow do I increase my protein intake?
URL:https://www.meathsports.ie/event/mastering-midlife-for-women/
LOCATION:Co. Meath
ATTACH;FMTTYPE=image/jpeg:https://www.meathsports.ie/wp-content/uploads/2023/03/Midlife-Image.jpg
END:VEVENT
BEGIN:VEVENT
DTSTART;TZID=Europe/Dublin:20230310T080000
DTEND;TZID=Europe/Dublin:20230325T170000
DTSTAMP:20260423T193309
CREATED:20230223T161051Z
LAST-MODIFIED:20230223T161051Z
UID:2675-1678435200-1679763600@www.meathsports.ie
SUMMARY:Athletics Ireland - Level 1 Coaching Course
DESCRIPTION:Level 1 Coaching Course Meath – There will be 2 online theory sessions\, followed by 2 full practical days held in March \nZoom Online sessions \n\nFriday March 10th\,  6-9pm\nFriday March 24th\,  6-9pm\n\n2 x All Day Practical Sessions \nDay 1 – March 11th\,Fr.Murphys A.C\, 10am-5pm \nDay 2 – March 25th\,Fr.Murphys A.C\, 10am-5pm \nAll dates must be attended to complete the course \nContent: \n\nDeveloping the techniques of running\, jumping and throwing.\nUnderstanding the effects of puberty in developing the young athlete\nPlanning and conducting a training session incorporating Running\, Jumping and Throwing\nDeveloping the mental capacities of the athlete towards fair play\, discipline\, confidence\, concentration etc.\nDeveloping the fundamental skills of Running\, Jumping and throwing and making them more sport specific\nContinuing the development of athletics in a fun environment\nChild Welfare and Safety in events\n\nEntry Requirements: Level 1 is open to all those 18 years or older who have completed an Athletics Leader course or an Assistant Coach course. \nAssessment/ Qualification: \n\nPractical assessment and continuous assessment throughout the course.\nSample training session\nObserved Practice\nOral assessment\n\nCost: €100 – Included in the price for this course is a Coaching Manual. \nTo register: https://eventmaster.ie/event/O3yZfpmH0Z
URL:https://www.meathsports.ie/event/athletics-ireland-level-1-coaching-course/
LOCATION:Fr Murphy’s AC\, Frane\, Athboy\, Meath\, Ireland
CATEGORIES:Club Coaching Corner
ATTACH;FMTTYPE=image/jpeg:https://www.meathsports.ie/wp-content/uploads/2021/12/athletics-ireland.jpg
ORGANIZER;CN="Grace Lynch - Athletics Ireland":MAILTO:gracelynch@athleticsireland.ie
END:VEVENT
BEGIN:VEVENT
DTSTART;TZID=Europe/Dublin:20230314T183000
DTEND;TZID=Europe/Dublin:20230314T213000
DTSTAMP:20260423T193309
CREATED:20221028T141600Z
LAST-MODIFIED:20230210T115622Z
UID:2260-1678818600-1678829400@www.meathsports.ie
SUMMARY:Safeguarding 1 Basic Awareness in Child Protection Workshop (FULLY BOOKED)
DESCRIPTION:Meath Local Sports Partnership offers a 3-hour basic awareness workshop for leaders within sports clubs/organisations. \n\nThe workshop will highlight the main principles of the Code and look at measures that clubs can take to create and maintain the safest possible environment for sport for young people.\nAs well as undertaking child protection training\, all clubs are encouraged to adopt child protection policies and procedures as outlined in the Code of Ethics and Good Practice for Children’s Sport.\n\nParticipants attending Safeguarding 1 Basic Awareness workshop must be over 18 years of age to attend. \nThe cost of the course is €20 if you are in a club in Meath and €30 if you are in a club outside of Meath. \nTo put your name on the cancellation list please email lynn.oreilly@meathcoco.ie or call 0469067887 \nAs demand for places is high\, please make every effort to give enough notice of cancellation. Please note that there are no refunds if you fail to attend on the night.
URL:https://www.meathsports.ie/event/safeguarding-1-basic-awareness-in-child-protection-workshop-21/
LOCATION:Zoom Online
CATEGORIES:Courses / Workshops
ATTACH;FMTTYPE=image/jpeg:https://www.meathsports.ie/wp-content/uploads/2021/11/Code-of-Ethics-Children-New.jpg
END:VEVENT
BEGIN:VEVENT
DTSTART;TZID=Europe/Dublin:20230320T180000
DTEND;TZID=Europe/Dublin:20230320T210000
DTSTAMP:20260423T193309
CREATED:20230123T141137Z
LAST-MODIFIED:20230123T141137Z
UID:2561-1679335200-1679346000@www.meathsports.ie
SUMMARY:FAI - PDP3
DESCRIPTION:Mon 20th March 6-9pm online & Tues 21st March 6-9pm practical in Ratoath Harps \nCourse Name: Youth Intro / PDP 3 \nRequirements: You must have successfully completed the Safeguarding 1 course and be Garda Vetted. \nTarget Group: Grassroots coaches \nHours: 24 \nCourse Learning Outcomes: The course is designed to assist coaches working within the youth game and working with players between the ages of 12-16. The course is a mixture of theory and practical and see’s participants completing both in course and post course assignments. \nCourse Outline: \n\nWhat is football?\nIntroduction of systems of play presentations\nReality based learning\nPractical demonstrations\nIntroduction to periodisation\n\nRegister at: https://faiconnect.ie/mycomet/private/seminars/2265724
URL:https://www.meathsports.ie/event/fai-pdp3/
LOCATION:Ratoath Harps FC\, Ratoath\, Meath
CATEGORIES:Club Coaching Corner
ATTACH;FMTTYPE=image/jpeg:https://www.meathsports.ie/wp-content/uploads/2021/12/FAI-Logo.jpg
ORGANIZER;CN="Richie Smith FAI":MAILTO:richard.smith@fai.ie
END:VEVENT
BEGIN:VEVENT
DTSTART;TZID=Europe/Dublin:20230322T183000
DTEND;TZID=Europe/Dublin:20230322T213000
DTSTAMP:20260423T193309
CREATED:20221028T142953Z
LAST-MODIFIED:20230209T094136Z
UID:2275-1679509800-1679520600@www.meathsports.ie
SUMMARY:Safeguarding 2 Club Children's Officer Workshop (FULLY BOOKED)
DESCRIPTION:Recommendations from Sport Ireland are that every club involved with children and young people should appoint a Club Children’s Officer. This person should be child centered in focus and should have as their primary aim the establishment of a child centered ethos within the club. They are the link between the children and the adults in the club and also take responsibility for monitoring and reporting to the Club Management Committee on how club policy etc. impacts on children and their Sports Leaders. \nThe Club Children’s Officer should have the following functions: \n\nTo promote awareness of the Code of Ethics and Good Practice for Children’s Sport in Ireland within the club and particularly among the children and their parents/guardians. This could be achieved by the production of information leaflets\, the establishment of children’s/age-group specific notice boards and by regular information meetings for the children and their parents/guardians.\nTo influence policy and practice within the club in order to prioritise children’s needs.\nTo provide an accessible resource to children through the creation of forums.\n\nIt is essential that those who wish to attend the Safeguarding 2 Club Children’s Officer (CCO) Training have attended the Safeguarding 1 Awareness/Child Protection Training workshop. \nIt is recommended to have at least one Club Children’s Officer per club or if there is a large number of both boys and girls in the club\, to have two Club Children’s Officers – one male and one female. \nCost: The cost for this course is €20 per person for clubs in Meath\, for participants outside Meath the cost is €30 per person. \nThis course is now full. To put your name on the waiting list please call Lynn on 0469067887 or email lynn.oreilly@meathcoco.ie \n*A laptop/ipad/smart phone along with a good internet connection is required for this course. \nAs demand for places is high\, please make every effort to give enough notice of cancellation. Please note that there are no refunds if you fail to attend on the night.
URL:https://www.meathsports.ie/event/safeguarding-2-club-childrens-officer-workshop-2/
LOCATION:Zoom Online
CATEGORIES:Courses / Workshops
ATTACH;FMTTYPE=image/jpeg:https://www.meathsports.ie/wp-content/uploads/2021/11/Code-of-Ethics-Children-New.jpg
END:VEVENT
BEGIN:VEVENT
DTSTART;TZID=Europe/Dublin:20230330T183000
DTEND;TZID=Europe/Dublin:20230330T213000
DTSTAMP:20260423T193309
CREATED:20221028T141745Z
LAST-MODIFIED:20230301T100207Z
UID:2262-1680201000-1680211800@www.meathsports.ie
SUMMARY:Safeguarding 1 Basic Awareness in Child Protection Workshop (FULLY BOOKED)
DESCRIPTION:Meath Local Sports Partnership offers a 3-hour basic awareness workshop for leaders within sports clubs/organisations. \n\nThe workshop will highlight the main principles of the Code and look at measures that clubs can take to create and maintain the safest possible environment for sport for young people.\nAs well as undertaking child protection training\, all clubs are encouraged to adopt child protection policies and procedures as outlined in the Code of Ethics and Good Practice for Children’s Sport.\n\nParticipants attending Safeguarding 1 Basic Awareness workshop must be over 18 years of age to attend. \nThe cost of the course is €20 if you are in a club in Meath and €30 if you are in a club outside of Meath. \nTo book your place\, please email lynn.oreilly@meathcoco.ie or call 0469067887 to check availability of spaces. \nAs demand for places is high\, please make every effort to give enough notice of cancellation. Please note that there are no refunds if you fail to attend on the night.
URL:https://www.meathsports.ie/event/safeguarding-1-basic-awareness-in-child-protection-workshop-22/
LOCATION:Zoom Online
CATEGORIES:Courses / Workshops
ATTACH;FMTTYPE=image/jpeg:https://www.meathsports.ie/wp-content/uploads/2021/11/Code-of-Ethics-Children-New.jpg
END:VEVENT
END:VCALENDAR