BEGIN:VCALENDAR
VERSION:2.0
PRODID:-//Meath Sports - ECPv6.12.0.1//NONSGML v1.0//EN
CALSCALE:GREGORIAN
METHOD:PUBLISH
X-WR-CALNAME:Meath Sports
X-ORIGINAL-URL:https://www.meathsports.ie
X-WR-CALDESC:Events for Meath Sports
REFRESH-INTERVAL;VALUE=DURATION:PT1H
X-Robots-Tag:noindex
X-PUBLISHED-TTL:PT1H
BEGIN:VTIMEZONE
TZID:Europe/Dublin
BEGIN:STANDARD
TZOFFSETFROM:+0000
TZOFFSETTO:+0100
TZNAME:IST
DTSTART:20220327T010000
END:STANDARD
BEGIN:DAYLIGHT
TZOFFSETFROM:+0100
TZOFFSETTO:+0000
TZNAME:GMT
DTSTART:20221030T010000
END:DAYLIGHT
BEGIN:STANDARD
TZOFFSETFROM:+0000
TZOFFSETTO:+0100
TZNAME:IST
DTSTART:20230326T010000
END:STANDARD
BEGIN:DAYLIGHT
TZOFFSETFROM:+0100
TZOFFSETTO:+0000
TZNAME:GMT
DTSTART:20231029T010000
END:DAYLIGHT
END:VTIMEZONE
BEGIN:VEVENT
DTSTART;TZID=Europe/Dublin:20221102T080000
DTEND;TZID=Europe/Dublin:20230131T170000
DTSTAMP:20260423T224650
CREATED:20221102T140243Z
LAST-MODIFIED:20221103T104831Z
UID:2293-1667376000-1675184400@www.meathsports.ie
SUMMARY:Winter Initiative - Meath LSP
DESCRIPTION:The Winter Initiative campaign developed by Sport Ireland is a 90-day challenge across November\, December and January encouraging participants to increase their daily activity over the course of the campaign. The main aim of the program is to get as many people active as possible. The challenge requires participants to track their chosen physical activity using minutes of exercises. Participants track their daily activity through a downloadable exercise calendar provided by Meath LSP with the aim of reaching 90 minutes of exercise per week which can be spread across the week or in 2/3 sessions. The challenge will also promote a healthy lifestyle incorporating the 5 ways to wellbeing. \nParticipants who sign up for this initiative will receive the activity tracker calendar as well as weekly motivational messages & exercise tips via email. Participants can also submit their progress to their LSP to be included as a case study on their online platforms. \nIf you would like to take part in the Winter Initiative please sign up via the registration link below. \nRegistration Link: https://eventmaster.ie/event/kkjACK2TA2 \nCheck out: https://www.sportireland.ie/winter-initiative/winter-initiative-lsp-activitiesand search for Meath LSP to find a programme near you!
URL:https://www.meathsports.ie/event/winter-initiative-meath-lsp/
LOCATION:Co. Meath
CATEGORIES:Programmes / Events
ATTACH;FMTTYPE=image/png:https://www.meathsports.ie/wp-content/uploads/2022/11/Sport-Ireland-Winter-Initiative2.png
END:VEVENT
BEGIN:VEVENT
DTSTART;TZID=Europe/Dublin:20230114T080000
DTEND;TZID=Europe/Dublin:20230128T170000
DTSTAMP:20260423T224650
CREATED:20221213T142453Z
LAST-MODIFIED:20221213T144319Z
UID:2411-1673683200-1674925200@www.meathsports.ie
SUMMARY:Family Orienteering
DESCRIPTION:Orienteering is a fantastic outdoor activity that combines running/walking with navigation. Families can navigate the course around Blackwater Park using a physical map\, an app or a combination of both. \nThis event is for children aged 5 years and over and their parents / guardians to take part in together. \nBlackwater Park \nSaturday 21st January 10:30am \n  \nFor more information contact Una at upearson@meathcoco.ie or call 0469067887
URL:https://www.meathsports.ie/event/family-orienteering/
LOCATION:Blackwater Park\, Ratholdren Rd\, Navan\, Ireland
ATTACH;FMTTYPE=image/jpeg:https://www.meathsports.ie/wp-content/uploads/2022/12/IMG-20201031-WA0035-1.jpg
END:VEVENT
BEGIN:VEVENT
DTSTART;TZID=Europe/Dublin:20230114T080000
DTEND;TZID=Europe/Dublin:20230128T170000
DTSTAMP:20260423T224650
CREATED:20221213T143412Z
LAST-MODIFIED:20221213T144431Z
UID:2416-1673683200-1674925200@www.meathsports.ie
SUMMARY:Family Adventure Walk App
DESCRIPTION:The Adventure Walks app is a collection of 1 and 2 km treasure hunts. All treasure hunts are designed for families with children from ages 4 – 15. Families can get out and about exploring somewhere new\, or seeing somewhere they have lived all their life \nThis event is for children aged 5 years and over and their parents / guardians to take part in together. \nBlackwater Park \nSaturday 28th January 10:30am \nFor more information contact Una at upearson@meathcoco.ie
URL:https://www.meathsports.ie/event/family-adventure-walk-app/
LOCATION:Blackwater Park\, Ratholdren Rd\, Navan\, Ireland
ATTACH;FMTTYPE=image/jpeg:https://www.meathsports.ie/wp-content/uploads/2022/12/Young-family-from-Navan-scaled.jpg
END:VEVENT
BEGIN:VEVENT
DTSTART;TZID=Europe/Dublin:20230119T183000
DTEND;TZID=Europe/Dublin:20230119T213000
DTSTAMP:20260423T224650
CREATED:20221028T140256Z
LAST-MODIFIED:20230109T090017Z
UID:2248-1674153000-1674163800@www.meathsports.ie
SUMMARY:Safeguarding 1 Basic Awareness in Child Protection Workshop (FULLY BOOKED)
DESCRIPTION:Meath Local Sports Partnership offers a 3-hour basic awareness workshop for leaders within sports clubs/organisations. \n\nThe workshop will highlight the main principles of the Code and look at measures that clubs can take to create and maintain the safest possible environment for sport for young people.\nAs well as undertaking child protection training\, all clubs are encouraged to adopt child protection policies and procedures as outlined in the Code of Ethics and Good Practice for Children’s Sport.\n\nParticipants attending Safeguarding 1 Basic Awareness workshop must be over 18 years of age to attend. \nThe cost of the course is €20 if you are in a club in Meath and €30 if you are in a club outside of Meath. \nTo put your name on the cancellation list\, please email lynn.oreilly@meathcoco.ie or call 0469067887 \n*A laptop/ipad/smart phone along with a good internet connection is required for this course. \nAs demand for places is high\, please make every effort to give enough notice of cancellation. Please note that there are no refunds if you fail to attend on the night.
URL:https://www.meathsports.ie/event/safeguarding-1-basic-awareness-in-child-protection-workshop-18/
LOCATION:Zoom Online
CATEGORIES:Courses / Workshops
ATTACH;FMTTYPE=image/jpeg:https://www.meathsports.ie/wp-content/uploads/2021/11/Code-of-Ethics-Children-New.jpg
END:VEVENT
BEGIN:VEVENT
DTSTART;TZID=Europe/Dublin:20230121T080000
DTEND;TZID=Europe/Dublin:20230121T170000
DTSTAMP:20260423T224650
CREATED:20221213T144224Z
LAST-MODIFIED:20221213T145436Z
UID:2419-1674288000-1674320400@www.meathsports.ie
SUMMARY:Family Rounders
DESCRIPTION:Rounders is a bat-and-ball game played between two teams. Rounders is a striking and fielding team game that involves hitting a ball. Players score by running around the four bases on the field. \nThis event is for children aged 5 years and over and their parents / guardians to take part in together.\n\n\n\nBlackwater Park \nSaturday 4th February 10:30am \nFor more information contact Una at upearson@meathcoco.ie or call 0469067887
URL:https://www.meathsports.ie/event/family-rounders/
LOCATION:Blackwater Park\, Ratholdren Rd\, Navan\, Ireland
ATTACH;FMTTYPE=image/jpeg:https://www.meathsports.ie/wp-content/uploads/2022/12/20220728_110145-scaled.jpg
END:VEVENT
BEGIN:VEVENT
DTSTART;TZID=Europe/Dublin:20230128T093000
DTEND;TZID=Europe/Dublin:20230128T130000
DTSTAMP:20260423T224650
CREATED:20230110T105543Z
LAST-MODIFIED:20230116T124207Z
UID:2478-1674898200-1674910800@www.meathsports.ie
SUMMARY:Project Long Game
DESCRIPTION:Meath LSP are delighted to be part of this exciting new initiative promoting sustainability in sport. Sports clubs have a high level influence on their local community and do serve as role models within their communities. Ensuring that your club is more sustainable can have the potential to inspire your club members and the local community to become more conscious of their impact not only within their club but on the local environment. \nGiven that sustainability is one of the key issues facing us on a global scale\, affecting a wide range of social\, environmental\, and economic issues; these are also significant issues for the sports community\, both in terms of day-to-day operations and duties to our young people and future generations. Sport has an unrivalled ability to encourage and inspire enormous numbers of people whether that is on a local\, national or international level. \nOur “Sustainability in Sport” information morning  on the 28th January will showcase to local clubs how they can make their club more sustainable and in doing so\, meeting some of the 17 Sustainable Development Goals (SDGs). Speakers in attendance will present local case studies as well as presenting what is happening on a national/international stage. Why not come along on the morning\, hear how other clubs are managing their approach to sustainability and the benefits they have accrued from that approach? \nIf you are interested in attending\, please register at: https://eventmaster.ie/event/eMREirKF8x
URL:https://www.meathsports.ie/event/project-long-game/
LOCATION:Solstice Arts Centre\, Navan\, Railway Street\, Navan\, Meath\, Ireland
CATEGORIES:Events
ATTACH;FMTTYPE=image/png:https://www.meathsports.ie/wp-content/uploads/2023/01/PLG_Flyer-006.png
END:VEVENT
END:VCALENDAR