BEGIN:VCALENDAR
VERSION:2.0
PRODID:-//Meath Sports - ECPv6.12.0.1//NONSGML v1.0//EN
CALSCALE:GREGORIAN
METHOD:PUBLISH
X-WR-CALNAME:Meath Sports
X-ORIGINAL-URL:https://www.meathsports.ie
X-WR-CALDESC:Events for Meath Sports
REFRESH-INTERVAL;VALUE=DURATION:PT1H
X-Robots-Tag:noindex
X-PUBLISHED-TTL:PT1H
BEGIN:VTIMEZONE
TZID:Europe/Dublin
BEGIN:STANDARD
TZOFFSETFROM:+0000
TZOFFSETTO:+0100
TZNAME:IST
DTSTART:20220327T010000
END:STANDARD
BEGIN:DAYLIGHT
TZOFFSETFROM:+0100
TZOFFSETTO:+0000
TZNAME:GMT
DTSTART:20221030T010000
END:DAYLIGHT
END:VTIMEZONE
BEGIN:VEVENT
DTSTART;TZID=Europe/Dublin:20220802T100000
DTEND;TZID=Europe/Dublin:20220802T130000
DTSTAMP:20260424T063059
CREATED:20220729T131023Z
LAST-MODIFIED:20220729T135023Z
UID:1884-1659434400-1659445200@www.meathsports.ie
SUMMARY:Multi Sport Activity Day Navan
DESCRIPTION:Meath LSP are delighted to announce our countywide Multi-Sport Activity Days in association with Meath County Council funded development officers. This new and exciting programme will bring together coaches from the FAI\, Meath GAA\, Meath LGFA\, Basketball Ireland and Leinster Rugby. \nWith fun being the main objective\, our multi-sport activity days provides a great opportunity for participants to try a range of sports & activities. Children from 6yrs-13yrs are welcome to take part! \nNavan 2nd August in Claremont Stadium (10am to 1pm) \nTo register for Navan click link https://eventmaster.ie/event/dRr8tnGSwV
URL:https://www.meathsports.ie/event/multi-sport-activity-day-navan/
LOCATION:Co. Meath
CATEGORIES:Events
ATTACH;FMTTYPE=image/jpeg:https://www.meathsports.ie/wp-content/uploads/2022/07/mutli-sports-day.jpg
END:VEVENT
BEGIN:VEVENT
DTSTART;TZID=Europe/Dublin:20220803T100000
DTEND;TZID=Europe/Dublin:20220803T130000
DTSTAMP:20260424T063059
CREATED:20220729T131302Z
LAST-MODIFIED:20220729T135036Z
UID:1887-1659520800-1659531600@www.meathsports.ie
SUMMARY:Multi Sport Activity Day Oldcastle
DESCRIPTION:Meath LSP are delighted to announce our countywide Multi-Sport Activity Days in association with Meath County Council funded development officers. This new and exciting programme will bring together coaches from the FAI\, Meath GAA\, Meath LGFA\, Basketball Ireland and Leinster Rugby. \nWith fun being the main objective\, our multi-sport activity days provides a great opportunity for participants to try a range of sports & activities. Children from 6yrs-13yrs are welcome to take part! \nOldcastle 3rd August in the Showhall/Oldcastle GAA (10am to 1pm) \nTo register for Oldcastle click link https://eventmaster.ie/event/99oyiw5HWJ
URL:https://www.meathsports.ie/event/multi-sport-activity-day-oldcastle/
LOCATION:Co. Meath
CATEGORIES:Events
ATTACH;FMTTYPE=image/jpeg:https://www.meathsports.ie/wp-content/uploads/2022/07/mutli-sports-day.jpg
END:VEVENT
BEGIN:VEVENT
DTSTART;TZID=Europe/Dublin:20220816T100000
DTEND;TZID=Europe/Dublin:20220816T130000
DTSTAMP:20260424T063059
CREATED:20220729T131600Z
LAST-MODIFIED:20220729T131600Z
UID:1891-1660644000-1660654800@www.meathsports.ie
SUMMARY:Multi Sport Activity Day Trim
DESCRIPTION:Meath LSP are delighted to announce our countywide Multi-Sport Activity Days in association with Meath County Council funded development officers. This new and exciting programme will bring together coaches from the FAI\, Meath GAA\, Meath LGFA\, Basketball Ireland and Leinster Rugby. \nWith fun being the main objective\, our multi-sport activity days provides a great opportunity for participants to try a range of sports & activities. Children from 6yrs-13yrs are welcome to take part! \nTrim 16th August in Trim GAA (10am to 1pm) \nTo register for Trim https://eventmaster.ie/event/4jRli4rFEe
URL:https://www.meathsports.ie/event/multi-sport-activity-day-trim/
LOCATION:Co. Meath
CATEGORIES:Events
ATTACH;FMTTYPE=image/jpeg:https://www.meathsports.ie/wp-content/uploads/2022/07/mutli-sports-day.jpg
END:VEVENT
BEGIN:VEVENT
DTSTART;TZID=Europe/Dublin:20220817T100000
DTEND;TZID=Europe/Dublin:20220817T130000
DTSTAMP:20260424T063059
CREATED:20220729T131417Z
LAST-MODIFIED:20220729T135120Z
UID:1889-1660730400-1660741200@www.meathsports.ie
SUMMARY:Multi Sport Activity Day Bettystown
DESCRIPTION:Meath LSP are delighted to announce our countywide Multi-Sport Activity Days in association with Meath County Council funded development officers. This new and exciting programme will bring together coaches from the FAI\, Meath GAA\, Meath LGFA\, Basketball Ireland and Leinster Rugby. \nWith fun being the main objective\, our multi-sport activity days provides a great opportunity for participants to try a range of sports & activities. Children from 6yrs-13yrs are welcome to take part! \nBettystown 17th August in Colaiste na Hinse (10am to 1pm) \nTo register for Bettystown click link https://eventmaster.ie/event/q3EQiP7SQq
URL:https://www.meathsports.ie/event/multi-sport-activity-day-bettystown/
LOCATION:Co. Meath
CATEGORIES:Events
ATTACH;FMTTYPE=image/jpeg:https://www.meathsports.ie/wp-content/uploads/2022/07/mutli-sports-day.jpg
END:VEVENT
BEGIN:VEVENT
DTSTART;TZID=Europe/Dublin:20220817T183000
DTEND;TZID=Europe/Dublin:20220817T213000
DTSTAMP:20260424T063059
CREATED:20220816T084348Z
LAST-MODIFIED:20220816T091840Z
UID:1948-1660761000-1660771800@www.meathsports.ie
SUMMARY:Fundamentals of Coaching Hockey
DESCRIPTION:The Fundamentals of Coaching Hockey (FOCH) course is designed to provide an understanding of the basics of coaching hockey. Participants will learn how to prepare sessions\, how to break down and coach key hockey techniques and how to develop those techniques into skills through conditioned games. Completing the FOCH is essential for those coaches wishing to undertake the Level 1. \nThe course is run over 6 hours and can be run in a single day or over two evenings. While Hockey Ireland run centralised courses\, it is possible to run an in-club course should a club have sufficient numbers (minimum of 10\, dependent on tutor availability). \nParticipants must be 16 or older on the day of the course\, with no exceptions. \nIrish legislation now requires that anyone carrying out activities involving regular contact with Under-18s and vulnerable adults be Garda vetted through their National Governing Body. Hockey Ireland provides this service for hockey clubs and branches. Click here for relevant information on vetting. \nPlease note that there is a minimum waiting period of four months between completing your Fundamentals Certificate and taking part in a Level 1 coaching course. \nShould you require further information\, please email coaching@hockey.ie \nPlease note that times may be subject to change. Further courses will be added once dates are confirmed.
URL:https://www.meathsports.ie/event/fundamentals-of-coaching-hockey/
LOCATION:Cluny Secondary School in Killiney\, Avondale Road\, Killiney\, Co. Dublin\, A96 DK13\, Ireland
CATEGORIES:Club Coaching Corner
ATTACH;FMTTYPE=image/jpeg:https://www.meathsports.ie/wp-content/uploads/2022/08/Hockey-Ireland-Events.jpg
END:VEVENT
BEGIN:VEVENT
DTSTART;TZID=Europe/Dublin:20220818T100000
DTEND;TZID=Europe/Dublin:20220818T130000
DTSTAMP:20260424T063059
CREATED:20220729T131708Z
LAST-MODIFIED:20220729T131708Z
UID:1893-1660816800-1660827600@www.meathsports.ie
SUMMARY:Multi Sport Activity Day Ashbourne
DESCRIPTION:Meath LSP are delighted to announce our countywide Multi-Sport Activity Days in association with Meath County Council funded development officers. This new and exciting programme will bring together coaches from the FAI\, Meath GAA\, Meath LGFA\, Basketball Ireland and Leinster Rugby. \nWith fun being the main objective\, our multi-sport activity days provides a great opportunity for participants to try a range of sports & activities. Children from 6yrs-13yrs are welcome to take part! \nAshbourne 18th August in Ashbourne Community School (10am to 1pm) \nTo register for Ashbourne click link https://eventmaster.ie/event/BGkbC23c8j
URL:https://www.meathsports.ie/event/multi-sport-activity-day-ashbourne/
LOCATION:Co. Meath
CATEGORIES:Events
ATTACH;FMTTYPE=image/jpeg:https://www.meathsports.ie/wp-content/uploads/2022/07/mutli-sports-day.jpg
END:VEVENT
BEGIN:VEVENT
DTSTART;TZID=Europe/Dublin:20220823T183000
DTEND;TZID=Europe/Dublin:20220823T213000
DTSTAMP:20260424T063059
CREATED:20220526T092744Z
LAST-MODIFIED:20220526T094306Z
UID:1826-1661279400-1661290200@www.meathsports.ie
SUMMARY:Safeguarding 1 Basic Awareness In Child Protection Workshop
DESCRIPTION:Meath Local Sports Partnership offers a 3-hour basic awareness workshop for leaders within sports clubs/organisations. \n\nThe workshop will highlight the main principles of the Code and look at measures that clubs can take to create and maintain the safest possible environment for sport for young people.\nAs well as undertaking child protection training\, all clubs are encouraged to adopt child protection policies and procedures as outlined in the Code of Ethics and Good Practice for Children’s Sport.\n\nParticipants attending Safeguarding 1 Basic Awareness workshop must be over 18 years of age to attend. \nThe cost of the course is €20 if you are in a club in Meath and €30 if you are in a club outside of Meath. \nTo book your place\, please email lynn.oreilly@meathcoco.ie or call 046-9067337 to check availability of spaces. \n*A laptop/ipad/smart phone along with a good internet connection is required for this course. \nAs demand for places is high\, please make every effort to give enough notice of cancellation. Please note that there are no refunds if you fail to attend on the night.
URL:https://www.meathsports.ie/event/safeguarding-1-basic-awareness-in-child-protection-workshop-10/
LOCATION:Zoom Online
CATEGORIES:Courses / Workshops
ATTACH;FMTTYPE=image/jpeg:https://www.meathsports.ie/wp-content/uploads/2021/11/Code-of-Ethics-Children-New.jpg
END:VEVENT
BEGIN:VEVENT
DTSTART;TZID=Europe/Dublin:20220824T183000
DTEND;TZID=Europe/Dublin:20220824T213000
DTSTAMP:20260424T063059
CREATED:20220816T091816Z
LAST-MODIFIED:20220816T091934Z
UID:1953-1661365800-1661376600@www.meathsports.ie
SUMMARY:Fundamentals of Coaching Hockey
DESCRIPTION:The Fundamentals of Coaching Hockey (FOCH) course is designed to provide an understanding of the basics of coaching hockey. Participants will learn how to prepare sessions\, how to break down and coach key hockey techniques and how to develop those techniques into skills through conditioned games. Completing the FOCH is essential for those coaches wishing to undertake the Level 1. \nThe course is run over 6 hours and can be run in a single day or over two evenings. While Hockey Ireland run centralised courses\, it is possible to run an in-club course should a club have sufficient numbers (minimum of 10\, dependent on tutor availability). \nParticipants must be 16 or older on the day of the course\, with no exceptions. \nIrish legislation now requires that anyone carrying out activities involving regular contact with Under-18s and vulnerable adults be Garda vetted through their National Governing Body. Hockey Ireland provides this service for hockey clubs and branches. Click here for relevant information on vetting. \nPlease note that there is a minimum waiting period of four months between completing your Fundamentals Certificate and taking part in a Level 1 coaching course. \nShould you require further information\, please email coaching@hockey.ie \nPlease note that times may be subject to change. Further courses will be added once dates are confirmed.
URL:https://www.meathsports.ie/event/fundamentals-of-coaching-hockey-2/
LOCATION:Cluny Secondary School in Killiney\, Avondale Road\, Killiney\, Co. Dublin\, A96 DK13\, Ireland
CATEGORIES:Club Coaching Corner
ATTACH;FMTTYPE=image/jpeg:https://www.meathsports.ie/wp-content/uploads/2022/08/Hockey-Ireland-Events.jpg
END:VEVENT
BEGIN:VEVENT
DTSTART;TZID=Europe/Dublin:20220826T183000
DTEND;TZID=Europe/Dublin:20220826T213000
DTSTAMP:20260424T063059
CREATED:20220816T092945Z
LAST-MODIFIED:20220816T092945Z
UID:1959-1661538600-1661549400@www.meathsports.ie
SUMMARY:Hockey Ireland Level 1 Coaching Course
DESCRIPTION:Hockey Ireland Level 1 Coaching Course is the second step on the Coaching Pathway. Level 1 is designed for people looking to lead group sessions. The course is delivered on the basis that attendees are coaching a range of age groups\, from young children to adults focusing mainly on Phases 2 and 3 of HookedforLife. Play-Practice-Play is the common methodology covered of the course as the vast majority of the coaches will deliver sessions in a game like environment using this key concept. \nAt the end of this course a successful candidate should be able to deliver a session to a group of players containing the following elements: \n\nFun\nSafety\nUse of the Play-Practice-Play coaching method\nTechnical correction and improvement\nPlanning and organisation\nClear and concise instructions\nImpart up to date and accurate knowledge\nProgression within the session\nCreation of a ‘game-like’ environment\nInclusion of players with disabilities\n\nThe Level 1 Coaching Course is 2 and a half days in duration. The first two days are pitch-based practical sessions and the last day consists of the observed session. In order to pass the Level 1 Course\, you must attend all contact days and successfully complete the observed session. \nThere are a number of requirements for coaches that wish to attend the Level 1 Coaching Course: \n\nCoaches must be 18 years or older\nCoaches MUST have attended the Safeguarding 1 – Child Welfare & Protection In Sport Course (ROI) OR Safeguarding Children and Young People in Sport Certificate (NI) before they can attend the Level 1 Coaching Course. Proof of attendance is sought as part of the application process.\nCoaches must have attended the Fundamentals of Coaching Hockey Course.\n\nPlease note that there is a minimum waiting period of three months between completing your Fundamentals Certificate and taking part in a Level 1 coaching course. \nIrish legislation now requires that anyone carrying out activities involving regular contact with Under-18s and vulnerable adults be Garda vetted through their National Governing Body. Hockey Ireland provides this service for hockey clubs and branches. Click here for relevant information on vetting. \nThe cost of the Level 1 Coaching Course is €140 (plus booking fee).
URL:https://www.meathsports.ie/event/hockey-ireland-level-1-coaching-course/
LOCATION:Suttonians Hockey Club\, Sutton Park School\, St Fintan's Road\, Sutton North\, Dublin\, Ireland
CATEGORIES:Club Coaching Corner
ATTACH;FMTTYPE=image/jpeg:https://www.meathsports.ie/wp-content/uploads/2022/08/Hockey-Ireland-Events.jpg
END:VEVENT
BEGIN:VEVENT
DTSTART;VALUE=DATE:20220827
DTEND;VALUE=DATE:20220828
DTSTAMP:20260424T063059
CREATED:20220815T151656Z
LAST-MODIFIED:20220815T154747Z
UID:1919-1661558400-1661644799@www.meathsports.ie
SUMMARY:Leinster Rugby - Youth Coach Course (Dundalk IT)
DESCRIPTION:Course Outline:\nIrish Rugby’s Youth Coach Course is an introduction to the 15-a-side game for coaches and helpers with limited experience in rugby. \nThe course is suited to people working with players aged 12+ with an emphasis on and enjoyment and coaching through best practice. \nThe course is designed to develop the coach in the role of ‘Teacher’. \nEntry Criteria: \n\nParticipants must be a minimum of 16 years of age – Please note coaches aged 16-18 years are restricted to performing in an Assistant Coach role\, under the direct supervision and guidance of an Accredited Youth Rugby Coach aged 18+.\nPriority (where required) will be given to participants actively involved in coaching Youth players\n\nAward Requirements:\ncombination of IRFU ‘Gainline’ e-learning and practical/on-pitch rugby modules \n\nComplete 5 online modules:\n\nLaws and Coach Behaviours Exam\nConcussion Awareness\nYouth Coach Course Overview\nMotivation and Young Players\nRole of the Coach\n\n\nFully attend the Course
URL:https://www.meathsports.ie/event/leinster-rugby-youth-coach-course-dundalk-it/
LOCATION:Dundalk IT\, Institute of Technology\, Dublin\, Leinster\, A91 K584\, Ireland
CATEGORIES:Club Coaching Corner
ATTACH;FMTTYPE=image/jpeg:https://www.meathsports.ie/wp-content/uploads/2022/08/meathYouthCourse.jpg
END:VEVENT
BEGIN:VEVENT
DTSTART;TZID=Europe/Dublin:20220827T090000
DTEND;TZID=Europe/Dublin:20220827T164500
DTSTAMP:20260424T063059
CREATED:20220816T093118Z
LAST-MODIFIED:20220816T093118Z
UID:1963-1661590800-1661618700@www.meathsports.ie
SUMMARY:Hockey Ireland Level 1 Coaching Course
DESCRIPTION:Hockey Ireland Level 1 Coaching Course is the second step on the Coaching Pathway. Level 1 is designed for people looking to lead group sessions. The course is delivered on the basis that attendees are coaching a range of age groups\, from young children to adults focusing mainly on Phases 2 and 3 of HookedforLife. Play-Practice-Play is the common methodology covered of the course as the vast majority of the coaches will deliver sessions in a game like environment using this key concept. \nAt the end of this course a successful candidate should be able to deliver a session to a group of players containing the following elements: \n\nFun\nSafety\nUse of the Play-Practice-Play coaching method\nTechnical correction and improvement\nPlanning and organisation\nClear and concise instructions\nImpart up to date and accurate knowledge\nProgression within the session\nCreation of a ‘game-like’ environment\nInclusion of players with disabilities\n\nThe Level 1 Coaching Course is 2 and a half days in duration. The first two days are pitch-based practical sessions and the last day consists of the observed session. In order to pass the Level 1 Course\, you must attend all contact days and successfully complete the observed session. \nThere are a number of requirements for coaches that wish to attend the Level 1 Coaching Course: \n\nCoaches must be 18 years or older\nCoaches MUST have attended the Safeguarding 1 – Child Welfare & Protection In Sport Course (ROI) OR Safeguarding Children and Young People in Sport Certificate (NI) before they can attend the Level 1 Coaching Course. Proof of attendance is sought as part of the application process.\nCoaches must have attended the Fundamentals of Coaching Hockey Course.\n\nPlease note that there is a minimum waiting period of three months between completing your Fundamentals Certificate and taking part in a Level 1 coaching course. \nIrish legislation now requires that anyone carrying out activities involving regular contact with Under-18s and vulnerable adults be Garda vetted through their National Governing Body. Hockey Ireland provides this service for hockey clubs and branches. Click here for relevant information on vetting. \nThe cost of the Level 1 Coaching Course is €140 (plus booking fee).
URL:https://www.meathsports.ie/event/hockey-ireland-level-1-coaching-course-2/
LOCATION:Suttonians Hockey Club\, Sutton Park School\, St Fintan's Road\, Sutton North\, Dublin\, Ireland
CATEGORIES:Club Coaching Corner
ATTACH;FMTTYPE=image/jpeg:https://www.meathsports.ie/wp-content/uploads/2022/08/Hockey-Ireland-Events.jpg
END:VEVENT
BEGIN:VEVENT
DTSTART;TZID=Europe/Dublin:20220828T090000
DTEND;TZID=Europe/Dublin:20220828T164500
DTSTAMP:20260424T063059
CREATED:20220816T093216Z
LAST-MODIFIED:20220816T093216Z
UID:1965-1661677200-1661705100@www.meathsports.ie
SUMMARY:Hockey Ireland Level 1 Coaching Course
DESCRIPTION:Hockey Ireland Level 1 Coaching Course is the second step on the Coaching Pathway. Level 1 is designed for people looking to lead group sessions. The course is delivered on the basis that attendees are coaching a range of age groups\, from young children to adults focusing mainly on Phases 2 and 3 of HookedforLife. Play-Practice-Play is the common methodology covered of the course as the vast majority of the coaches will deliver sessions in a game like environment using this key concept. \nAt the end of this course a successful candidate should be able to deliver a session to a group of players containing the following elements: \n\nFun\nSafety\nUse of the Play-Practice-Play coaching method\nTechnical correction and improvement\nPlanning and organisation\nClear and concise instructions\nImpart up to date and accurate knowledge\nProgression within the session\nCreation of a ‘game-like’ environment\nInclusion of players with disabilities\n\nThe Level 1 Coaching Course is 2 and a half days in duration. The first two days are pitch-based practical sessions and the last day consists of the observed session. In order to pass the Level 1 Course\, you must attend all contact days and successfully complete the observed session. \nThere are a number of requirements for coaches that wish to attend the Level 1 Coaching Course: \n\nCoaches must be 18 years or older\nCoaches MUST have attended the Safeguarding 1 – Child Welfare & Protection In Sport Course (ROI) OR Safeguarding Children and Young People in Sport Certificate (NI) before they can attend the Level 1 Coaching Course. Proof of attendance is sought as part of the application process.\nCoaches must have attended the Fundamentals of Coaching Hockey Course.\n\nPlease note that there is a minimum waiting period of three months between completing your Fundamentals Certificate and taking part in a Level 1 coaching course. \nIrish legislation now requires that anyone carrying out activities involving regular contact with Under-18s and vulnerable adults be Garda vetted through their National Governing Body. Hockey Ireland provides this service for hockey clubs and branches. Click here for relevant information on vetting. \nThe cost of the Level 1 Coaching Course is €140 (plus booking fee).
URL:https://www.meathsports.ie/event/hockey-ireland-level-1-coaching-course-3/
LOCATION:Suttonians Hockey Club\, Sutton Park School\, St Fintan's Road\, Sutton North\, Dublin\, Ireland
CATEGORIES:Club Coaching Corner
ATTACH;FMTTYPE=image/jpeg:https://www.meathsports.ie/wp-content/uploads/2022/08/Hockey-Ireland-Events.jpg
END:VEVENT
BEGIN:VEVENT
DTSTART;TZID=Europe/Dublin:20220829T093000
DTEND;TZID=Europe/Dublin:20220829T163000
DTSTAMP:20260424T063059
CREATED:20220817T135545Z
LAST-MODIFIED:20220817T135714Z
UID:1993-1661765400-1661790600@www.meathsports.ie
SUMMARY:Olympic Handball Level 0 Coaching Course
DESCRIPTION:The Irish Olympic Handball Association is launching a Level-0 coaching course in person. \nIf you would like to take the 1st steps in your coaching career and obtain a coaching award recognised by Sport Ireland and the European Handball Federation. The course will take place on Sport Ireland Campus on 29th of August 2023 from 9:30am – 4:30pm. \nThe cost of the course is €40.
URL:https://www.meathsports.ie/event/olympic-handball-level-0-coaching-course/
LOCATION:National Indoor Arena\, Blanchardstown
CATEGORIES:Club Coaching Corner
ATTACH;FMTTYPE=image/jpeg:https://www.meathsports.ie/wp-content/uploads/2022/08/olympic-handball-coaching-course-logo.jpg
END:VEVENT
BEGIN:VEVENT
DTSTART;TZID=Europe/Dublin:20220831T183000
DTEND;TZID=Europe/Dublin:20220831T213000
DTSTAMP:20260424T063059
CREATED:20220526T093139Z
LAST-MODIFIED:20220526T094306Z
UID:1828-1661970600-1661981400@www.meathsports.ie
SUMMARY:Safeguarding 1 Basic Awareness In Child Protection Workshop
DESCRIPTION:Meath Local Sports Partnership offers a 3-hour basic awareness workshop for leaders within sports clubs/organisations. \n\nThe workshop will highlight the main principles of the Code and look at measures that clubs can take to create and maintain the safest possible environment for sport for young people.\nAs well as undertaking child protection training\, all clubs are encouraged to adopt child protection policies and procedures as outlined in the Code of Ethics and Good Practice for Children’s Sport.\n\nParticipants attending Safeguarding 1 Basic Awareness workshop must be over 18 years of age to attend. \nThe cost of the course is €20 if you are in a club in Meath and €30 if you are in a club outside of Meath. \nTo book your place\, please email lynn.oreilly@meathcoco.ie or call 046-9067337 to check availability of spaces. \n*A laptop/ipad/smart phone along with a good internet connection is required for this course. \nAs demand for places is high\, please make every effort to give enough notice of cancellation. Please note that there are no refunds if you fail to attend on the night.
URL:https://www.meathsports.ie/event/safeguarding-1-basic-awareness-in-child-protection-workshop-11/
LOCATION:Athboy Convent Community Centre\, Town Parks\, Kildalkey Road\, Co. Meath\, C15 P280\, Ireland
CATEGORIES:Courses / Workshops
ATTACH;FMTTYPE=image/jpeg:https://www.meathsports.ie/wp-content/uploads/2021/11/Code-of-Ethics-Children-New.jpg
END:VEVENT
END:VCALENDAR