BEGIN:VCALENDAR
VERSION:2.0
PRODID:-//Meath Sports - ECPv6.12.0.1//NONSGML v1.0//EN
CALSCALE:GREGORIAN
METHOD:PUBLISH
X-WR-CALNAME:Meath Sports
X-ORIGINAL-URL:https://www.meathsports.ie
X-WR-CALDESC:Events for Meath Sports
REFRESH-INTERVAL;VALUE=DURATION:PT1H
X-Robots-Tag:noindex
X-PUBLISHED-TTL:PT1H
BEGIN:VTIMEZONE
TZID:Europe/Dublin
BEGIN:STANDARD
TZOFFSETFROM:+0000
TZOFFSETTO:+0100
TZNAME:IST
DTSTART:20220327T010000
END:STANDARD
BEGIN:DAYLIGHT
TZOFFSETFROM:+0100
TZOFFSETTO:+0000
TZNAME:GMT
DTSTART:20221030T010000
END:DAYLIGHT
END:VTIMEZONE
BEGIN:VEVENT
DTSTART;TZID=Europe/Dublin:20220119T183000
DTEND;TZID=Europe/Dublin:20220119T203000
DTSTAMP:20260423T120434
CREATED:20211217T150727Z
LAST-MODIFIED:20211217T153212Z
UID:938-1642617000-1642624200@www.meathsports.ie
SUMMARY:Physical Literacy Workshop
DESCRIPTION:Meath Local Sports Partnership have partnered with Sport Ireland Coaching to host Online Physical Literacy Workshops which offers participants the chance to learn more about why physical activity is so important to children and how we can do more to encourage it. \nThe workshop brings together findings from national and international research that highlights the need to increase children’s levels of physical literacy as part of the long-term approach to increasing wellbeing and reducing levels of preventable disease. \nThis module is an interactive 2 hour workshop which will enable participants to understand the following: \n\nImportance of Physical Activity for Children\nWhat is meant by the physical literacy learning journey\nRationale behind the physical literacy journey – ‘Road Map’ that can be used by anyone who guides children along their physical literacy learning journey\nHow can one contribute to its development in the children and young people with whom they interact at home and in the community\nOrganise safe\, purposeful and meaningful physical activities for all children\n\nPlease note: Participants must be 18 years of age \nCost: €10 per person \nBook your place here: https://eventmaster.ie/event/kwr1sK2TA2 \n  \nFor more information please contact Una at upearson@meathcoco.ie or call 0469067337
URL:https://www.meathsports.ie/event/physical-literacy-workshop/
LOCATION:Zoom Online
CATEGORIES:Courses / Workshops
ATTACH;FMTTYPE=image/jpeg:https://www.meathsports.ie/wp-content/uploads/2021/12/Physical-Literacy-Poster-1-1.jpg
END:VEVENT
END:VCALENDAR