BEGIN:VCALENDAR
VERSION:2.0
PRODID:-//Meath Sports - ECPv6.12.0.1//NONSGML v1.0//EN
CALSCALE:GREGORIAN
METHOD:PUBLISH
X-WR-CALNAME:Meath Sports
X-ORIGINAL-URL:https://www.meathsports.ie
X-WR-CALDESC:Events for Meath Sports
REFRESH-INTERVAL;VALUE=DURATION:PT1H
X-Robots-Tag:noindex
X-PUBLISHED-TTL:PT1H
BEGIN:VTIMEZONE
TZID:Europe/Dublin
BEGIN:STANDARD
TZOFFSETFROM:+0000
TZOFFSETTO:+0100
TZNAME:IST
DTSTART:20250330T010000
END:STANDARD
BEGIN:DAYLIGHT
TZOFFSETFROM:+0100
TZOFFSETTO:+0000
TZNAME:GMT
DTSTART:20251026T010000
END:DAYLIGHT
END:VTIMEZONE
BEGIN:VEVENT
DTSTART;TZID=Europe/Dublin:20250114T163000
DTEND;TZID=Europe/Dublin:20250218T173000
DTSTAMP:20260421T170025
CREATED:20250106T162020Z
LAST-MODIFIED:20250110T100655Z
UID:5314-1736872200-1739899800@www.meathsports.ie
SUMMARY:Learn 2 Cycle Trim
DESCRIPTION:Learn 2 Cycle Trim \n\n\n\nLearn 2 Cycle aims to assist children with a disability to cycle independently. This programme focuses on empowering parents and giving them the tools to support their child in learning to cycle. Participants will be guided by our experienced tutor from the Cycling Safety School.\n\n\n\nDate: Tuesday January 14th – February 18th\nTime: 4:30pm- 5:30pm\nVenue: Trim GAA\nCost:  €15\nInfo:  please contact Terry on 046-9067887 or email tdonegan@meathcoco.ie
URL:https://www.meathsports.ie/event/learn-2-cycle-trim-2/
LOCATION:Trim GAA
CATEGORIES:Inclusive Programmes / Events
ATTACH;FMTTYPE=image/jpeg:https://www.meathsports.ie/wp-content/uploads/2025/01/Learn-2-Cycle-Trim-1-scaled.jpg
END:VEVENT
BEGIN:VEVENT
DTSTART;TZID=Europe/Dublin:20250122T160000
DTEND;TZID=Europe/Dublin:20250212T190000
DTSTAMP:20260421T170025
CREATED:20250108T161113Z
LAST-MODIFIED:20250108T161113Z
UID:5349-1737561600-1739386800@www.meathsports.ie
SUMMARY:Basketball
DESCRIPTION:Fun Basketball programme for children and young people  \nVenue: St Pauls \nDate: Wednesday 22nd January to 19th February (5 weeks) \nTime: 6-9 years at 4:00pm\, 9-12 years at 5:00pm & 12 – 15 years at 6:00pm \nCost: FREE \nRegister: https://bit.ly/3VKq1WE 
URL:https://www.meathsports.ie/event/basketball/
LOCATION:St. Pauls NS
CATEGORIES:Inclusive Programmes / Events
ATTACH;FMTTYPE=image/jpeg:https://www.meathsports.ie/wp-content/uploads/2024/05/Dribbling-scaled.jpg
END:VEVENT
BEGIN:VEVENT
DTSTART;TZID=Europe/Dublin:20250305T180000
DTEND;TZID=Europe/Dublin:20250305T190000
DTSTAMP:20260421T170025
CREATED:20250225T143442Z
LAST-MODIFIED:20250225T143442Z
UID:5763-1741197600-1741201200@www.meathsports.ie
SUMMARY:Inclusive Mother & Daughter Yoga Kells
DESCRIPTION:Inclusive Mother & Daughter Yoga Kells! \n\n\n\nTaking place on Wed 5th March at 6-7pm in Kells Family Resource Centre! Suitable for Girls 8yrs+ with a disability alongside mothers.\n\n\n\n To book or for more information contact Terry at 0469067887 or email tdonegan@meathcoco.ie
URL:https://www.meathsports.ie/event/inclusive-mother-daughter-yoga-kells/
LOCATION:Kells Family Resource Center\, Lord Edward Street\, Kells\, A82 XN75
CATEGORIES:Inclusive Programmes / Events
ATTACH;FMTTYPE=image/png:https://www.meathsports.ie/wp-content/uploads/2025/02/Inclusive-Yoga-1.png
END:VEVENT
BEGIN:VEVENT
DTSTART;TZID=Europe/Dublin:20250813T183000
DTEND;TZID=Europe/Dublin:20250813T193000
DTSTAMP:20260421T170025
CREATED:20250724T115537Z
LAST-MODIFIED:20250724T115537Z
UID:6387-1755109800-1755113400@www.meathsports.ie
SUMMARY:Inclusive Canoeing - Her Outdoors Week
DESCRIPTION:Inclusive Canoeing Mothers & Daughters – Her Outdoors Week  \nMeath LSP will link with Ribbontail paddlers Canoe club in longwood to hold an Inclusive Canoeing session aimed at girls with additional needs and their families . \nThe session aims to give children an opportunity to gain confidence on the water with the help of the clubs experienced coaches. \nDate: Wednesday August 13th \nTime: 6:30pm-7:30pm \nVenue: Ribbontail paddlers Canoe club Longwood \nCost: Free \nPre Registration essential please contact Terry on 0469067887 or Email – tdonegan@meathcoco.ie
URL:https://www.meathsports.ie/event/inclusive-canoeing-her-outdoors-week/
LOCATION:Meath
CATEGORIES:Inclusive Programmes / Events
ATTACH;FMTTYPE=image/png:https://www.meathsports.ie/wp-content/uploads/2025/07/Her-Outdoors-Canoeing-.png
END:VEVENT
END:VCALENDAR