BEGIN:VCALENDAR
VERSION:2.0
PRODID:-//Meath Sports - ECPv6.12.0.1//NONSGML v1.0//EN
CALSCALE:GREGORIAN
METHOD:PUBLISH
X-WR-CALNAME:Meath Sports
X-ORIGINAL-URL:https://www.meathsports.ie
X-WR-CALDESC:Events for Meath Sports
REFRESH-INTERVAL;VALUE=DURATION:PT1H
X-Robots-Tag:noindex
X-PUBLISHED-TTL:PT1H
BEGIN:VTIMEZONE
TZID:Europe/Dublin
BEGIN:STANDARD
TZOFFSETFROM:+0000
TZOFFSETTO:+0100
TZNAME:IST
DTSTART:20230326T010000
END:STANDARD
BEGIN:DAYLIGHT
TZOFFSETFROM:+0100
TZOFFSETTO:+0000
TZNAME:GMT
DTSTART:20231029T010000
END:DAYLIGHT
END:VTIMEZONE
BEGIN:VEVENT
DTSTART;TZID=Europe/Dublin:20230406T163000
DTEND;TZID=Europe/Dublin:20230511T173000
DTSTAMP:20260420T130744
CREATED:20230123T123130Z
LAST-MODIFIED:20230302T140838Z
UID:2551-1680798600-1683826200@www.meathsports.ie
SUMMARY:Learn 2 Cycle Navan
DESCRIPTION:Learn 2 Cycle aims to assist children with a disability to cycle independently. This programme which is held over 6 weeks outdoors focuses on empowering parents and giving them the tools to support their child in learning to cycle. \nParticipants will be guided by our experienced tutor from the Cycling Safety School. \nTo book a place\, please contact Terry on 046-9067337 or email tdonegan@meathcoco.ie
URL:https://www.meathsports.ie/event/learn-2-cycle-navan/
LOCATION:Claremont Stadium\, Commons Rd\, Navan\, Meath\, Ireland
CATEGORIES:Inclusive Programmes / Events
END:VEVENT
END:VCALENDAR