BEGIN:VCALENDAR
VERSION:2.0
PRODID:-//Meath Sports - ECPv6.12.0.1//NONSGML v1.0//EN
CALSCALE:GREGORIAN
METHOD:PUBLISH
X-ORIGINAL-URL:https://www.meathsports.ie
X-WR-CALDESC:Events for Meath Sports
REFRESH-INTERVAL;VALUE=DURATION:PT1H
X-Robots-Tag:noindex
X-PUBLISHED-TTL:PT1H
BEGIN:VTIMEZONE
TZID:Europe/Dublin
BEGIN:STANDARD
TZOFFSETFROM:+0000
TZOFFSETTO:+0100
TZNAME:IST
DTSTART:20230326T010000
END:STANDARD
BEGIN:DAYLIGHT
TZOFFSETFROM:+0100
TZOFFSETTO:+0000
TZNAME:GMT
DTSTART:20231029T010000
END:DAYLIGHT
END:VTIMEZONE
BEGIN:VEVENT
DTSTART;TZID=Europe/Dublin:20230207T190000
DTEND;TZID=Europe/Dublin:20230207T203000
DTSTAMP:20260420T183313
CREATED:20221219T122522Z
LAST-MODIFIED:20230123T122559Z
UID:2452-1675796400-1675801800@www.meathsports.ie
SUMMARY:Sports Inclusion & Disability Awareness Online
DESCRIPTION:Meath Local Sports Partnership in conjunction with Cavan Sports partnership are delighted to announce we will be hosting a sports Inclusion and Disability Awareness Webinar.\nThis is a FREE webinar will be delivered Online and is aimed at people who are interested in taking the first step in making their activities inclusive.
URL:https://www.meathsports.ie/event/sports-inclusion-disability-awareness-online/
LOCATION:Zoom Online
CATEGORIES:Inclusive Programmes / Events
ATTACH;FMTTYPE=image/jpeg:https://www.meathsports.ie/wp-content/uploads/2022/12/Sports-Inclusion.jpg
END:VEVENT
END:VCALENDAR