BEGIN:VCALENDAR
VERSION:2.0
PRODID:-//Meath Sports - ECPv6.12.0.1//NONSGML v1.0//EN
CALSCALE:GREGORIAN
METHOD:PUBLISH
X-ORIGINAL-URL:https://www.meathsports.ie
X-WR-CALDESC:Events for Meath Sports
REFRESH-INTERVAL;VALUE=DURATION:PT1H
X-Robots-Tag:noindex
X-PUBLISHED-TTL:PT1H
BEGIN:VTIMEZONE
TZID:Europe/Dublin
BEGIN:STANDARD
TZOFFSETFROM:+0000
TZOFFSETTO:+0100
TZNAME:IST
DTSTART:20220327T010000
END:STANDARD
BEGIN:DAYLIGHT
TZOFFSETFROM:+0100
TZOFFSETTO:+0000
TZNAME:GMT
DTSTART:20221030T010000
END:DAYLIGHT
END:VTIMEZONE
BEGIN:VEVENT
DTSTART;TZID=Europe/Dublin:20221108T170000
DTEND;TZID=Europe/Dublin:20221213T180000
DTSTAMP:20260420T223332
CREATED:20221104T121258Z
LAST-MODIFIED:20221104T125235Z
UID:2353-1667926800-1670954400@www.meathsports.ie
SUMMARY:Run Jump Throw Athboy
DESCRIPTION:The Run Jump Throw programme ran over 6 weeks is aimed at children with Autism / Intellectual disability aged 5-12 years. The sessions will include a variety of Sports\, Fun Games and Obstacle Challenges all adapted to the participants needs. \nThe programme aims to improve the participant’s fundamental movement skills and increase their confidence in participating in regular physical activity. The involvement of siblings is encouraged during the programme. \nFor more information on the Run Jump Throw programme please contact Sports Inclusion Disability Officer Terry Donegan on 0469067887 or email tdonegan@meathcoco.ie
URL:https://www.meathsports.ie/event/run-jump-throw-athboy/
LOCATION:Athboy Convent Community Centre\, Town Parks\, Kildalkey Road\, Co. Meath\, C15 P280\, Ireland
CATEGORIES:Inclusive Programmes / Events
ATTACH;FMTTYPE=image/jpeg:https://www.meathsports.ie/wp-content/uploads/2022/08/Run-Jump-Throw-pic.jpg
END:VEVENT
BEGIN:VEVENT
DTSTART;TZID=Europe/Dublin:20221110T163000
DTEND;TZID=Europe/Dublin:20221215T173000
DTSTAMP:20260420T223332
CREATED:20221104T121936Z
LAST-MODIFIED:20221104T125339Z
UID:2355-1668097800-1671125400@www.meathsports.ie
SUMMARY:Learn 2 Cycle Trim
DESCRIPTION:Learn 2 Cycle aims to assist children with a disability to cycle independently. This programme which is held over 6 weeks outdoors focuses on empowering parents and giving them the tools to support their child in learning to cycle. \nParticipants will be guided by our experienced tutor from the Cycling Safety School. \nTo book a place\, please contact Terry on 0469067887 or email tdonegan@meathcoco.ie
URL:https://www.meathsports.ie/event/learn-2-cycle-trim/
LOCATION:Trim GAA
CATEGORIES:Inclusive Programmes / Events
END:VEVENT
END:VCALENDAR