BEGIN:VCALENDAR
VERSION:2.0
PRODID:-//Meath Sports - ECPv6.12.0.1//NONSGML v1.0//EN
CALSCALE:GREGORIAN
METHOD:PUBLISH
X-WR-CALNAME:Meath Sports
X-ORIGINAL-URL:https://www.meathsports.ie
X-WR-CALDESC:Events for Meath Sports
REFRESH-INTERVAL;VALUE=DURATION:PT1H
X-Robots-Tag:noindex
X-PUBLISHED-TTL:PT1H
BEGIN:VTIMEZONE
TZID:Europe/Dublin
BEGIN:STANDARD
TZOFFSETFROM:+0000
TZOFFSETTO:+0100
TZNAME:IST
DTSTART:20220327T010000
END:STANDARD
BEGIN:DAYLIGHT
TZOFFSETFROM:+0100
TZOFFSETTO:+0000
TZNAME:GMT
DTSTART:20221030T010000
END:DAYLIGHT
END:VTIMEZONE
BEGIN:VEVENT
DTSTART;TZID=Europe/Dublin:20220519T183000
DTEND;TZID=Europe/Dublin:20220519T210000
DTSTAMP:20260421T113434
CREATED:20220419T083118Z
LAST-MODIFIED:20220419T083521Z
UID:1732-1652985000-1652994000@www.meathsports.ie
SUMMARY:Autism in Sport
DESCRIPTION:Meath Local Sports Partnership in partnership with CARA Centre will host an online Autism in Sport Workshop. This online workshop will provide attendees with an understanding of Autism focussing on the delivery of sport. This workshop is suitable for Sports leaders\, coaches\, volunteers\, teachers\, principals\, special needs assistants (SNAs)\, parents or anyone who has an interest in making their sport accessible and inclusive for people with Autism. \nDate: Thursday 19th May\nTime: 6:30pm-9:00pm\nVenue: Zoom\nCost: €10 per participant \nFor more information please contact Sports Inclusion Disability Office Terry Donegan on 0469067337 or email tdonegan@meathcoco.ie
URL:https://www.meathsports.ie/event/autism-in-sport/
LOCATION:Zoom Online
CATEGORIES:Inclusive Programmes / Events
ATTACH;FMTTYPE=image/jpeg:https://www.meathsports.ie/wp-content/uploads/2022/04/autism-in-sport.jpg
END:VEVENT
BEGIN:VEVENT
DTSTART;TZID=Europe/Dublin:20220523T190000
DTEND;TZID=Europe/Dublin:20220523T203000
DTSTAMP:20260421T113434
CREATED:20220419T083349Z
LAST-MODIFIED:20220419T083539Z
UID:1736-1653332400-1653337800@www.meathsports.ie
SUMMARY:Sports Inclusion & Disability Awareness
DESCRIPTION:Meath Local Sports Partnership in conjunction with Cavan Sports Partnership are delighted to announce we will be hosting a sports Inclusion and Disability Awareness Webinar.\nThis is a FREE webinar will be delivered Online and is aimed at people who are interested in taking the first step in making their activities inclusive. \nDate: Monday May 23rd\nTime: 7:00pm-8:30pm\nVenue: Zoom\nCost: Free \nFor more information please contact Sports Inclusion Disability Office Terry Donegan on 0469067337 or email tdonegan@meathcoco.ie
URL:https://www.meathsports.ie/event/sports-inclusion-disability-awareness-2/
LOCATION:Zoom Online
CATEGORIES:Inclusive Programmes / Events
ATTACH;FMTTYPE=image/jpeg:https://www.meathsports.ie/wp-content/uploads/2021/12/sports-inclusion-disability-awareness.jpg
END:VEVENT
END:VCALENDAR