BEGIN:VCALENDAR
VERSION:2.0
PRODID:-//Meath Sports - ECPv6.12.0.1//NONSGML v1.0//EN
CALSCALE:GREGORIAN
METHOD:PUBLISH
X-WR-CALNAME:Meath Sports
X-ORIGINAL-URL:https://www.meathsports.ie
X-WR-CALDESC:Events for Meath Sports
REFRESH-INTERVAL;VALUE=DURATION:PT1H
X-Robots-Tag:noindex
X-PUBLISHED-TTL:PT1H
BEGIN:VTIMEZONE
TZID:Europe/Dublin
BEGIN:STANDARD
TZOFFSETFROM:+0000
TZOFFSETTO:+0100
TZNAME:IST
DTSTART:20230326T010000
END:STANDARD
BEGIN:DAYLIGHT
TZOFFSETFROM:+0100
TZOFFSETTO:+0000
TZNAME:GMT
DTSTART:20231029T010000
END:DAYLIGHT
END:VTIMEZONE
BEGIN:VEVENT
DTSTART;TZID=Europe/Dublin:20230911T183000
DTEND;TZID=Europe/Dublin:20230911T213000
DTSTAMP:20260421T112741
CREATED:20230509T115339Z
LAST-MODIFIED:20230817T082800Z
UID:2945-1694457000-1694467800@www.meathsports.ie
SUMMARY:Safeguarding 1 Basic Awareness in Child Protection Workshop (FULLY BOOKED)
DESCRIPTION:Meath Local Sports Partnership offers a 3-hour basic awareness workshop for leaders within sports clubs/organisations. \n\nThe workshop will highlight the main principles of the Code and look at measures that clubs can take to create and maintain the safest possible environment for sport for young people.\nAs well as undertaking child protection training\, all clubs are encouraged to adopt child protection policies and procedures as outlined in the Code of Ethics and Good Practice for Children’s Sport.\n\nParticipants attending Safeguarding 1 Basic Awareness workshop must be over 18 years of age to attend. \nThe cost of the course is €20 if you are in a club in Meath and €30 if you are in a club outside of Meath. \nTo put your name on the waiting list please email lynn.oreilly@meathcoco.ie or call 0469067887 \nAs demand for places is high\, please make every effort to give enough notice of cancellation. Please note that there are no refunds if you fail to attend on the night.
URL:https://www.meathsports.ie/event/safeguarding-1-basic-awareness-in-child-protection-workshop-28/
LOCATION:Zoom Online
CATEGORIES:Courses / Workshops
ATTACH;FMTTYPE=image/jpeg:https://www.meathsports.ie/wp-content/uploads/2021/11/Code-of-Ethics-Children-New.jpg
END:VEVENT
BEGIN:VEVENT
DTSTART;TZID=Europe/Dublin:20230912T183000
DTEND;TZID=Europe/Dublin:20230912T213000
DTSTAMP:20260421T112741
CREATED:20230509T133534Z
LAST-MODIFIED:20230509T133718Z
UID:2958-1694543400-1694554200@www.meathsports.ie
SUMMARY:Safeguarding 2 Club Children's Officer (CCO) Workshop
DESCRIPTION:Recommendations from Sport Ireland are that every club involved with children and young people should appoint a Club Children’s Officer. This person should be child centered in focus and should have as their primary aim the establishment of a child centered ethos within the club. They are the link between the children and the adults in the club and also take responsibility for monitoring and reporting to the Club Management Committee on how club policy etc. impacts on children and their Sports Leaders. \nThe Club Children’s Officer should have the following functions: \n\nTo promote awareness of the Code of Ethics and Good Practice for Children’s Sport in Ireland within the club and particularly among the children and their parents/guardians. This could be achieved by the production of information leaflets\, the establishment of children’s/age-group specific notice boards and by regular information meetings for the children and their parents/guardians.\nTo influence policy and practice within the club in order to prioritise children’s needs.\nTo provide an accessible resource to children through the creation of forums.\n\nIt is essential that those who wish to attend the Safeguarding 2 Club Children’s Officer (CCO) Training have attended the Safeguarding 1 Awareness/Child Protection Training workshop. \nIt is recommended to have at least one Club Children’s Officer per club or if there is a large number of both boys and girls in the club\, to have two Club Children’s Officers – one male and one female. \nCost: The cost for this course is €20 per person for clubs in Meath\, for participants outside Meath the cost is €30 per person. \nHow to book: To book a place on this course please call Lynn on 0469067887 or email lynn.oreilly@meathcoco.ie to check availability of spaces. \n*A laptop/ipad/smart phone along with a good internet connection is required for this course. \nAs demand for places is high\, please make every effort to give enough notice of cancellation. Please note that there are no refunds if you fail to attend on the night.
URL:https://www.meathsports.ie/event/safeguarding-2-club-childrens-officer-cco-workshop-7/
LOCATION:Zoom Online
CATEGORIES:Courses / Workshops
ATTACH;FMTTYPE=image/jpeg:https://www.meathsports.ie/wp-content/uploads/2021/11/Code-of-Ethics-Children-New.jpg
END:VEVENT
BEGIN:VEVENT
DTSTART;TZID=Europe/Dublin:20230921T183000
DTEND;TZID=Europe/Dublin:20230921T220000
DTSTAMP:20260421T112741
CREATED:20230524T094051Z
LAST-MODIFIED:20230817T082924Z
UID:2981-1695321000-1695333600@www.meathsports.ie
SUMMARY:Sports Injuries First Aid Workshop (FULLY BOOKED)
DESCRIPTION:Date: Thursday 21st September\nTime:  6.30pm to 10pm\nVenue: Athboy Convent Community Centre \nThe Sports Injuries First Aid Course is aimed at coaches\, mentors\, teachers\, supervisors\, players\, athletes and volunteers. Anyone wishing to be able to deal with minor sports injuries. \nThis course covers a comprehensive range of topics to prepare participants to administer First Aid care. Participants will learn practical skills so that they can deal competently with situations that may arise. \nCourse Content \nThis course has an emphasis on dealing with minor Sports Injuries. \n\nScene Management\nBleeding and Wounds\nTreatment for Shock\nHeart Conditions\nFractures\nSprains & Strains\nUnconsciousness & the Recovery Position\n\nOn Successful Completion Course\, participants are issued with a First Aid Certificate of attendance. All instructors & examiners hold current certification from the Occupational First Aid Assessment Agent and are listed on their register maintained there on behalf of the Health and Safety Authority. \nThe cost for this course is €35 per person if you are in a club in Meath or €40 if you are in a club outside of Meath. \nTo put your name on the waiting list please call Lynn on 0469067887 or email lynn.oreilly@meathcoco.ie
URL:https://www.meathsports.ie/event/sports-injuries-first-aid-workshop-4/
LOCATION:Athboy Convent Community Centre\, Town Parks\, Kildalkey Road\, Co. Meath\, C15 P280\, Ireland
CATEGORIES:Courses / Workshops
ATTACH;FMTTYPE=image/jpeg:https://www.meathsports.ie/wp-content/uploads/2021/12/first-aid.jpg
END:VEVENT
BEGIN:VEVENT
DTSTART;TZID=Europe/Dublin:20230928T183000
DTEND;TZID=Europe/Dublin:20230928T213000
DTSTAMP:20260421T112741
CREATED:20230509T115836Z
LAST-MODIFIED:20230927T134846Z
UID:2948-1695925800-1695936600@www.meathsports.ie
SUMMARY:Safeguarding 1 Basic Awareness in Child Protection Workshop (FULLY BOOKED)
DESCRIPTION:Meath Local Sports Partnership offers a 3-hour basic awareness workshop for leaders within sports clubs/organisations. \n\nThe workshop will highlight the main principles of the Code and look at measures that clubs can take to create and maintain the safest possible environment for sport for young people.\nAs well as undertaking child protection training\, all clubs are encouraged to adopt child protection policies and procedures as outlined in the Code of Ethics and Good Practice for Children’s Sport.\n\nParticipants attending Safeguarding 1 Basic Awareness workshop must be over 18 years of age to attend. \nThe cost of the course is €20 if you are in a club in Meath and €30 if you are in a club outside of Meath. \nTo put your name on the cancellation list please email mlsp@meathcoco.ie or call 0469067887 \nAs demand for places is high\, please make every effort to give enough notice of cancellation. Please note that there are no refunds if you fail to attend on the night.
URL:https://www.meathsports.ie/event/safeguarding-1-basic-awareness-in-child-protection-workshop-29/
LOCATION:Zoom Online
CATEGORIES:Courses / Workshops
ATTACH;FMTTYPE=image/jpeg:https://www.meathsports.ie/wp-content/uploads/2021/11/Code-of-Ethics-Children-New.jpg
END:VEVENT
END:VCALENDAR