BEGIN:VCALENDAR
VERSION:2.0
PRODID:-//Meath Sports - ECPv6.12.0.1//NONSGML v1.0//EN
CALSCALE:GREGORIAN
METHOD:PUBLISH
X-WR-CALNAME:Meath Sports
X-ORIGINAL-URL:https://www.meathsports.ie
X-WR-CALDESC:Events for Meath Sports
REFRESH-INTERVAL;VALUE=DURATION:PT1H
X-Robots-Tag:noindex
X-PUBLISHED-TTL:PT1H
BEGIN:VTIMEZONE
TZID:Europe/Dublin
BEGIN:STANDARD
TZOFFSETFROM:+0000
TZOFFSETTO:+0100
TZNAME:IST
DTSTART:20220327T010000
END:STANDARD
BEGIN:DAYLIGHT
TZOFFSETFROM:+0100
TZOFFSETTO:+0000
TZNAME:GMT
DTSTART:20221030T010000
END:DAYLIGHT
END:VTIMEZONE
BEGIN:VEVENT
DTSTART;TZID=Europe/Dublin:20221101T183000
DTEND;TZID=Europe/Dublin:20221101T213000
DTSTAMP:20260422T035049
CREATED:20220526T093751Z
LAST-MODIFIED:20220526T094306Z
UID:1837-1667327400-1667338200@www.meathsports.ie
SUMMARY:Safeguarding 1 Basic Awareness In Child Protection Workshop
DESCRIPTION:Meath Local Sports Partnership offers a 3-hour basic awareness workshop for leaders within sports clubs/organisations. \n\nThe workshop will highlight the main principles of the Code and look at measures that clubs can take to create and maintain the safest possible environment for sport for young people.\nAs well as undertaking child protection training\, all clubs are encouraged to adopt child protection policies and procedures as outlined in the Code of Ethics and Good Practice for Children’s Sport.\n\nParticipants attending Safeguarding 1 Basic Awareness workshop must be over 18 years of age to attend. \nThe cost of the course is €20 if you are in a club in Meath and €30 if you are in a club outside of Meath. \nTo book your place\, please email lynn.oreilly@meathcoco.ie or call 046-9067337 to check availability of spaces. \n*A laptop/ipad/smart phone along with a good internet connection is required for this course. \nAs demand for places is high\, please make every effort to give enough notice of cancellation. Please note that there are no refunds if you fail to attend on the night.
URL:https://www.meathsports.ie/event/safeguarding-1-basic-awareness-in-child-protection-workshop-15/
LOCATION:Zoom Online
CATEGORIES:Courses / Workshops
ATTACH;FMTTYPE=image/jpeg:https://www.meathsports.ie/wp-content/uploads/2021/11/Code-of-Ethics-Children-New.jpg
END:VEVENT
BEGIN:VEVENT
DTSTART;TZID=Europe/Dublin:20221107T180000
DTEND;TZID=Europe/Dublin:20221109T210000
DTSTAMP:20260422T035049
CREATED:20221018T095058Z
LAST-MODIFIED:20221018T095058Z
UID:2192-1667844000-1668027600@www.meathsports.ie
SUMMARY:FAI - PDP 1
DESCRIPTION:FAI PDP 1 Blended (Online Monday\, In Person Wednesday) Athboy Celtic\n\nMonday 07/11/2022 & Wednesday 09/11/2022\,  6pm-9pm.\n\n\n\n\n\n\n\nRequirements\nAll FAI Education should start with a Safeguarding 1 course and your Garda Vetting application. All participants must be aged 16 or over. Participants should ensure that all necessary personal and health insurance is arranged prior to and for the full duration of the course.\n\n\nContents\nThe course is a mix of theory and practical so please bring a pen\, notepad and gear to participate in the sessions. Participants should bring water and a packed lunch.\n\n\nGoals\nThe course is designed to assist parents and coaches\, to introduce children (aged 6-9 years) to fun soccer games and FUNdamental movement skills in a well-structured\, stimulating and safe environment.\n\n\nTarget group\nParents and coaches\n\n\nNote\nAny cancellations must be notified at least 48 hours in advance by email to Coach Education: coached@fai.ie Participants\, who have paid for a course\, shall not be entitled to refund if they are unable to attend a course. Any participant\, who is unable to attend a scheduled course and has informed the Coach Education department of same\, can reschedule to attend the course at a future date\, of the participants choice\, providing that course is not already fully booked. The FAI reserve the right to cancel an education course in the unlikely event of the; minimum number of participants not meeting quota\, weather negatively affecting participants safety\, government guidelines etc. If an event is cancelled by the FAI\, each participant will be offered a full refund or placement on a future equivalent course. If a participant registers for a course\, without meeting the necessary prerequisites\, the participant shall not be entitled to a refund. The fees received by the Association will be kept on credit and can be used by the participant to complete the necessary prerequisite courses.\n\n\nMethod\nPractical and classroom
URL:https://www.meathsports.ie/event/fai-pdp-1/
LOCATION:Athboy Celtic FC\, Convent Grounds\, Kildalkey Rd\,\, Athboy\, Meath\, Ireland
CATEGORIES:Club Coaching Corner,Courses / Workshops
ATTACH;FMTTYPE=image/jpeg:https://www.meathsports.ie/wp-content/uploads/2021/12/FAI-Logo.jpg
ORGANIZER;CN="Richie Smith FAI":MAILTO:richard.smith@fai.ie
END:VEVENT
BEGIN:VEVENT
DTSTART;TZID=Europe/Dublin:20221107T183000
DTEND;TZID=Europe/Dublin:20221107T213000
DTSTAMP:20260422T035049
CREATED:20220526T094737Z
LAST-MODIFIED:20220526T094737Z
UID:1845-1667845800-1667856600@www.meathsports.ie
SUMMARY:Safeguarding 2 Club Children’s Officer (CCO) Workshop
DESCRIPTION:Recommendations from Sport Ireland are that every club involved with children and young people should appoint a Club Children’s Officer. This person should be child centered in focus and should have as their primary aim the establishment of a child centered ethos within the club. They are the link between the children and the adults in the club and also take responsibility for monitoring and reporting to the Club Management Committee on how club policy etc. impacts on children and their Sports Leaders. \nThe Club Children’s Officer should have the following functions: \n\nTo promote awareness of the Code of Ethics and Good Practice for Children’s Sport in Ireland within the club and particularly among the children and their parents/guardians. This could be achieved by the production of information leaflets\, the establishment of children’s/age-group specific notice boards and by regular information meetings for the children and their parents/guardians.\nTo influence policy and practice within the club in order to prioritise children’s needs.\nTo provide an accessible resource to children through the creation of forums.\n\nIt is essential that those who wish to attend the Safeguarding 2 Club Children’s Officer (CCO) Training have attended the Safeguarding 1 Awareness/Child Protection Training workshop. \nIt is recommended to have at least one Club Children’s Officer per club or if there is a large number of both boys and girls in the club\, to have two Club Children’s Officers – one male and one female. \nCost: The cost for this course is €20 per person for clubs in Meath\, for participants outside Meath the cost is €30 per person. \nHow to book: To book a place on this course please call Lynn on 046-9067337 or email lynn.oreilly@meathcoco.ie to check availability of spaces. \n*A laptop/ipad/smart phone along with a good internet connection is required for this course. \nAs demand for places is high\, please make every effort to give enough notice of cancellation. Please note that there are no refunds if you fail to attend on the night.
URL:https://www.meathsports.ie/event/safeguarding-2-club-childrens-officer-cco-workshop-6/
LOCATION:Zoom Online
CATEGORIES:Courses / Workshops
ATTACH;FMTTYPE=image/jpeg:https://www.meathsports.ie/wp-content/uploads/2021/11/Code-of-Ethics-Children-New.jpg
END:VEVENT
BEGIN:VEVENT
DTSTART;TZID=Europe/Dublin:20221108T080000
DTEND;TZID=Europe/Dublin:20221129T170000
DTSTAMP:20260422T035049
CREATED:20221012T142415Z
LAST-MODIFIED:20221012T150544Z
UID:2183-1667894400-1669741200@www.meathsports.ie
SUMMARY:Coaching Children Workshops
DESCRIPTION:Sport Ireland Coaching have developed 4 modules\, specifically to provide participants with a basic understanding of children’s sport and physical activity and the best way to optimise children’s enjoyment\, participation\, and positive outcomes. The concepts Physical Literacy and Holistic Development run throughout the series of workshops and will be covered in detail. \nThis series is a set of four 3 hour workshops and is aimed at coaches and volunteers working with children in sport. \nThe workshops run from 6:30-9:30pm on: \n\nTuesday 8thNovember\nThursday 17th November\nThursday 24th November\nTuesday 29th November\n\nAll four workshops must be completed in order to receive a certificate of attendance. \nRegister at: https://eventmaster.ie/event/E2jrC4EF74
URL:https://www.meathsports.ie/event/coaching-children-workshop/
LOCATION:Zoom Online
CATEGORIES:Courses / Workshops
ATTACH;FMTTYPE=image/jpeg:https://www.meathsports.ie/wp-content/uploads/2022/10/Coaching-Children-poster-snip.jpg
END:VEVENT
BEGIN:VEVENT
DTSTART;TZID=Europe/Dublin:20221117T183000
DTEND;TZID=Europe/Dublin:20221117T213000
DTSTAMP:20260422T035049
CREATED:20220526T095208Z
LAST-MODIFIED:20220526T095208Z
UID:1849-1668709800-1668720600@www.meathsports.ie
SUMMARY:Safeguarding 3 Designated Liaison Person (DLP) Workshop
DESCRIPTION:The third part of the ISC Child Welfare & Protection Training Programme is the Designated Liaison Person workshop. \nEvery club/organisation should designate a person to be responsible for dealing with any concerns about the protection of children. The Designated Liaison Person is responsible for reporting allegations or suspicions of child abuse to TUSLA Child and Family Agency and/or An Garda Siochána. It is recommended that this person is a senior club person. However\, if there is difficulty identifying a separate individual to take this role\, the Club Children’s Officer can be appointed as Designated Liaison Person once the club/organisation is clear about the responsibilities of each role. The organisation’s child protection policy and procedures should include the name and contact details of the Designated Liaison Person and the responsibilities attached to the role. \nA person appointed to the Designated Liaison Person position in a club must have completed the Basic Awareness Workshop in Child Welfare & Protection and should complete the NEW Designated Liaison Person 3 hour workshop. \nIt is essential that those who wish to attend the Safeguarding 3 Designated Liaison Person (DLP) Training have attended the Safeguarding 1 Child Welfare & Protection Workshop. \nA club may appoint the same person to both the CCO and DLP positions however best practice advises that they are kept as separate roles. \nCost: The cost for this course is €20 per person for clubs in Meath\, for participants outside Meath the cost is €30 per person. \nTo book: Please contact Lynn on 046-9067337 or email lynn.oreilly@meathcoco.ie \n*A laptop/ipad/smart phone along with a good internet connection is required for this course. \nAs demand for places is high\, please make every effort to give enough notice of cancellation. Please note that there are no refunds if you fail to attend on the night.
URL:https://www.meathsports.ie/event/safeguarding-3-designated-liaison-person-dlp-workshop-4/
LOCATION:Zoom Online
CATEGORIES:Courses / Workshops
ATTACH;FMTTYPE=image/jpeg:https://www.meathsports.ie/wp-content/uploads/2021/11/Code-of-Ethics-Children-New.jpg
END:VEVENT
BEGIN:VEVENT
DTSTART;TZID=Europe/Dublin:20221120T093000
DTEND;TZID=Europe/Dublin:20221120T160000
DTSTAMP:20260422T035049
CREATED:20221018T095326Z
LAST-MODIFIED:20221018T095410Z
UID:2196-1668936600-1668960000@www.meathsports.ie
SUMMARY:FAI - PDP2
DESCRIPTION:FAI PDP 2\n\n\n\nDate: 20/11/2022 09:30-16:00\n\n\n\n\nRequirements\nCompleted: Safeguarding 1 & Garda Vetted\, PDP 1 Course. Participants should be 16 years or over. Participants should ensure that all necessary personal and health insurance is arranged prior to and for the full duration of the course.\n\n\nContents\nThe course is a mix of theory and practical so please bring a pen\, notepad and gear to participate in the sessions. They will take place on either grass or all-weather depending on the weather. You should also bring a packed lunch with you.\n\n\nGoals\nThe course is designed to assist coaches in the development of the player’s (aged 9-12 years) soccer specific and FUNdamental movement’s skills in game related functions\, progressing into small sided games.\n\n\nTarget group\nCoaches\n\n\nNote\nAny cancellations must be notified by email to Coach Education: coached@fai.ie a minimum of 48 hours prior to the course. Participants\, who have paid for a course\, shall not be entitled to refund if they are unable to attend a course. Any participant\, who is unable to attend a scheduled course and has informed the Coach Education department of same\, can reschedule to attend the course at a future date\, of the participants choice\, providing that course is not already fully booked. The FAI reserve the right to cancel an education course in the unlikely event of the; minimum number of participants not meeting quota\, weather negatively affecting participants safety\, government guidelines etc. If an event is cancelled by the FAI\, each participant will be offered a full refund or placement on a future equivalent course. If a participant registers for a course\, without meeting the necessary prerequisites\, the participant shall not be entitled to a refund. The fees received by the Association will be kept on credit and can be used by the participant to complete the necessary prerequisite courses\n\n\nMethod\nMix of theory and practical
URL:https://www.meathsports.ie/event/fai-pdp2/
LOCATION:Claremont Stadium\, Commons Rd\, Navan\, Meath\, Ireland
CATEGORIES:Club Coaching Corner,Courses / Workshops
ATTACH;FMTTYPE=image/jpeg:https://www.meathsports.ie/wp-content/uploads/2021/12/FAI-Logo.jpg
ORGANIZER;CN="Richie Smith FAI":MAILTO:richard.smith@fai.ie
END:VEVENT
BEGIN:VEVENT
DTSTART;TZID=Europe/Dublin:20221121T183000
DTEND;TZID=Europe/Dublin:20221121T213000
DTSTAMP:20260422T035049
CREATED:20220526T093914Z
LAST-MODIFIED:20221108T083206Z
UID:1839-1669055400-1669066200@www.meathsports.ie
SUMMARY:Safeguarding 1 Basic Awareness In Child Protection Workshop (FULLY BOOKED)
DESCRIPTION:Meath Local Sports Partnership offers a 3-hour basic awareness workshop for leaders within sports clubs/organisations. \n\nThe workshop will highlight the main principles of the Code and look at measures that clubs can take to create and maintain the safest possible environment for sport for young people.\nAs well as undertaking child protection training\, all clubs are encouraged to adopt child protection policies and procedures as outlined in the Code of Ethics and Good Practice for Children’s Sport.\n\nParticipants attending Safeguarding 1 Basic Awareness workshop must be over 18 years of age to attend. \nThe cost of the course is €20 if you are in a club in Meath and €30 if you are in a club outside of Meath. \nTo put your name on the cancellation list please contact lynn.oreilly@meathcoco.ie or call 0469067887. \n*A laptop/ipad/smart phone along with a good internet connection is required for this course. \nAs demand for places is high\, please make every effort to give enough notice of cancellation. Please note that there are no refunds if you fail to attend on the night.
URL:https://www.meathsports.ie/event/safeguarding-1-basic-awareness-in-child-protection-workshop-16/
LOCATION:Zoom Online
CATEGORIES:Courses / Workshops
ATTACH;FMTTYPE=image/jpeg:https://www.meathsports.ie/wp-content/uploads/2021/11/Code-of-Ethics-Children-New.jpg
END:VEVENT
BEGIN:VEVENT
DTSTART;TZID=Europe/Dublin:20221126T093000
DTEND;TZID=Europe/Dublin:20221126T160000
DTSTAMP:20260422T035049
CREATED:20221018T095817Z
LAST-MODIFIED:20221018T100400Z
UID:2198-1669455000-1669478400@www.meathsports.ie
SUMMARY:FAI - Adult Amateur Licence
DESCRIPTION:Date: 26/11/2022 09:30 – 16:00\n\n\n\n\nRequirements\nCoach should be coaching in the Adult game and must have completed child welfare / safeguarding workshop. Participants should be aged 16 or over. All FAI Education should start with a Safeguarding 1 course and all participants must be FAI Garda Vetted. The course will take place in a classroom and on either grass or all-weather depending on the weather. You should also bring a packed lunch with you. Participants will be asked to abide by the Code of Ethics / Conduct in Soccer and the Code of Ethics and Good Practice for Sport in Ireland. Participants must also agree to abide by the rules laid down by the Football Association of Ireland and its staff. Participants should ensure that all necessary personal and health insurance is arranged prior to and for the full duration of the course.\n\n\nContents\nA link\, along with the meeting ID and password\, to the course will be emailed to the email address you provide on the evening before or morning of the course. To access this course\, you will need to click on the link or access via the meeting ID and password provided to you. On completion of the course\, a certificate of attendance will be emailed to the email address you have provided.\n\n\nGoals\nThe course is designed to assist coaches working within the adult amateur game in acquiring the specific knowledge for the development of players working within the adult game. The course is aimed at providing the coach with knowledge\, skills and competence to coach at this level.\n\n\n\n\n\n\nNote\nAny cancellations must be notified by email to Coach Education: coached@fai.ie a minimum of 48 hours prior to the course. Participants\, who have paid for a course\, shall not be entitled to refund if they are unable to attend a course. Any participant\, who is unable to attend a scheduled course and has informed the Coach Education department of same\, can reschedule to attend the course at a future date\, of the participants choice\, providing that course is not already fully booked. The FAI reserve the right to cancel an education course in the unlikely event of the; minimum number of participants not meeting quota\, weather negatively affecting participants safety\, government guidelines etc. If an event is cancelled by the FAI\, each participant will be offered a full refund or placement on a future equivalent course. If a participant registers for a course\, without meeting the necessary prerequisites\, the participant shall not be entitled to a refund. The fees received by the Association will be kept on credit and can be used by the participant to complete the necessary prerequisite courses
URL:https://www.meathsports.ie/event/fai-adult-amateur-licence/
LOCATION:MDL Grounds Navan\, Trim Road\,\, Navan\, Meath\, Ireland
CATEGORIES:Club Coaching Corner,Courses / Workshops
ATTACH;FMTTYPE=image/jpeg:https://www.meathsports.ie/wp-content/uploads/2021/12/FAI-Logo.jpg
ORGANIZER;CN="Richie Smith FAI":MAILTO:richard.smith@fai.ie
END:VEVENT
BEGIN:VEVENT
DTSTART;TZID=Europe/Dublin:20221130T183000
DTEND;TZID=Europe/Dublin:20221130T213000
DTSTAMP:20260422T035049
CREATED:20220526T094017Z
LAST-MODIFIED:20221108T083133Z
UID:1841-1669833000-1669843800@www.meathsports.ie
SUMMARY:Safeguarding 1 Basic Awareness In Child Protection Workshop (FULLY BOOKED)
DESCRIPTION:Meath Local Sports Partnership offers a 3-hour basic awareness workshop for leaders within sports clubs/organisations. \n\nThe workshop will highlight the main principles of the Code and look at measures that clubs can take to create and maintain the safest possible environment for sport for young people.\nAs well as undertaking child protection training\, all clubs are encouraged to adopt child protection policies and procedures as outlined in the Code of Ethics and Good Practice for Children’s Sport.\n\nParticipants attending Safeguarding 1 Basic Awareness workshop must be over 18 years of age to attend. \nThe cost of the course is €20 if you are in a club in Meath and €30 if you are in a club outside of Meath. \nTo put your name on the cancellation list please contact lynn.oreilly@meathcoco.ie or call 0469067887. \n*A laptop/ipad/smart phone along with a good internet connection is required for this course. \nAs demand for places is high\, please make every effort to give enough notice of cancellation. Please note that there are no refunds if you fail to attend on the night.
URL:https://www.meathsports.ie/event/safeguarding-1-basic-awareness-in-child-protection-workshop-17/
LOCATION:Zoom Online
CATEGORIES:Courses / Workshops
ATTACH;FMTTYPE=image/jpeg:https://www.meathsports.ie/wp-content/uploads/2021/11/Code-of-Ethics-Children-New.jpg
END:VEVENT
END:VCALENDAR