BEGIN:VCALENDAR
VERSION:2.0
PRODID:-//Meath Sports - ECPv6.12.0.1//NONSGML v1.0//EN
CALSCALE:GREGORIAN
METHOD:PUBLISH
X-ORIGINAL-URL:https://www.meathsports.ie
X-WR-CALDESC:Events for Meath Sports
REFRESH-INTERVAL;VALUE=DURATION:PT1H
X-Robots-Tag:noindex
X-PUBLISHED-TTL:PT1H
BEGIN:VTIMEZONE
TZID:Europe/Dublin
BEGIN:STANDARD
TZOFFSETFROM:+0000
TZOFFSETTO:+0100
TZNAME:IST
DTSTART:20250330T010000
END:STANDARD
BEGIN:DAYLIGHT
TZOFFSETFROM:+0100
TZOFFSETTO:+0000
TZNAME:GMT
DTSTART:20251026T010000
END:DAYLIGHT
BEGIN:STANDARD
TZOFFSETFROM:+0000
TZOFFSETTO:+0100
TZNAME:IST
DTSTART:20260329T010000
END:STANDARD
BEGIN:DAYLIGHT
TZOFFSETFROM:+0100
TZOFFSETTO:+0000
TZNAME:GMT
DTSTART:20261025T010000
END:DAYLIGHT
END:VTIMEZONE
BEGIN:VEVENT
DTSTART;TZID=Europe/Dublin:20250128T120000
DTEND;TZID=Europe/Dublin:20250128T130000
DTSTAMP:20260421T210407
CREATED:20250121T151657Z
LAST-MODIFIED:20250121T151657Z
UID:5497-1738065600-1738069200@www.meathsports.ie
SUMMARY:Mature Movers - Athboy
DESCRIPTION:Mature Movers – Athboy \nThis 6-week programme includes activities such as seated exercise to music\, resistance exercises\, core stability\, balance and fall prevention. Mature Movers is ideally suited to adults 50+ and provides enjoyable social interaction\, fun and activities. \nCost – €35 \nDiscounted price for online bookings €30 \nClick here to book  \nContact Paula on 0469067887 or email pcunningham@meathcoco.ie for more information.
URL:https://www.meathsports.ie/event/mature-movers-athboy/
LOCATION:St. James Hall
CATEGORIES:Adults over 50 events
ATTACH;FMTTYPE=image/jpeg:https://www.meathsports.ie/wp-content/uploads/2024/12/Kells-group-close-.jpg
END:VEVENT
BEGIN:VEVENT
DTSTART;TZID=Europe/Dublin:20250129T110000
DTEND;TZID=Europe/Dublin:20250129T120000
DTSTAMP:20260421T210407
CREATED:20250121T150328Z
LAST-MODIFIED:20250121T150328Z
UID:5493-1738148400-1738152000@www.meathsports.ie
SUMMARY:Mature Movers
DESCRIPTION:Mature Movers – Kells \nThis 6-week programme includes activities such as seated exercise to music\, resistance exercises\, core stability\, balance and fall prevention. Mature Movers is ideally suited to adults 50+ and provides enjoyable social interaction\, fun and activities. \nCost – €35 \nDiscounted price for online bookings €30 \nClick here to book  \nContact Paula on 0469067887 or email pcunningham@meathcoco.ie to book your place.
URL:https://www.meathsports.ie/event/mature-movers-3/
LOCATION:Eureka Houe\, Navan Road\, Kells\, A82DX47
CATEGORIES:Adults over 50 events
ATTACH;FMTTYPE=image/jpeg:https://www.meathsports.ie/wp-content/uploads/2024/12/Kells-group-close-.jpg
END:VEVENT
BEGIN:VEVENT
DTSTART;TZID=Europe/Dublin:20250129T140000
DTEND;TZID=Europe/Dublin:20250129T150000
DTSTAMP:20260421T210407
CREATED:20250121T150704Z
LAST-MODIFIED:20250121T150704Z
UID:5495-1738159200-1738162800@www.meathsports.ie
SUMMARY:Mature Movers
DESCRIPTION:Mature Movers – Ashbourne \nThis 6-week programme includes activities such as seated exercise to music\, resistance exercises\, core stability\, balance and fall prevention. Mature Movers is ideally suited to adults 50+ and provides enjoyable social interaction\, fun and activities. \nCost – €35 \nDiscounted price for online bookings €30 \nClick here to book  \nContact Paula on 0469067887 or email pcunningham@meathcoco.ie for more information.
URL:https://www.meathsports.ie/event/mature-movers-4/
LOCATION:Donaghmore Ashbourne GAA
CATEGORIES:Adults over 50 events
ATTACH;FMTTYPE=image/jpeg:https://www.meathsports.ie/wp-content/uploads/2024/12/Kells-group-close-.jpg
END:VEVENT
BEGIN:VEVENT
DTSTART;TZID=Europe/Dublin:20250130T110000
DTEND;TZID=Europe/Dublin:20250130T120000
DTSTAMP:20260421T210407
CREATED:20250117T161357Z
LAST-MODIFIED:20250117T161357Z
UID:5467-1738234800-1738238400@www.meathsports.ie
SUMMARY:Chair Yoga
DESCRIPTION:Chair Yoga  \nExciting new chair Yoga/wellness class for adults 50+. This is a unique programme which combines multiple elements of Yoga\, mindfulness\, breathwork and physical activity\, exercises can be chair bases or standing to suit the individual taking part. The class is taught by a qualified yoga instructor and includes an uplifting sing along to finish off each session. \nClasses will run for a 6-week period. \nDuleek – Duleek Community Facility – Thursday 30th January 11am \nCost – €30 * Subject to €2.50 booking fee \nClick here to book  \nFor more information contact Paula on 0469067887 or email pcunningham@meathcoco.ie
URL:https://www.meathsports.ie/event/chair-yoga/
LOCATION:Duleek Community Facility\, Duleek\, Navan Road\, A92F2HN\, Ireland
CATEGORIES:Adults over 50 events
ATTACH;FMTTYPE=image/jpeg:https://www.meathsports.ie/wp-content/uploads/2025/01/chair-yoga.jpg
END:VEVENT
BEGIN:VEVENT
DTSTART;TZID=Europe/Dublin:20250205T113000
DTEND;TZID=Europe/Dublin:20250205T123000
DTSTAMP:20260421T210407
CREATED:20250121T151940Z
LAST-MODIFIED:20250121T151940Z
UID:5500-1738755000-1738758600@www.meathsports.ie
SUMMARY:Mature Movers - Trim
DESCRIPTION:Mature Movers – Trim \nThis 6-week programme includes activities such as seated exercise to music\, resistance exercises\, core stability\, balance and fall prevention. Mature Movers is ideally suited to adults 50+ and provides enjoyable social interaction\, fun and activities. \nCost – €35 \nDiscounted price for online bookings €30 \nClick here to book  \nContact Paula on 0469067887 or email pcunningham@meathcoco.ie for more information.
URL:https://www.meathsports.ie/event/mature-movers-trim-2/
LOCATION:Trim GAA
CATEGORIES:Adults over 50 events
ATTACH;FMTTYPE=image/jpeg:https://www.meathsports.ie/wp-content/uploads/2024/12/Kells-group-close-.jpg
END:VEVENT
BEGIN:VEVENT
DTSTART;TZID=Europe/Dublin:20250205T120000
DTEND;TZID=Europe/Dublin:20250205T130000
DTSTAMP:20260421T210407
CREATED:20250117T160619Z
LAST-MODIFIED:20250117T160630Z
UID:5461-1738756800-1738760400@www.meathsports.ie
SUMMARY:Zumba Gold
DESCRIPTION:Zumba Gold is a lower intensity version of the popular dance-based exercise class. With easy-to-follow moves\, focusing on improving range of motion\, balance and cardiovascular fitness\, this upbeat class is perfect for those who’s new year resolution is to move more. \nCome and try the class in\, \nNavan – Claremont Stadium\, Wednesday 5th February 12pm \nCost – €20 per 4-week block *Subject to €1.40 booking fee \nClick here to book  \nContact Paula on 0469067887 or email pcunningham@meathcoco.ie to book your place.
URL:https://www.meathsports.ie/event/zumba-gold-2/
LOCATION:Claremont Stadium\, Commons Rd\, Navan\, Meath\, Ireland
CATEGORIES:Adults over 50 events
ATTACH;FMTTYPE=image/jpeg:https://www.meathsports.ie/wp-content/uploads/2024/10/Simonstown--scaled.jpg
END:VEVENT
BEGIN:VEVENT
DTSTART;TZID=Europe/Dublin:20250206T103000
DTEND;TZID=Europe/Dublin:20250206T113000
DTSTAMP:20260421T210407
CREATED:20250121T152625Z
LAST-MODIFIED:20250121T152625Z
UID:5503-1738837800-1738841400@www.meathsports.ie
SUMMARY:Mature Movers - Ratoath
DESCRIPTION:Mature Movers – Ratoath \nThis 6-week programme includes activities such as seated exercise to music\, resistance exercises\, core stability\, balance and fall prevention. Mature Movers is ideally suited to adults 50+ and provides enjoyable social interaction\, fun and activities. \nCost – €35 \nDiscounted price for online bookings €30 \nClick here to book  \nContact Paula on 0469067887 or email pcunningham@meathcoco.ie for more information.
URL:https://www.meathsports.ie/event/mature-movers-ratoath-3/
LOCATION:The Venue
CATEGORIES:Adults over 50 events
ATTACH;FMTTYPE=image/jpeg:https://www.meathsports.ie/wp-content/uploads/2024/12/Kells-group-close-.jpg
END:VEVENT
BEGIN:VEVENT
DTSTART;TZID=Europe/Dublin:20250519T100000
DTEND;TZID=Europe/Dublin:20250519T110000
DTSTAMP:20260421T210407
CREATED:20250508T144445Z
LAST-MODIFIED:20250508T144445Z
UID:6082-1747648800-1747652400@www.meathsports.ie
SUMMARY:Intro to Pitch and Putt Adults 50+
DESCRIPTION:Intorduction to Pitch and Putt Adults 50+ \nThis 4-week course is suitable for Adults 50+ who are new or returning to Pitch and Putt. \nThe programme will provide small group coaching. \nEquiptment provided. \nNo previous experience required. \nCost – €20 for 4 weeks \nClick here to book 
URL:https://www.meathsports.ie/event/intro-to-pitch-and-putt-adults-50/
LOCATION:Laytown Pitch and Putt club
CATEGORIES:Adults over 50 events
ATTACH;FMTTYPE=image/jpeg:https://www.meathsports.ie/wp-content/uploads/2024/07/Pitch-and-putt-navan--scaled.jpg
END:VEVENT
BEGIN:VEVENT
DTSTART;TZID=Europe/Dublin:20250702T110000
DTEND;TZID=Europe/Dublin:20250702T130000
DTSTAMP:20260421T210407
CREATED:20250509T105925Z
LAST-MODIFIED:20250509T110208Z
UID:6094-1751454000-1751461200@www.meathsports.ie
SUMMARY:Adults 50+ Beach Activity Morning
DESCRIPTION:Join us on Bettystown Beach for a morning of fun and activity tailored for adults 50+ \nThe event will include game based activity such as Pétanque\, Cornhole as well as adapted versions of Beach Volleyball\, Olympic Handball and walking Rugby and Soccer. \nOptional Walk n Wade to cool down and finish off the morning. \nCost – €5 per participant \nDate – Wednesday 2nd July \nTime – 11am \nLocation – Bettystown Beach \nRegistration is required\, book using the link below or contact Paula on 0469067887 or email pcunningham@meathcoco.ie if you need help booking. \nClick here to register  \n 
URL:https://www.meathsports.ie/event/adults-50-beach-activity-morning/
LOCATION:Bettystown Beach
CATEGORIES:Adults over 50 events
ATTACH;FMTTYPE=image/jpeg:https://www.meathsports.ie/wp-content/uploads/2024/12/ac8431c9-17ca-4a6e-899a-4373078826dc.jpg
END:VEVENT
BEGIN:VEVENT
DTSTART;TZID=Europe/Dublin:20260304T110000
DTEND;TZID=Europe/Dublin:20260304T120000
DTSTAMP:20260421T210407
CREATED:20260226T120626Z
LAST-MODIFIED:20260226T120626Z
UID:7249-1772622000-1772625600@www.meathsports.ie
SUMMARY:Social Pétanque for women 18+
DESCRIPTION:Come and Try Social Pétanque \nAs part of Women In Sport Week come along and join in with social Pétanque on Bettystown Beach. \nPétanque is an adapted version of boules\, played in an outdoor social setting. \nSuitable for women 18+ \nTime – 11am \nDate – 4th March \nVenue – Bettystown beach in front of civic building
URL:https://www.meathsports.ie/event/social-petanque-for-women-18/
LOCATION:Bettystown Civic Centre\, Seaview terrace\, Bettystown\, Meath\, A92AEC6\, Ireland
CATEGORIES:Adults over 50 events,Programmes / Events
ATTACH;FMTTYPE=image/png:https://www.meathsports.ie/wp-content/uploads/2026/02/Copy-of-3.-SI-WIS-Week-event-template-ENG-11-2.png
END:VEVENT
END:VCALENDAR